BEGIN:VCALENDAR
VERSION:2.0
PRODID:-//Lake O&#039; The Pines Baptist Church - ECPv6.15.20//NONSGML v1.0//EN
CALSCALE:GREGORIAN
METHOD:PUBLISH
X-WR-CALNAME:Lake O&#039; The Pines Baptist Church
X-ORIGINAL-URL:https://lopbc.org
X-WR-CALDESC:Events for Lake O&#039; The Pines Baptist Church
REFRESH-INTERVAL;VALUE=DURATION:PT1H
X-Robots-Tag:noindex
X-PUBLISHED-TTL:PT1H
BEGIN:VTIMEZONE
TZID:America/Chicago
BEGIN:DAYLIGHT
TZOFFSETFROM:-0600
TZOFFSETTO:-0500
TZNAME:CDT
DTSTART:20240310T080000
END:DAYLIGHT
BEGIN:STANDARD
TZOFFSETFROM:-0500
TZOFFSETTO:-0600
TZNAME:CST
DTSTART:20241103T070000
END:STANDARD
BEGIN:DAYLIGHT
TZOFFSETFROM:-0600
TZOFFSETTO:-0500
TZNAME:CDT
DTSTART:20250309T080000
END:DAYLIGHT
BEGIN:STANDARD
TZOFFSETFROM:-0500
TZOFFSETTO:-0600
TZNAME:CST
DTSTART:20251102T070000
END:STANDARD
BEGIN:DAYLIGHT
TZOFFSETFROM:-0600
TZOFFSETTO:-0500
TZNAME:CDT
DTSTART:20260308T080000
END:DAYLIGHT
BEGIN:STANDARD
TZOFFSETFROM:-0500
TZOFFSETTO:-0600
TZNAME:CST
DTSTART:20261101T070000
END:STANDARD
END:VTIMEZONE
BEGIN:VEVENT
DTSTART;TZID=America/Chicago:20250316T093000
DTEND;TZID=America/Chicago:20250316T104500
DTSTAMP:20260423T103349
CREATED:20250130T213312Z
LAST-MODIFIED:20250131T005604Z
UID:10001950-1742117400-1742121900@lopbc.org
SUMMARY:Sunday AM Sunday School
DESCRIPTION:
URL:https://lopbc.org/church_event/sunday-am-sunday-school-2/2025-03-16/
LOCATION:Classrooms\, 9046 FM729\, Avinger\, TX\, 75630\, United States
CATEGORIES:Church-wide,Community,Sunday School
END:VEVENT
BEGIN:VEVENT
DTSTART;TZID=America/Chicago:20250316T110000
DTEND;TZID=America/Chicago:20250316T123000
DTSTAMP:20260423T103349
CREATED:20250130T213205Z
LAST-MODIFIED:20250131T161102Z
UID:10001684-1742122800-1742128200@lopbc.org
SUMMARY:Sunday AM Worship
DESCRIPTION:
URL:https://lopbc.org/church_event/sunday-am-worship/2025-03-16/
LOCATION:Sanctuary\, 9046 FM729\, Avinger\, TX\, 75630\, United States
CATEGORIES:Church-wide,Community,Worship
END:VEVENT
BEGIN:VEVENT
DTSTART;TZID=America/Chicago:20250316T120000
DTEND;TZID=America/Chicago:20250316T123000
DTSTAMP:20260423T103349
CREATED:20250131T000436Z
LAST-MODIFIED:20250131T000436Z
UID:10003332-1742126400-1742128200@lopbc.org
SUMMARY:Lord's Supper
DESCRIPTION:
URL:https://lopbc.org/church_event/lords-supper-4/2025-03-16/
CATEGORIES:Church-wide,Community
END:VEVENT
BEGIN:VEVENT
DTSTART;TZID=America/Chicago:20250316T123000
DTEND;TZID=America/Chicago:20250316T133000
DTSTAMP:20260423T103349
CREATED:20250131T001245Z
LAST-MODIFIED:20250131T001245Z
UID:10003336-1742128200-1742131800@lopbc.org
SUMMARY:Church-wide Potluck Meal
DESCRIPTION:
URL:https://lopbc.org/church_event/church-wide-potluck-meal/2025-03-16/
LOCATION:Fellowship Hall\, 9046 FM729\, Avinger\, TX\, 75630
END:VEVENT
BEGIN:VEVENT
DTSTART;TZID=America/Chicago:20250316T133000
DTEND;TZID=America/Chicago:20250316T140000
DTSTAMP:20260423T103349
CREATED:20250131T001415Z
LAST-MODIFIED:20250131T001415Z
UID:10003339-1742131800-1742133600@lopbc.org
SUMMARY:Women of Worship (WoW) Fund Raiser Pick-up
DESCRIPTION:
URL:https://lopbc.org/church_event/women-of-worship-wow-fund-raiser-pick-up/
CATEGORIES:Women's Ministry
END:VEVENT
BEGIN:VEVENT
DTSTART;TZID=America/Chicago:20250316T180000
DTEND;TZID=America/Chicago:20250316T190000
DTSTAMP:20260423T103349
CREATED:20250131T001934Z
LAST-MODIFIED:20250131T001934Z
UID:10003340-1742148000-1742151600@lopbc.org
SUMMARY:Business Meeting
DESCRIPTION:
URL:https://lopbc.org/church_event/business-meeting-3/2025-03-16/
LOCATION:Sanctuary\, 9046 FM729\, Avinger\, TX\, 75630\, United States
CATEGORIES:Church-wide
END:VEVENT
BEGIN:VEVENT
DTSTART;TZID=America/Chicago:20250316T180000
DTEND;TZID=America/Chicago:20250316T190000
DTSTAMP:20260423T103349
CREATED:20250131T002901Z
LAST-MODIFIED:20250131T002901Z
UID:10003344-1742148000-1742151600@lopbc.org
SUMMARY:No  Evening Worship Service
DESCRIPTION:
URL:https://lopbc.org/church_event/no-evening-worship-service/2025-03-16/
CATEGORIES:Church-wide,Community,Worship
END:VEVENT
END:VCALENDAR