BEGIN:VCALENDAR
VERSION:2.0
PRODID:-//Lake O&#039; The Pines Baptist Church - ECPv6.15.20//NONSGML v1.0//EN
CALSCALE:GREGORIAN
METHOD:PUBLISH
X-WR-CALNAME:Lake O&#039; The Pines Baptist Church
X-ORIGINAL-URL:https://lopbc.org
X-WR-CALDESC:Events for Lake O&#039; The Pines Baptist Church
REFRESH-INTERVAL;VALUE=DURATION:PT1H
X-Robots-Tag:noindex
X-PUBLISHED-TTL:PT1H
BEGIN:VTIMEZONE
TZID:America/Chicago
BEGIN:DAYLIGHT
TZOFFSETFROM:-0600
TZOFFSETTO:-0500
TZNAME:CDT
DTSTART:20240310T080000
END:DAYLIGHT
BEGIN:STANDARD
TZOFFSETFROM:-0500
TZOFFSETTO:-0600
TZNAME:CST
DTSTART:20241103T070000
END:STANDARD
BEGIN:DAYLIGHT
TZOFFSETFROM:-0600
TZOFFSETTO:-0500
TZNAME:CDT
DTSTART:20250309T080000
END:DAYLIGHT
BEGIN:STANDARD
TZOFFSETFROM:-0500
TZOFFSETTO:-0600
TZNAME:CST
DTSTART:20251102T070000
END:STANDARD
BEGIN:DAYLIGHT
TZOFFSETFROM:-0600
TZOFFSETTO:-0500
TZNAME:CDT
DTSTART:20260308T080000
END:DAYLIGHT
BEGIN:STANDARD
TZOFFSETFROM:-0500
TZOFFSETTO:-0600
TZNAME:CST
DTSTART:20261101T070000
END:STANDARD
END:VTIMEZONE
BEGIN:VEVENT
DTSTART;VALUE=DATE:20250713
DTEND;VALUE=DATE:20250717
DTSTAMP:20260423T051556
CREATED:20250131T155016Z
LAST-MODIFIED:20250131T155016Z
UID:10003769-1752364800-1752710399@lopbc.org
SUMMARY:Revival
DESCRIPTION:
URL:https://lopbc.org/church_event/revival-4/
CATEGORIES:Church-wide,Community,Worship
END:VEVENT
BEGIN:VEVENT
DTSTART;TZID=America/Chicago:20250716T180000
DTEND;TZID=America/Chicago:20250716T183000
DTSTAMP:20260423T051556
CREATED:20250131T155303Z
LAST-MODIFIED:20250131T155303Z
UID:10003773-1752688800-1752690600@lopbc.org
SUMMARY:Revival Family Night Meal
DESCRIPTION:
URL:https://lopbc.org/church_event/revival-family-night-meal/
LOCATION:Fellowship Hall\, 9046 FM729\, Avinger\, TX\, 75630
CATEGORIES:Church-wide,Community
END:VEVENT
BEGIN:VEVENT
DTSTART;TZID=America/Chicago:20250716T183000
DTEND;TZID=America/Chicago:20250716T193000
DTSTAMP:20260423T051556
CREATED:20250130T214249Z
LAST-MODIFIED:20260222T200208Z
UID:10002501-1752690600-1752694200@lopbc.org
SUMMARY:Family Night Worship
DESCRIPTION:
URL:https://lopbc.org/church_event/wednesday-night-worship/2025-07-16/
LOCATION:Sanctuary\, 9046 FM729\, Avinger\, TX\, 75630\, United States
CATEGORIES:Church-wide,Community,Worship
END:VEVENT
BEGIN:VEVENT
DTSTART;TZID=America/Chicago:20250716T183000
DTEND;TZID=America/Chicago:20250716T193000
DTSTAMP:20260423T051556
CREATED:20250131T155159Z
LAST-MODIFIED:20250131T155159Z
UID:10003772-1752690600-1752694200@lopbc.org
SUMMARY:Revival Service
DESCRIPTION:
URL:https://lopbc.org/church_event/revival-service/2025-07-16/
CATEGORIES:Church-wide,Community,Worship
END:VEVENT
END:VCALENDAR