BEGIN:VCALENDAR
VERSION:2.0
PRODID:-//Lake O&#039; The Pines Baptist Church - ECPv6.15.20//NONSGML v1.0//EN
CALSCALE:GREGORIAN
METHOD:PUBLISH
X-WR-CALNAME:Lake O&#039; The Pines Baptist Church
X-ORIGINAL-URL:https://lopbc.org
X-WR-CALDESC:Events for Lake O&#039; The Pines Baptist Church
REFRESH-INTERVAL;VALUE=DURATION:PT1H
X-Robots-Tag:noindex
X-PUBLISHED-TTL:PT1H
BEGIN:VTIMEZONE
TZID:America/Chicago
BEGIN:DAYLIGHT
TZOFFSETFROM:-0600
TZOFFSETTO:-0500
TZNAME:CDT
DTSTART:20230312T080000
END:DAYLIGHT
BEGIN:STANDARD
TZOFFSETFROM:-0500
TZOFFSETTO:-0600
TZNAME:CST
DTSTART:20231105T070000
END:STANDARD
BEGIN:DAYLIGHT
TZOFFSETFROM:-0600
TZOFFSETTO:-0500
TZNAME:CDT
DTSTART:20240310T080000
END:DAYLIGHT
BEGIN:STANDARD
TZOFFSETFROM:-0500
TZOFFSETTO:-0600
TZNAME:CST
DTSTART:20241103T070000
END:STANDARD
BEGIN:DAYLIGHT
TZOFFSETFROM:-0600
TZOFFSETTO:-0500
TZNAME:CDT
DTSTART:20250309T080000
END:DAYLIGHT
BEGIN:STANDARD
TZOFFSETFROM:-0500
TZOFFSETTO:-0600
TZNAME:CST
DTSTART:20251102T070000
END:STANDARD
BEGIN:DAYLIGHT
TZOFFSETFROM:-0600
TZOFFSETTO:-0500
TZNAME:CDT
DTSTART:20260308T080000
END:DAYLIGHT
BEGIN:STANDARD
TZOFFSETFROM:-0500
TZOFFSETTO:-0600
TZNAME:CST
DTSTART:20261101T070000
END:STANDARD
BEGIN:DAYLIGHT
TZOFFSETFROM:-0600
TZOFFSETTO:-0500
TZNAME:CDT
DTSTART:20270314T080000
END:DAYLIGHT
BEGIN:STANDARD
TZOFFSETFROM:-0500
TZOFFSETTO:-0600
TZNAME:CST
DTSTART:20271107T070000
END:STANDARD
END:VTIMEZONE
BEGIN:VEVENT
DTSTART;TZID=America/Chicago:20260419T140000
DTEND;TZID=America/Chicago:20260419T150000
DTSTAMP:20260422T230333
CREATED:20260222T205621Z
LAST-MODIFIED:20260222T205621Z
UID:10004244-1776607200-1776610800@lopbc.org
SUMMARY:Association Bible Drill
DESCRIPTION:
URL:https://lopbc.org/church_event/association-bible-drill-3/
LOCATION:Sanctuary\, 9046 FM729\, Avinger\, TX\, 75630\, United States
CATEGORIES:Bible Drill,Children's Ministry,Youth Ministry
END:VEVENT
BEGIN:VEVENT
DTSTART;TZID=America/Chicago:20260412T180000
DTEND;TZID=America/Chicago:20260412T190000
DTSTAMP:20260422T230333
CREATED:20260222T205506Z
LAST-MODIFIED:20260222T205506Z
UID:10004243-1776016800-1776020400@lopbc.org
SUMMARY:Bible Drill
DESCRIPTION:
URL:https://lopbc.org/church_event/bible-drill-4/
LOCATION:Sanctuary\, 9046 FM729\, Avinger\, TX\, 75630\, United States
CATEGORIES:Bible Drill,Church-wide
END:VEVENT
BEGIN:VEVENT
DTSTART;TZID=America/Chicago:20260315T160000
DTEND;TZID=America/Chicago:20260315T170000
DTSTAMP:20260422T230333
CREATED:20260222T205401Z
LAST-MODIFIED:20260222T205401Z
UID:10004242-1773590400-1773594000@lopbc.org
SUMMARY:Bible Drill Practice
DESCRIPTION:
URL:https://lopbc.org/church_event/bible-drill-practice-7/
LOCATION:Sanctuary\, 9046 FM729\, Avinger\, TX\, 75630\, United States
CATEGORIES:Bible Drill,Children's Ministry,Youth Ministry
END:VEVENT
BEGIN:VEVENT
DTSTART;TZID=America/Chicago:20260308T160000
DTEND;TZID=America/Chicago:20260308T170000
DTSTAMP:20260422T230333
CREATED:20260222T202023Z
LAST-MODIFIED:20260222T205247Z
UID:10004164-1772985600-1772989200@lopbc.org
SUMMARY:Bible Drill Practice
DESCRIPTION:
URL:https://lopbc.org/church_event/bible-drill-3/
CATEGORIES:Bible Drill
END:VEVENT
BEGIN:VEVENT
DTSTART;TZID=America/Chicago:20260301T160000
DTEND;TZID=America/Chicago:20260301T170000
DTSTAMP:20260422T230333
CREATED:20260222T200712Z
LAST-MODIFIED:20260222T205328Z
UID:10004041-1772380800-1772384400@lopbc.org
SUMMARY:Bible Drill Practice
DESCRIPTION:
URL:https://lopbc.org/church_event/practice-bible-drill/
LOCATION:Sanctuary\, 9046 FM729\, Avinger\, TX\, 75630\, United States
CATEGORIES:Bible Drill,Children's Ministry,Youth Ministry
END:VEVENT
BEGIN:VEVENT
DTSTART;TZID=America/Chicago:20250504T160000
DTEND;TZID=America/Chicago:20250504T170000
DTSTAMP:20260422T230333
CREATED:20250131T010951Z
LAST-MODIFIED:20250131T010951Z
UID:10003376-1746374400-1746378000@lopbc.org
SUMMARY:VBS Meeting
DESCRIPTION:
URL:https://lopbc.org/church_event/vbs-meeting-3/
LOCATION:Sanctuary\, 9046 FM729\, Avinger\, TX\, 75630\, United States
CATEGORIES:Bible Drill,Children's Ministry,Church-wide,Youth Ministry
END:VEVENT
BEGIN:VEVENT
DTSTART;TZID=America/Chicago:20250503T080000
DTEND;TZID=America/Chicago:20250503T100000
DTSTAMP:20260422T230333
CREATED:20250131T010442Z
LAST-MODIFIED:20250131T010442Z
UID:10003373-1746259200-1746266400@lopbc.org
SUMMARY:State Bible Drill (Grapevine)
DESCRIPTION:
URL:https://lopbc.org/church_event/state-bible-drill-grapevine/
CATEGORIES:Bible Drill,Children's Ministry,Youth Ministry
END:VEVENT
BEGIN:VEVENT
DTSTART;TZID=America/Chicago:20250502T150000
DTEND;TZID=America/Chicago:20250502T153000
DTSTAMP:20260422T230333
CREATED:20250131T010343Z
LAST-MODIFIED:20250131T010343Z
UID:10003372-1746198000-1746199800@lopbc.org
SUMMARY:Leave for State Bible Drill (Grapevine)
DESCRIPTION:
URL:https://lopbc.org/church_event/leave-for-state-bible-drill-grapevine/
CATEGORIES:Bible Drill,Children's Ministry,Church-wide,Youth Ministry
END:VEVENT
BEGIN:VEVENT
DTSTART;TZID=America/Chicago:20250426T080000
DTEND;TZID=America/Chicago:20250426T170000
DTSTAMP:20260422T230333
CREATED:20250131T010147Z
LAST-MODIFIED:20250131T010147Z
UID:10003371-1745654400-1745686800@lopbc.org
SUMMARY:Regional & State Bible Drill
DESCRIPTION:
URL:https://lopbc.org/church_event/regional-state-bible-drill/
CATEGORIES:Bible Drill,Children's Ministry,Church-wide,Youth Ministry
END:VEVENT
BEGIN:VEVENT
DTSTART;TZID=America/Chicago:20250425T150000
DTEND;TZID=America/Chicago:20250425T153000
DTSTAMP:20260422T230333
CREATED:20250131T010037Z
LAST-MODIFIED:20250131T010037Z
UID:10003370-1745593200-1745595000@lopbc.org
SUMMARY:Leave for Regional & State Bible Drill (Flint\, TX)
DESCRIPTION:
URL:https://lopbc.org/church_event/leave-for-regional-state-bible-drill-flint-tx/
CATEGORIES:Bible Drill,Children's Ministry,Church-wide,Youth Ministry
END:VEVENT
BEGIN:VEVENT
DTSTART;TZID=America/Chicago:20250413T160000
DTEND;TZID=America/Chicago:20250413T170000
DTSTAMP:20260422T230333
CREATED:20250131T004020Z
LAST-MODIFIED:20250131T004020Z
UID:10003360-1744560000-1744563600@lopbc.org
SUMMARY:Association Bible Drill
DESCRIPTION:
URL:https://lopbc.org/church_event/association-bible-drill-2/
LOCATION:Sanctuary\, 9046 FM729\, Avinger\, TX\, 75630\, United States
CATEGORIES:Bible Drill,Children's Ministry,Church-wide,Community,Youth Ministry
END:VEVENT
BEGIN:VEVENT
DTSTART;TZID=America/Chicago:20250302T180000
DTEND;TZID=America/Chicago:20250302T190000
DTSTAMP:20260422T230333
CREATED:20250130T232027Z
LAST-MODIFIED:20250130T232027Z
UID:10003321-1740938400-1740942000@lopbc.org
SUMMARY:Bible Drill Practice
DESCRIPTION:
URL:https://lopbc.org/church_event/bible-drill-practice/
LOCATION:Sanctuary\, 9046 FM729\, Avinger\, TX\, 75630\, United States
CATEGORIES:Bible Drill,Children's Ministry,Church-wide,Community,Youth Ministry
END:VEVENT
BEGIN:VEVENT
DTSTART;TZID=America/Chicago:20240908T080000
DTEND;TZID=America/Chicago:20240908T170000
DTSTAMP:20260422T230333
CREATED:20240226T163315Z
LAST-MODIFIED:20240226T163315Z
UID:10000638-1725782400-1725814800@lopbc.org
SUMMARY:Bible Drill
DESCRIPTION:
URL:https://lopbc.org/church_event/bible-drill-2/
CATEGORIES:Bible Drill,Children's Ministry,Youth Ministry
END:VEVENT
BEGIN:VEVENT
DTSTART;TZID=America/Chicago:20240504T080000
DTEND;TZID=America/Chicago:20240504T170000
DTSTAMP:20260422T230333
CREATED:20240226T160821Z
LAST-MODIFIED:20240226T160821Z
UID:10000623-1714809600-1714842000@lopbc.org
SUMMARY:Bible Drill Finals
DESCRIPTION:
URL:https://lopbc.org/church_event/bible-drill-finals/
CATEGORIES:Bible Drill,Children's Ministry,Youth Ministry
END:VEVENT
BEGIN:VEVENT
DTSTART;TZID=America/Chicago:20240427T080000
DTEND;TZID=America/Chicago:20240427T170000
DTSTAMP:20260422T230333
CREATED:20240226T160523Z
LAST-MODIFIED:20240226T160523Z
UID:10000621-1714204800-1714237200@lopbc.org
SUMMARY:Bible Drill State Championship
DESCRIPTION:
URL:https://lopbc.org/church_event/bible-drill-state-championship/
CATEGORIES:Bible Drill,Children's Ministry,Youth Ministry
END:VEVENT
BEGIN:VEVENT
DTSTART;TZID=America/Chicago:20240414T140000
DTEND;TZID=America/Chicago:20240414T150000
DTSTAMP:20260422T230333
CREATED:20240226T155340Z
LAST-MODIFIED:20240226T155509Z
UID:10000618-1713103200-1713106800@lopbc.org
SUMMARY:Association Bible Drill
DESCRIPTION:Be amazed by our children’s impressive Bible knowledge and speed of verse recall.  This is the first official Bible drill competition.  Cheer our kids on!
URL:https://lopbc.org/church_event/association-bible-drill/
LOCATION:Sanctuary\, 9046 FM729\, Avinger\, TX\, 75630\, United States
CATEGORIES:Bible Drill,Children's Ministry,Youth Ministry
END:VEVENT
BEGIN:VEVENT
DTSTART;TZID=America/Chicago:20240407T180000
DTEND;TZID=America/Chicago:20240407T190000
DTSTAMP:20260422T230333
CREATED:20240226T154737Z
LAST-MODIFIED:20240226T154737Z
UID:10000616-1712512800-1712516400@lopbc.org
SUMMARY:Bible Drill
DESCRIPTION:Be amazed by our children’s impressive Bible knowledge and speed of verse recall.  This mock drill is an important event to help our children prepare for bible drill competition.
URL:https://lopbc.org/church_event/bible-drill/
LOCATION:Sanctuary\, 9046 FM729\, Avinger\, TX\, 75630\, United States
CATEGORIES:Bible Drill,Children's Ministry,Youth Ministry
END:VEVENT
BEGIN:VEVENT
DTSTART;TZID=America/Chicago:20240303T180000
DTEND;TZID=America/Chicago:20240303T190000
DTSTAMP:20260422T230333
CREATED:20240225T225424Z
LAST-MODIFIED:20240225T225424Z
UID:10000430-1709488800-1709492400@lopbc.org
SUMMARY:Mock Bible Drill
DESCRIPTION:Be amazed by our children’s impressive Bible knowledge and speed of verse recall.  This mock drill is an important event to help our children prepare for bible drill competition.
URL:https://lopbc.org/church_event/mock-bible-drill/
LOCATION:Sanctuary\, 9046 FM729\, Avinger\, TX\, 75630\, United States
CATEGORIES:Bible Drill,Children's Ministry,Youth Ministry
END:VEVENT
END:VCALENDAR