BEGIN:VCALENDAR
VERSION:2.0
PRODID:-//Lake O&#039; The Pines Baptist Church - ECPv6.15.20//NONSGML v1.0//EN
CALSCALE:GREGORIAN
METHOD:PUBLISH
X-ORIGINAL-URL:https://lopbc.org
X-WR-CALDESC:Events for Lake O&#039; The Pines Baptist Church
REFRESH-INTERVAL;VALUE=DURATION:PT1H
X-Robots-Tag:noindex
X-PUBLISHED-TTL:PT1H
BEGIN:VTIMEZONE
TZID:America/Chicago
BEGIN:DAYLIGHT
TZOFFSETFROM:-0600
TZOFFSETTO:-0500
TZNAME:CDT
DTSTART:20250309T080000
END:DAYLIGHT
BEGIN:STANDARD
TZOFFSETFROM:-0500
TZOFFSETTO:-0600
TZNAME:CST
DTSTART:20251102T070000
END:STANDARD
BEGIN:DAYLIGHT
TZOFFSETFROM:-0600
TZOFFSETTO:-0500
TZNAME:CDT
DTSTART:20260308T080000
END:DAYLIGHT
BEGIN:STANDARD
TZOFFSETFROM:-0500
TZOFFSETTO:-0600
TZNAME:CST
DTSTART:20261101T070000
END:STANDARD
BEGIN:DAYLIGHT
TZOFFSETFROM:-0600
TZOFFSETTO:-0500
TZNAME:CDT
DTSTART:20270314T080000
END:DAYLIGHT
BEGIN:STANDARD
TZOFFSETFROM:-0500
TZOFFSETTO:-0600
TZNAME:CST
DTSTART:20271107T070000
END:STANDARD
END:VTIMEZONE
BEGIN:VEVENT
DTSTART;TZID=America/Chicago:20261001T080000
DTEND;TZID=America/Chicago:20261001T120000
DTSTAMP:20260423T092216
CREATED:20260222T210620Z
LAST-MODIFIED:20260222T210620Z
UID:10004363-1790841600-1790856000@lopbc.org
SUMMARY:VBS 2026
DESCRIPTION:
URL:https://lopbc.org/church_event/vbs-2026/2026-10-01/
CATEGORIES:Children's Ministry
END:VEVENT
BEGIN:VEVENT
DTSTART;TZID=America/Chicago:20261001T180000
DTEND;TZID=America/Chicago:20261001T210000
DTSTAMP:20260423T092216
CREATED:20260222T195228Z
LAST-MODIFIED:20260222T195228Z
UID:10003926-1790877600-1790888400@lopbc.org
SUMMARY:Parent's Night Out
DESCRIPTION:Need a break from family life? We’re here to serve! On select dates\, we offer free childcare to our church members so that you can spend some quality time with your spouse!
URL:https://lopbc.org/church_event/parents-night-out/2026-10-01/
CATEGORIES:Children's Ministry,Church-wide,Parent's Night Out
END:VEVENT
BEGIN:VEVENT
DTSTART;TZID=America/Chicago:20261002T080000
DTEND;TZID=America/Chicago:20261002T120000
DTSTAMP:20260423T092216
CREATED:20260222T210620Z
LAST-MODIFIED:20260222T210620Z
UID:10004364-1790928000-1790942400@lopbc.org
SUMMARY:VBS 2026
DESCRIPTION:
URL:https://lopbc.org/church_event/vbs-2026/2026-10-02/
CATEGORIES:Children's Ministry
END:VEVENT
BEGIN:VEVENT
DTSTART;TZID=America/Chicago:20261003T080000
DTEND;TZID=America/Chicago:20261003T120000
DTSTAMP:20260423T092216
CREATED:20260222T210620Z
LAST-MODIFIED:20260222T210620Z
UID:10004365-1791014400-1791028800@lopbc.org
SUMMARY:VBS 2026
DESCRIPTION:
URL:https://lopbc.org/church_event/vbs-2026/2026-10-03/
CATEGORIES:Children's Ministry
END:VEVENT
BEGIN:VEVENT
DTSTART;TZID=America/Chicago:20261004T080000
DTEND;TZID=America/Chicago:20261004T120000
DTSTAMP:20260423T092216
CREATED:20260222T210620Z
LAST-MODIFIED:20260222T210620Z
UID:10004366-1791100800-1791115200@lopbc.org
SUMMARY:VBS 2026
DESCRIPTION:
URL:https://lopbc.org/church_event/vbs-2026/2026-10-04/
CATEGORIES:Children's Ministry
END:VEVENT
BEGIN:VEVENT
DTSTART;TZID=America/Chicago:20261004T160000
DTEND;TZID=America/Chicago:20261004T170000
DTSTAMP:20260423T092216
CREATED:20260222T213435Z
LAST-MODIFIED:20260222T213435Z
UID:10004645-1791129600-1791133200@lopbc.org
SUMMARY:Christmas Play Rehearsal
DESCRIPTION:
URL:https://lopbc.org/church_event/christmas-play-rehearsal/2026-10-04/
CATEGORIES:Children's Ministry
END:VEVENT
BEGIN:VEVENT
DTSTART;TZID=America/Chicago:20261005T080000
DTEND;TZID=America/Chicago:20261005T120000
DTSTAMP:20260423T092216
CREATED:20260222T210620Z
LAST-MODIFIED:20260222T210620Z
UID:10004367-1791187200-1791201600@lopbc.org
SUMMARY:VBS 2026
DESCRIPTION:
URL:https://lopbc.org/church_event/vbs-2026/2026-10-05/
CATEGORIES:Children's Ministry
END:VEVENT
BEGIN:VEVENT
DTSTART;TZID=America/Chicago:20261006T080000
DTEND;TZID=America/Chicago:20261006T120000
DTSTAMP:20260423T092216
CREATED:20260222T210620Z
LAST-MODIFIED:20260222T210620Z
UID:10004368-1791273600-1791288000@lopbc.org
SUMMARY:VBS 2026
DESCRIPTION:
URL:https://lopbc.org/church_event/vbs-2026/2026-10-06/
CATEGORIES:Children's Ministry
END:VEVENT
BEGIN:VEVENT
DTSTART;TZID=America/Chicago:20261007T080000
DTEND;TZID=America/Chicago:20261007T120000
DTSTAMP:20260423T092216
CREATED:20260222T210620Z
LAST-MODIFIED:20260222T210620Z
UID:10004369-1791360000-1791374400@lopbc.org
SUMMARY:VBS 2026
DESCRIPTION:
URL:https://lopbc.org/church_event/vbs-2026/2026-10-07/
CATEGORIES:Children's Ministry
END:VEVENT
BEGIN:VEVENT
DTSTART;TZID=America/Chicago:20261008T080000
DTEND;TZID=America/Chicago:20261008T120000
DTSTAMP:20260423T092216
CREATED:20260222T210620Z
LAST-MODIFIED:20260222T210620Z
UID:10004370-1791446400-1791460800@lopbc.org
SUMMARY:VBS 2026
DESCRIPTION:
URL:https://lopbc.org/church_event/vbs-2026/2026-10-08/
CATEGORIES:Children's Ministry
END:VEVENT
BEGIN:VEVENT
DTSTART;TZID=America/Chicago:20261009T080000
DTEND;TZID=America/Chicago:20261009T120000
DTSTAMP:20260423T092216
CREATED:20260222T210620Z
LAST-MODIFIED:20260222T210620Z
UID:10004371-1791532800-1791547200@lopbc.org
SUMMARY:VBS 2026
DESCRIPTION:
URL:https://lopbc.org/church_event/vbs-2026/2026-10-09/
CATEGORIES:Children's Ministry
END:VEVENT
BEGIN:VEVENT
DTSTART;TZID=America/Chicago:20261010T080000
DTEND;TZID=America/Chicago:20261010T120000
DTSTAMP:20260423T092216
CREATED:20260222T210620Z
LAST-MODIFIED:20260222T210620Z
UID:10004372-1791619200-1791633600@lopbc.org
SUMMARY:VBS 2026
DESCRIPTION:
URL:https://lopbc.org/church_event/vbs-2026/2026-10-10/
CATEGORIES:Children's Ministry
END:VEVENT
BEGIN:VEVENT
DTSTART;TZID=America/Chicago:20261011T080000
DTEND;TZID=America/Chicago:20261011T120000
DTSTAMP:20260423T092216
CREATED:20260222T210620Z
LAST-MODIFIED:20260222T210620Z
UID:10004373-1791705600-1791720000@lopbc.org
SUMMARY:VBS 2026
DESCRIPTION:
URL:https://lopbc.org/church_event/vbs-2026/2026-10-11/
CATEGORIES:Children's Ministry
END:VEVENT
BEGIN:VEVENT
DTSTART;TZID=America/Chicago:20261011T160000
DTEND;TZID=America/Chicago:20261011T170000
DTSTAMP:20260423T092216
CREATED:20260222T213435Z
LAST-MODIFIED:20260222T213435Z
UID:10004646-1791734400-1791738000@lopbc.org
SUMMARY:Christmas Play Rehearsal
DESCRIPTION:
URL:https://lopbc.org/church_event/christmas-play-rehearsal/2026-10-11/
CATEGORIES:Children's Ministry
END:VEVENT
BEGIN:VEVENT
DTSTART;TZID=America/Chicago:20261012T080000
DTEND;TZID=America/Chicago:20261012T120000
DTSTAMP:20260423T092216
CREATED:20260222T210620Z
LAST-MODIFIED:20260222T210620Z
UID:10004374-1791792000-1791806400@lopbc.org
SUMMARY:VBS 2026
DESCRIPTION:
URL:https://lopbc.org/church_event/vbs-2026/2026-10-12/
CATEGORIES:Children's Ministry
END:VEVENT
BEGIN:VEVENT
DTSTART;TZID=America/Chicago:20261013T080000
DTEND;TZID=America/Chicago:20261013T120000
DTSTAMP:20260423T092216
CREATED:20260222T210620Z
LAST-MODIFIED:20260222T210620Z
UID:10004375-1791878400-1791892800@lopbc.org
SUMMARY:VBS 2026
DESCRIPTION:
URL:https://lopbc.org/church_event/vbs-2026/2026-10-13/
CATEGORIES:Children's Ministry
END:VEVENT
BEGIN:VEVENT
DTSTART;TZID=America/Chicago:20261014T080000
DTEND;TZID=America/Chicago:20261014T120000
DTSTAMP:20260423T092216
CREATED:20260222T210620Z
LAST-MODIFIED:20260222T210620Z
UID:10004376-1791964800-1791979200@lopbc.org
SUMMARY:VBS 2026
DESCRIPTION:
URL:https://lopbc.org/church_event/vbs-2026/2026-10-14/
CATEGORIES:Children's Ministry
END:VEVENT
BEGIN:VEVENT
DTSTART;TZID=America/Chicago:20261015T080000
DTEND;TZID=America/Chicago:20261015T120000
DTSTAMP:20260423T092216
CREATED:20260222T210620Z
LAST-MODIFIED:20260222T210620Z
UID:10004377-1792051200-1792065600@lopbc.org
SUMMARY:VBS 2026
DESCRIPTION:
URL:https://lopbc.org/church_event/vbs-2026/2026-10-15/
CATEGORIES:Children's Ministry
END:VEVENT
BEGIN:VEVENT
DTSTART;TZID=America/Chicago:20261016T080000
DTEND;TZID=America/Chicago:20261016T120000
DTSTAMP:20260423T092216
CREATED:20260222T210620Z
LAST-MODIFIED:20260222T210620Z
UID:10004378-1792137600-1792152000@lopbc.org
SUMMARY:VBS 2026
DESCRIPTION:
URL:https://lopbc.org/church_event/vbs-2026/2026-10-16/
CATEGORIES:Children's Ministry
END:VEVENT
BEGIN:VEVENT
DTSTART;TZID=America/Chicago:20261017T080000
DTEND;TZID=America/Chicago:20261017T120000
DTSTAMP:20260423T092216
CREATED:20260222T210620Z
LAST-MODIFIED:20260222T210620Z
UID:10004379-1792224000-1792238400@lopbc.org
SUMMARY:VBS 2026
DESCRIPTION:
URL:https://lopbc.org/church_event/vbs-2026/2026-10-17/
CATEGORIES:Children's Ministry
END:VEVENT
BEGIN:VEVENT
DTSTART;TZID=America/Chicago:20261018T080000
DTEND;TZID=America/Chicago:20261018T120000
DTSTAMP:20260423T092216
CREATED:20260222T210620Z
LAST-MODIFIED:20260222T210620Z
UID:10004380-1792310400-1792324800@lopbc.org
SUMMARY:VBS 2026
DESCRIPTION:
URL:https://lopbc.org/church_event/vbs-2026/2026-10-18/
CATEGORIES:Children's Ministry
END:VEVENT
BEGIN:VEVENT
DTSTART;TZID=America/Chicago:20261018T160000
DTEND;TZID=America/Chicago:20261018T170000
DTSTAMP:20260423T092216
CREATED:20260222T213435Z
LAST-MODIFIED:20260222T213435Z
UID:10004647-1792339200-1792342800@lopbc.org
SUMMARY:Christmas Play Rehearsal
DESCRIPTION:
URL:https://lopbc.org/church_event/christmas-play-rehearsal/2026-10-18/
CATEGORIES:Children's Ministry
END:VEVENT
BEGIN:VEVENT
DTSTART;TZID=America/Chicago:20261019T080000
DTEND;TZID=America/Chicago:20261019T120000
DTSTAMP:20260423T092216
CREATED:20260222T210620Z
LAST-MODIFIED:20260222T210620Z
UID:10004381-1792396800-1792411200@lopbc.org
SUMMARY:VBS 2026
DESCRIPTION:
URL:https://lopbc.org/church_event/vbs-2026/2026-10-19/
CATEGORIES:Children's Ministry
END:VEVENT
BEGIN:VEVENT
DTSTART;TZID=America/Chicago:20261020T080000
DTEND;TZID=America/Chicago:20261020T120000
DTSTAMP:20260423T092216
CREATED:20260222T210620Z
LAST-MODIFIED:20260222T210620Z
UID:10004382-1792483200-1792497600@lopbc.org
SUMMARY:VBS 2026
DESCRIPTION:
URL:https://lopbc.org/church_event/vbs-2026/2026-10-20/
CATEGORIES:Children's Ministry
END:VEVENT
BEGIN:VEVENT
DTSTART;TZID=America/Chicago:20261021T080000
DTEND;TZID=America/Chicago:20261021T120000
DTSTAMP:20260423T092216
CREATED:20260222T210620Z
LAST-MODIFIED:20260222T210620Z
UID:10004383-1792569600-1792584000@lopbc.org
SUMMARY:VBS 2026
DESCRIPTION:
URL:https://lopbc.org/church_event/vbs-2026/2026-10-21/
CATEGORIES:Children's Ministry
END:VEVENT
BEGIN:VEVENT
DTSTART;TZID=America/Chicago:20261022T080000
DTEND;TZID=America/Chicago:20261022T120000
DTSTAMP:20260423T092216
CREATED:20260222T210620Z
LAST-MODIFIED:20260222T210620Z
UID:10004384-1792656000-1792670400@lopbc.org
SUMMARY:VBS 2026
DESCRIPTION:
URL:https://lopbc.org/church_event/vbs-2026/2026-10-22/
CATEGORIES:Children's Ministry
END:VEVENT
BEGIN:VEVENT
DTSTART;TZID=America/Chicago:20261023T080000
DTEND;TZID=America/Chicago:20261023T120000
DTSTAMP:20260423T092216
CREATED:20260222T210620Z
LAST-MODIFIED:20260222T210620Z
UID:10004385-1792742400-1792756800@lopbc.org
SUMMARY:VBS 2026
DESCRIPTION:
URL:https://lopbc.org/church_event/vbs-2026/2026-10-23/
CATEGORIES:Children's Ministry
END:VEVENT
BEGIN:VEVENT
DTSTART;TZID=America/Chicago:20261024T080000
DTEND;TZID=America/Chicago:20261024T120000
DTSTAMP:20260423T092216
CREATED:20260222T210620Z
LAST-MODIFIED:20260222T210620Z
UID:10004386-1792828800-1792843200@lopbc.org
SUMMARY:VBS 2026
DESCRIPTION:
URL:https://lopbc.org/church_event/vbs-2026/2026-10-24/
CATEGORIES:Children's Ministry
END:VEVENT
BEGIN:VEVENT
DTSTART;TZID=America/Chicago:20261025T080000
DTEND;TZID=America/Chicago:20261025T120000
DTSTAMP:20260423T092216
CREATED:20260222T210620Z
LAST-MODIFIED:20260222T210620Z
UID:10004387-1792915200-1792929600@lopbc.org
SUMMARY:VBS 2026
DESCRIPTION:
URL:https://lopbc.org/church_event/vbs-2026/2026-10-25/
CATEGORIES:Children's Ministry
END:VEVENT
BEGIN:VEVENT
DTSTART;TZID=America/Chicago:20261025T160000
DTEND;TZID=America/Chicago:20261025T170000
DTSTAMP:20260423T092216
CREATED:20260222T213435Z
LAST-MODIFIED:20260222T213435Z
UID:10004648-1792944000-1792947600@lopbc.org
SUMMARY:Christmas Play Rehearsal
DESCRIPTION:
URL:https://lopbc.org/church_event/christmas-play-rehearsal/2026-10-25/
CATEGORIES:Children's Ministry
END:VEVENT
END:VCALENDAR