BEGIN:VCALENDAR
VERSION:2.0
PRODID:-//Lake O&#039; The Pines Baptist Church - ECPv6.15.20//NONSGML v1.0//EN
CALSCALE:GREGORIAN
METHOD:PUBLISH
X-WR-CALNAME:Lake O&#039; The Pines Baptist Church
X-ORIGINAL-URL:https://lopbc.org
X-WR-CALDESC:Events for Lake O&#039; The Pines Baptist Church
REFRESH-INTERVAL;VALUE=DURATION:PT1H
X-Robots-Tag:noindex
X-PUBLISHED-TTL:PT1H
BEGIN:VTIMEZONE
TZID:America/Chicago
BEGIN:DAYLIGHT
TZOFFSETFROM:-0600
TZOFFSETTO:-0500
TZNAME:CDT
DTSTART:20250309T080000
END:DAYLIGHT
BEGIN:STANDARD
TZOFFSETFROM:-0500
TZOFFSETTO:-0600
TZNAME:CST
DTSTART:20251102T070000
END:STANDARD
BEGIN:DAYLIGHT
TZOFFSETFROM:-0600
TZOFFSETTO:-0500
TZNAME:CDT
DTSTART:20260308T080000
END:DAYLIGHT
BEGIN:STANDARD
TZOFFSETFROM:-0500
TZOFFSETTO:-0600
TZNAME:CST
DTSTART:20261101T070000
END:STANDARD
BEGIN:DAYLIGHT
TZOFFSETFROM:-0600
TZOFFSETTO:-0500
TZNAME:CDT
DTSTART:20270314T080000
END:DAYLIGHT
BEGIN:STANDARD
TZOFFSETFROM:-0500
TZOFFSETTO:-0600
TZNAME:CST
DTSTART:20271107T070000
END:STANDARD
END:VTIMEZONE
BEGIN:VEVENT
DTSTART;TZID=America/Chicago:20261201T080000
DTEND;TZID=America/Chicago:20261201T120000
DTSTAMP:20260423T114114
CREATED:20260222T210620Z
LAST-MODIFIED:20260222T210620Z
UID:10004424-1796112000-1796126400@lopbc.org
SUMMARY:VBS 2026
DESCRIPTION:
URL:https://lopbc.org/church_event/vbs-2026/2026-12-01/
CATEGORIES:Children's Ministry
END:VEVENT
BEGIN:VEVENT
DTSTART;TZID=America/Chicago:20261202T080000
DTEND;TZID=America/Chicago:20261202T120000
DTSTAMP:20260423T114114
CREATED:20260222T210620Z
LAST-MODIFIED:20260222T210620Z
UID:10004425-1796198400-1796212800@lopbc.org
SUMMARY:VBS 2026
DESCRIPTION:
URL:https://lopbc.org/church_event/vbs-2026/2026-12-02/
CATEGORIES:Children's Ministry
END:VEVENT
BEGIN:VEVENT
DTSTART;TZID=America/Chicago:20261203T080000
DTEND;TZID=America/Chicago:20261203T120000
DTSTAMP:20260423T114114
CREATED:20260222T210620Z
LAST-MODIFIED:20260222T210620Z
UID:10004426-1796284800-1796299200@lopbc.org
SUMMARY:VBS 2026
DESCRIPTION:
URL:https://lopbc.org/church_event/vbs-2026/2026-12-03/
CATEGORIES:Children's Ministry
END:VEVENT
BEGIN:VEVENT
DTSTART;TZID=America/Chicago:20261203T180000
DTEND;TZID=America/Chicago:20261203T210000
DTSTAMP:20260423T114114
CREATED:20260222T195228Z
LAST-MODIFIED:20260222T195228Z
UID:10003928-1796320800-1796331600@lopbc.org
SUMMARY:Parent's Night Out
DESCRIPTION:Need a break from family life? We’re here to serve! On select dates\, we offer free childcare to our church members so that you can spend some quality time with your spouse!
URL:https://lopbc.org/church_event/parents-night-out/2026-12-03/
CATEGORIES:Children's Ministry,Church-wide,Parent's Night Out
END:VEVENT
BEGIN:VEVENT
DTSTART;TZID=America/Chicago:20261204T080000
DTEND;TZID=America/Chicago:20261204T120000
DTSTAMP:20260423T114114
CREATED:20260222T210620Z
LAST-MODIFIED:20260222T210620Z
UID:10004427-1796371200-1796385600@lopbc.org
SUMMARY:VBS 2026
DESCRIPTION:
URL:https://lopbc.org/church_event/vbs-2026/2026-12-04/
CATEGORIES:Children's Ministry
END:VEVENT
BEGIN:VEVENT
DTSTART;TZID=America/Chicago:20261205T080000
DTEND;TZID=America/Chicago:20261205T120000
DTSTAMP:20260423T114114
CREATED:20260222T210620Z
LAST-MODIFIED:20260222T210620Z
UID:10004428-1796457600-1796472000@lopbc.org
SUMMARY:VBS 2026
DESCRIPTION:
URL:https://lopbc.org/church_event/vbs-2026/2026-12-05/
CATEGORIES:Children's Ministry
END:VEVENT
BEGIN:VEVENT
DTSTART;TZID=America/Chicago:20261206T080000
DTEND;TZID=America/Chicago:20261206T120000
DTSTAMP:20260423T114114
CREATED:20260222T210620Z
LAST-MODIFIED:20260222T210620Z
UID:10004429-1796544000-1796558400@lopbc.org
SUMMARY:VBS 2026
DESCRIPTION:
URL:https://lopbc.org/church_event/vbs-2026/2026-12-06/
CATEGORIES:Children's Ministry
END:VEVENT
BEGIN:VEVENT
DTSTART;TZID=America/Chicago:20261206T160000
DTEND;TZID=America/Chicago:20261206T170000
DTSTAMP:20260423T114114
CREATED:20260222T213435Z
LAST-MODIFIED:20260222T213435Z
UID:10004654-1796572800-1796576400@lopbc.org
SUMMARY:Christmas Play Rehearsal
DESCRIPTION:
URL:https://lopbc.org/church_event/christmas-play-rehearsal/2026-12-06/
CATEGORIES:Children's Ministry
END:VEVENT
BEGIN:VEVENT
DTSTART;TZID=America/Chicago:20261207T080000
DTEND;TZID=America/Chicago:20261207T120000
DTSTAMP:20260423T114114
CREATED:20260222T210620Z
LAST-MODIFIED:20260222T210620Z
UID:10004430-1796630400-1796644800@lopbc.org
SUMMARY:VBS 2026
DESCRIPTION:
URL:https://lopbc.org/church_event/vbs-2026/2026-12-07/
CATEGORIES:Children's Ministry
END:VEVENT
BEGIN:VEVENT
DTSTART;TZID=America/Chicago:20261208T080000
DTEND;TZID=America/Chicago:20261208T120000
DTSTAMP:20260423T114114
CREATED:20260222T210620Z
LAST-MODIFIED:20260222T210620Z
UID:10004431-1796716800-1796731200@lopbc.org
SUMMARY:VBS 2026
DESCRIPTION:
URL:https://lopbc.org/church_event/vbs-2026/2026-12-08/
CATEGORIES:Children's Ministry
END:VEVENT
BEGIN:VEVENT
DTSTART;TZID=America/Chicago:20261209T080000
DTEND;TZID=America/Chicago:20261209T120000
DTSTAMP:20260423T114114
CREATED:20260222T210620Z
LAST-MODIFIED:20260222T210620Z
UID:10004432-1796803200-1796817600@lopbc.org
SUMMARY:VBS 2026
DESCRIPTION:
URL:https://lopbc.org/church_event/vbs-2026/2026-12-09/
CATEGORIES:Children's Ministry
END:VEVENT
BEGIN:VEVENT
DTSTART;TZID=America/Chicago:20261210T080000
DTEND;TZID=America/Chicago:20261210T120000
DTSTAMP:20260423T114114
CREATED:20260222T210620Z
LAST-MODIFIED:20260222T210620Z
UID:10004433-1796889600-1796904000@lopbc.org
SUMMARY:VBS 2026
DESCRIPTION:
URL:https://lopbc.org/church_event/vbs-2026/2026-12-10/
CATEGORIES:Children's Ministry
END:VEVENT
BEGIN:VEVENT
DTSTART;TZID=America/Chicago:20261211T080000
DTEND;TZID=America/Chicago:20261211T120000
DTSTAMP:20260423T114114
CREATED:20260222T210620Z
LAST-MODIFIED:20260222T210620Z
UID:10004434-1796976000-1796990400@lopbc.org
SUMMARY:VBS 2026
DESCRIPTION:
URL:https://lopbc.org/church_event/vbs-2026/2026-12-11/
CATEGORIES:Children's Ministry
END:VEVENT
BEGIN:VEVENT
DTSTART;TZID=America/Chicago:20261212T080000
DTEND;TZID=America/Chicago:20261212T120000
DTSTAMP:20260423T114114
CREATED:20260222T210620Z
LAST-MODIFIED:20260222T210620Z
UID:10004435-1797062400-1797076800@lopbc.org
SUMMARY:VBS 2026
DESCRIPTION:
URL:https://lopbc.org/church_event/vbs-2026/2026-12-12/
CATEGORIES:Children's Ministry
END:VEVENT
BEGIN:VEVENT
DTSTART;TZID=America/Chicago:20261213T080000
DTEND;TZID=America/Chicago:20261213T120000
DTSTAMP:20260423T114114
CREATED:20260222T210620Z
LAST-MODIFIED:20260222T210620Z
UID:10004436-1797148800-1797163200@lopbc.org
SUMMARY:VBS 2026
DESCRIPTION:
URL:https://lopbc.org/church_event/vbs-2026/2026-12-13/
CATEGORIES:Children's Ministry
END:VEVENT
BEGIN:VEVENT
DTSTART;TZID=America/Chicago:20261213T160000
DTEND;TZID=America/Chicago:20261213T170000
DTSTAMP:20260423T114114
CREATED:20260222T213435Z
LAST-MODIFIED:20260222T213435Z
UID:10004655-1797177600-1797181200@lopbc.org
SUMMARY:Christmas Play Rehearsal
DESCRIPTION:
URL:https://lopbc.org/church_event/christmas-play-rehearsal/2026-12-13/
CATEGORIES:Children's Ministry
END:VEVENT
BEGIN:VEVENT
DTSTART;TZID=America/Chicago:20261214T080000
DTEND;TZID=America/Chicago:20261214T120000
DTSTAMP:20260423T114114
CREATED:20260222T210620Z
LAST-MODIFIED:20260222T210620Z
UID:10004437-1797235200-1797249600@lopbc.org
SUMMARY:VBS 2026
DESCRIPTION:
URL:https://lopbc.org/church_event/vbs-2026/2026-12-14/
CATEGORIES:Children's Ministry
END:VEVENT
BEGIN:VEVENT
DTSTART;TZID=America/Chicago:20261215T080000
DTEND;TZID=America/Chicago:20261215T120000
DTSTAMP:20260423T114114
CREATED:20260222T210620Z
LAST-MODIFIED:20260222T210620Z
UID:10004438-1797321600-1797336000@lopbc.org
SUMMARY:VBS 2026
DESCRIPTION:
URL:https://lopbc.org/church_event/vbs-2026/2026-12-15/
CATEGORIES:Children's Ministry
END:VEVENT
BEGIN:VEVENT
DTSTART;TZID=America/Chicago:20261216T080000
DTEND;TZID=America/Chicago:20261216T120000
DTSTAMP:20260423T114114
CREATED:20260222T210620Z
LAST-MODIFIED:20260222T210620Z
UID:10004439-1797408000-1797422400@lopbc.org
SUMMARY:VBS 2026
DESCRIPTION:
URL:https://lopbc.org/church_event/vbs-2026/2026-12-16/
CATEGORIES:Children's Ministry
END:VEVENT
BEGIN:VEVENT
DTSTART;TZID=America/Chicago:20261217T080000
DTEND;TZID=America/Chicago:20261217T120000
DTSTAMP:20260423T114114
CREATED:20260222T210620Z
LAST-MODIFIED:20260222T210620Z
UID:10004440-1797494400-1797508800@lopbc.org
SUMMARY:VBS 2026
DESCRIPTION:
URL:https://lopbc.org/church_event/vbs-2026/2026-12-17/
CATEGORIES:Children's Ministry
END:VEVENT
BEGIN:VEVENT
DTSTART;TZID=America/Chicago:20261218T080000
DTEND;TZID=America/Chicago:20261218T120000
DTSTAMP:20260423T114114
CREATED:20260222T210620Z
LAST-MODIFIED:20260222T210620Z
UID:10004441-1797580800-1797595200@lopbc.org
SUMMARY:VBS 2026
DESCRIPTION:
URL:https://lopbc.org/church_event/vbs-2026/2026-12-18/
CATEGORIES:Children's Ministry
END:VEVENT
BEGIN:VEVENT
DTSTART;TZID=America/Chicago:20261219T080000
DTEND;TZID=America/Chicago:20261219T120000
DTSTAMP:20260423T114114
CREATED:20260222T210620Z
LAST-MODIFIED:20260222T210620Z
UID:10004442-1797667200-1797681600@lopbc.org
SUMMARY:VBS 2026
DESCRIPTION:
URL:https://lopbc.org/church_event/vbs-2026/2026-12-19/
CATEGORIES:Children's Ministry
END:VEVENT
BEGIN:VEVENT
DTSTART;TZID=America/Chicago:20261220T080000
DTEND;TZID=America/Chicago:20261220T120000
DTSTAMP:20260423T114114
CREATED:20260222T210620Z
LAST-MODIFIED:20260222T210620Z
UID:10004443-1797753600-1797768000@lopbc.org
SUMMARY:VBS 2026
DESCRIPTION:
URL:https://lopbc.org/church_event/vbs-2026/2026-12-20/
CATEGORIES:Children's Ministry
END:VEVENT
BEGIN:VEVENT
DTSTART;TZID=America/Chicago:20261220T180000
DTEND;TZID=America/Chicago:20261220T190000
DTSTAMP:20260423T114114
CREATED:20260222T214253Z
LAST-MODIFIED:20260222T214253Z
UID:10004665-1797789600-1797793200@lopbc.org
SUMMARY:Christmas Play
DESCRIPTION:
URL:https://lopbc.org/church_event/christmas-play-2/
CATEGORIES:Children's Ministry
END:VEVENT
BEGIN:VEVENT
DTSTART;TZID=America/Chicago:20261221T080000
DTEND;TZID=America/Chicago:20261221T120000
DTSTAMP:20260423T114114
CREATED:20260222T210620Z
LAST-MODIFIED:20260222T210620Z
UID:10004444-1797840000-1797854400@lopbc.org
SUMMARY:VBS 2026
DESCRIPTION:
URL:https://lopbc.org/church_event/vbs-2026/2026-12-21/
CATEGORIES:Children's Ministry
END:VEVENT
BEGIN:VEVENT
DTSTART;TZID=America/Chicago:20261222T080000
DTEND;TZID=America/Chicago:20261222T120000
DTSTAMP:20260423T114114
CREATED:20260222T210620Z
LAST-MODIFIED:20260222T210620Z
UID:10004445-1797926400-1797940800@lopbc.org
SUMMARY:VBS 2026
DESCRIPTION:
URL:https://lopbc.org/church_event/vbs-2026/2026-12-22/
CATEGORIES:Children's Ministry
END:VEVENT
BEGIN:VEVENT
DTSTART;TZID=America/Chicago:20261223T080000
DTEND;TZID=America/Chicago:20261223T120000
DTSTAMP:20260423T114114
CREATED:20260222T210620Z
LAST-MODIFIED:20260222T210620Z
UID:10004446-1798012800-1798027200@lopbc.org
SUMMARY:VBS 2026
DESCRIPTION:
URL:https://lopbc.org/church_event/vbs-2026/2026-12-23/
CATEGORIES:Children's Ministry
END:VEVENT
BEGIN:VEVENT
DTSTART;TZID=America/Chicago:20261224T080000
DTEND;TZID=America/Chicago:20261224T120000
DTSTAMP:20260423T114114
CREATED:20260222T210620Z
LAST-MODIFIED:20260222T210620Z
UID:10004447-1798099200-1798113600@lopbc.org
SUMMARY:VBS 2026
DESCRIPTION:
URL:https://lopbc.org/church_event/vbs-2026/2026-12-24/
CATEGORIES:Children's Ministry
END:VEVENT
BEGIN:VEVENT
DTSTART;TZID=America/Chicago:20261225T080000
DTEND;TZID=America/Chicago:20261225T120000
DTSTAMP:20260423T114114
CREATED:20260222T210620Z
LAST-MODIFIED:20260222T210620Z
UID:10004448-1798185600-1798200000@lopbc.org
SUMMARY:VBS 2026
DESCRIPTION:
URL:https://lopbc.org/church_event/vbs-2026/2026-12-25/
CATEGORIES:Children's Ministry
END:VEVENT
BEGIN:VEVENT
DTSTART;TZID=America/Chicago:20261226T080000
DTEND;TZID=America/Chicago:20261226T120000
DTSTAMP:20260423T114114
CREATED:20260222T210620Z
LAST-MODIFIED:20260222T210620Z
UID:10004449-1798272000-1798286400@lopbc.org
SUMMARY:VBS 2026
DESCRIPTION:
URL:https://lopbc.org/church_event/vbs-2026/2026-12-26/
CATEGORIES:Children's Ministry
END:VEVENT
END:VCALENDAR