BEGIN:VCALENDAR
VERSION:2.0
PRODID:-//Lake O&#039; The Pines Baptist Church - ECPv6.15.20//NONSGML v1.0//EN
CALSCALE:GREGORIAN
METHOD:PUBLISH
X-WR-CALNAME:Lake O&#039; The Pines Baptist Church
X-ORIGINAL-URL:https://lopbc.org
X-WR-CALDESC:Events for Lake O&#039; The Pines Baptist Church
REFRESH-INTERVAL;VALUE=DURATION:PT1H
X-Robots-Tag:noindex
X-PUBLISHED-TTL:PT1H
BEGIN:VTIMEZONE
TZID:America/Chicago
BEGIN:DAYLIGHT
TZOFFSETFROM:-0600
TZOFFSETTO:-0500
TZNAME:CDT
DTSTART:20250309T080000
END:DAYLIGHT
BEGIN:STANDARD
TZOFFSETFROM:-0500
TZOFFSETTO:-0600
TZNAME:CST
DTSTART:20251102T070000
END:STANDARD
BEGIN:DAYLIGHT
TZOFFSETFROM:-0600
TZOFFSETTO:-0500
TZNAME:CDT
DTSTART:20260308T080000
END:DAYLIGHT
BEGIN:STANDARD
TZOFFSETFROM:-0500
TZOFFSETTO:-0600
TZNAME:CST
DTSTART:20261101T070000
END:STANDARD
BEGIN:DAYLIGHT
TZOFFSETFROM:-0600
TZOFFSETTO:-0500
TZNAME:CDT
DTSTART:20270314T080000
END:DAYLIGHT
BEGIN:STANDARD
TZOFFSETFROM:-0500
TZOFFSETTO:-0600
TZNAME:CST
DTSTART:20271107T070000
END:STANDARD
END:VTIMEZONE
BEGIN:VEVENT
DTSTART;VALUE=DATE:20260425
DTEND;VALUE=DATE:20260426
DTSTAMP:20260422T200637
CREATED:20260222T205749Z
LAST-MODIFIED:20260222T205749Z
UID:10004245-1777075200-1777161599@lopbc.org
SUMMARY:State Bible Drill
DESCRIPTION:
URL:https://lopbc.org/church_event/state-bible-drill/
CATEGORIES:Bible Drill,Children's Ministry,Youth Ministry
END:VEVENT
BEGIN:VEVENT
DTSTART;VALUE=DATE:20260502
DTEND;VALUE=DATE:20260503
DTSTAMP:20260422T200637
CREATED:20260222T205845Z
LAST-MODIFIED:20260222T205845Z
UID:10004246-1777680000-1777766399@lopbc.org
SUMMARY:State Bible Drill
DESCRIPTION:
URL:https://lopbc.org/church_event/state-bible-drill-2/
CATEGORIES:Bible Drill,Children's Ministry,Youth Ministry
END:VEVENT
BEGIN:VEVENT
DTSTART;TZID=America/Chicago:20260503T160000
DTEND;TZID=America/Chicago:20260503T170000
DTSTAMP:20260422T200637
CREATED:20260222T205938Z
LAST-MODIFIED:20260222T210324Z
UID:10004247-1777824000-1777827600@lopbc.org
SUMMARY:VBS Meeting
DESCRIPTION:
URL:https://lopbc.org/church_event/vbs-meeting-4/2026-05-03/
LOCATION:Sanctuary\, 9046 FM729\, Avinger\, TX\, 75630\, United States
CATEGORIES:Children's Ministry,VBS
END:VEVENT
BEGIN:VEVENT
DTSTART;TZID=America/Chicago:20260507T180000
DTEND;TZID=America/Chicago:20260507T210000
DTSTAMP:20260422T200637
CREATED:20260222T195228Z
LAST-MODIFIED:20260222T195228Z
UID:10003921-1778176800-1778187600@lopbc.org
SUMMARY:Parent's Night Out
DESCRIPTION:Need a break from family life? We’re here to serve! On select dates\, we offer free childcare to our church members so that you can spend some quality time with your spouse!
URL:https://lopbc.org/church_event/parents-night-out/2026-05-07/
CATEGORIES:Children's Ministry,Church-wide,Parent's Night Out
END:VEVENT
BEGIN:VEVENT
DTSTART;TZID=America/Chicago:20260531T160000
DTEND;TZID=America/Chicago:20260531T170000
DTSTAMP:20260422T200637
CREATED:20260222T205938Z
LAST-MODIFIED:20260222T210324Z
UID:10004252-1780243200-1780246800@lopbc.org
SUMMARY:VBS Meeting
DESCRIPTION:
URL:https://lopbc.org/church_event/vbs-meeting-4/2026-05-31/
LOCATION:Sanctuary\, 9046 FM729\, Avinger\, TX\, 75630\, United States
CATEGORIES:Children's Ministry,VBS
END:VEVENT
BEGIN:VEVENT
DTSTART;TZID=America/Chicago:20260604T180000
DTEND;TZID=America/Chicago:20260604T210000
DTSTAMP:20260422T200637
CREATED:20260222T195228Z
LAST-MODIFIED:20260222T195228Z
UID:10003922-1780596000-1780606800@lopbc.org
SUMMARY:Parent's Night Out
DESCRIPTION:Need a break from family life? We’re here to serve! On select dates\, we offer free childcare to our church members so that you can spend some quality time with your spouse!
URL:https://lopbc.org/church_event/parents-night-out/2026-06-04/
CATEGORIES:Children's Ministry,Church-wide,Parent's Night Out
END:VEVENT
BEGIN:VEVENT
DTSTART;TZID=America/Chicago:20260606T080000
DTEND;TZID=America/Chicago:20260606T120000
DTSTAMP:20260422T200637
CREATED:20260222T210514Z
LAST-MODIFIED:20260222T210514Z
UID:10004254-1780732800-1780747200@lopbc.org
SUMMARY:Kid's Fish Day
DESCRIPTION:
URL:https://lopbc.org/church_event/kids-fish-day-2/
LOCATION:Hurricane Creek Park\, Jefferson\, TX
CATEGORIES:Children's Ministry,Church-wide,Community,Youth Ministry
END:VEVENT
BEGIN:VEVENT
DTSTART;TZID=America/Chicago:20260614T120000
DTEND;TZID=America/Chicago:20260614T130000
DTSTAMP:20260422T200637
CREATED:20260222T210700Z
LAST-MODIFIED:20260222T210700Z
UID:10004624-1781438400-1781442000@lopbc.org
SUMMARY:VBS Prayer Walk
DESCRIPTION:
URL:https://lopbc.org/church_event/vbs-prayer-walk/
CATEGORIES:Children's Ministry,Church-wide
END:VEVENT
BEGIN:VEVENT
DTSTART;TZID=America/Chicago:20260615T080000
DTEND;TZID=America/Chicago:20260615T120000
DTSTAMP:20260422T200637
CREATED:20260222T210620Z
LAST-MODIFIED:20260222T210620Z
UID:10004255-1781510400-1781524800@lopbc.org
SUMMARY:VBS 2026
DESCRIPTION:
URL:https://lopbc.org/church_event/vbs-2026/2026-06-15/
CATEGORIES:Children's Ministry
END:VEVENT
BEGIN:VEVENT
DTSTART;TZID=America/Chicago:20260616T080000
DTEND;TZID=America/Chicago:20260616T120000
DTSTAMP:20260422T200637
CREATED:20260222T210620Z
LAST-MODIFIED:20260222T210620Z
UID:10004256-1781596800-1781611200@lopbc.org
SUMMARY:VBS 2026
DESCRIPTION:
URL:https://lopbc.org/church_event/vbs-2026/2026-06-16/
CATEGORIES:Children's Ministry
END:VEVENT
BEGIN:VEVENT
DTSTART;TZID=America/Chicago:20260617T080000
DTEND;TZID=America/Chicago:20260617T120000
DTSTAMP:20260422T200637
CREATED:20260222T210620Z
LAST-MODIFIED:20260222T210620Z
UID:10004257-1781683200-1781697600@lopbc.org
SUMMARY:VBS 2026
DESCRIPTION:
URL:https://lopbc.org/church_event/vbs-2026/2026-06-17/
CATEGORIES:Children's Ministry
END:VEVENT
BEGIN:VEVENT
DTSTART;TZID=America/Chicago:20260618T080000
DTEND;TZID=America/Chicago:20260618T120000
DTSTAMP:20260422T200637
CREATED:20260222T210620Z
LAST-MODIFIED:20260222T210620Z
UID:10004258-1781769600-1781784000@lopbc.org
SUMMARY:VBS 2026
DESCRIPTION:
URL:https://lopbc.org/church_event/vbs-2026/2026-06-18/
CATEGORIES:Children's Ministry
END:VEVENT
BEGIN:VEVENT
DTSTART;TZID=America/Chicago:20260619T080000
DTEND;TZID=America/Chicago:20260619T120000
DTSTAMP:20260422T200637
CREATED:20260222T210620Z
LAST-MODIFIED:20260222T210620Z
UID:10004259-1781856000-1781870400@lopbc.org
SUMMARY:VBS 2026
DESCRIPTION:
URL:https://lopbc.org/church_event/vbs-2026/2026-06-19/
CATEGORIES:Children's Ministry
END:VEVENT
BEGIN:VEVENT
DTSTART;TZID=America/Chicago:20260620T080000
DTEND;TZID=America/Chicago:20260620T120000
DTSTAMP:20260422T200637
CREATED:20260222T210620Z
LAST-MODIFIED:20260222T210620Z
UID:10004260-1781942400-1781956800@lopbc.org
SUMMARY:VBS 2026
DESCRIPTION:
URL:https://lopbc.org/church_event/vbs-2026/2026-06-20/
CATEGORIES:Children's Ministry
END:VEVENT
BEGIN:VEVENT
DTSTART;TZID=America/Chicago:20260621T080000
DTEND;TZID=America/Chicago:20260621T120000
DTSTAMP:20260422T200637
CREATED:20260222T210620Z
LAST-MODIFIED:20260222T210620Z
UID:10004261-1782028800-1782043200@lopbc.org
SUMMARY:VBS 2026
DESCRIPTION:
URL:https://lopbc.org/church_event/vbs-2026/2026-06-21/
CATEGORIES:Children's Ministry
END:VEVENT
BEGIN:VEVENT
DTSTART;TZID=America/Chicago:20260621T120000
DTEND;TZID=America/Chicago:20260621T130000
DTSTAMP:20260422T200637
CREATED:20260222T210830Z
LAST-MODIFIED:20260222T210830Z
UID:10004625-1782043200-1782046800@lopbc.org
SUMMARY:VBS Family Meal
DESCRIPTION:
URL:https://lopbc.org/church_event/vbs-family-meal/
LOCATION:Fellowship Hall\, 9046 FM729\, Avinger\, TX\, 75630
CATEGORIES:Children's Ministry,Church-wide,Community
END:VEVENT
BEGIN:VEVENT
DTSTART;TZID=America/Chicago:20260622T080000
DTEND;TZID=America/Chicago:20260622T120000
DTSTAMP:20260422T200637
CREATED:20260222T210620Z
LAST-MODIFIED:20260222T210620Z
UID:10004262-1782115200-1782129600@lopbc.org
SUMMARY:VBS 2026
DESCRIPTION:
URL:https://lopbc.org/church_event/vbs-2026/2026-06-22/
CATEGORIES:Children's Ministry
END:VEVENT
BEGIN:VEVENT
DTSTART;TZID=America/Chicago:20260623T080000
DTEND;TZID=America/Chicago:20260623T120000
DTSTAMP:20260422T200637
CREATED:20260222T210620Z
LAST-MODIFIED:20260222T210620Z
UID:10004263-1782201600-1782216000@lopbc.org
SUMMARY:VBS 2026
DESCRIPTION:
URL:https://lopbc.org/church_event/vbs-2026/2026-06-23/
CATEGORIES:Children's Ministry
END:VEVENT
BEGIN:VEVENT
DTSTART;TZID=America/Chicago:20260624T080000
DTEND;TZID=America/Chicago:20260624T120000
DTSTAMP:20260422T200637
CREATED:20260222T210620Z
LAST-MODIFIED:20260222T210620Z
UID:10004264-1782288000-1782302400@lopbc.org
SUMMARY:VBS 2026
DESCRIPTION:
URL:https://lopbc.org/church_event/vbs-2026/2026-06-24/
CATEGORIES:Children's Ministry
END:VEVENT
BEGIN:VEVENT
DTSTART;TZID=America/Chicago:20260625T080000
DTEND;TZID=America/Chicago:20260625T120000
DTSTAMP:20260422T200637
CREATED:20260222T210620Z
LAST-MODIFIED:20260222T210620Z
UID:10004265-1782374400-1782388800@lopbc.org
SUMMARY:VBS 2026
DESCRIPTION:
URL:https://lopbc.org/church_event/vbs-2026/2026-06-25/
CATEGORIES:Children's Ministry
END:VEVENT
BEGIN:VEVENT
DTSTART;TZID=America/Chicago:20260626T080000
DTEND;TZID=America/Chicago:20260626T120000
DTSTAMP:20260422T200637
CREATED:20260222T210620Z
LAST-MODIFIED:20260222T210620Z
UID:10004266-1782460800-1782475200@lopbc.org
SUMMARY:VBS 2026
DESCRIPTION:
URL:https://lopbc.org/church_event/vbs-2026/2026-06-26/
CATEGORIES:Children's Ministry
END:VEVENT
BEGIN:VEVENT
DTSTART;TZID=America/Chicago:20260627T080000
DTEND;TZID=America/Chicago:20260627T120000
DTSTAMP:20260422T200637
CREATED:20260222T210620Z
LAST-MODIFIED:20260222T210620Z
UID:10004267-1782547200-1782561600@lopbc.org
SUMMARY:VBS 2026
DESCRIPTION:
URL:https://lopbc.org/church_event/vbs-2026/2026-06-27/
CATEGORIES:Children's Ministry
END:VEVENT
BEGIN:VEVENT
DTSTART;TZID=America/Chicago:20260628T080000
DTEND;TZID=America/Chicago:20260628T120000
DTSTAMP:20260422T200637
CREATED:20260222T210620Z
LAST-MODIFIED:20260222T210620Z
UID:10004268-1782633600-1782648000@lopbc.org
SUMMARY:VBS 2026
DESCRIPTION:
URL:https://lopbc.org/church_event/vbs-2026/2026-06-28/
CATEGORIES:Children's Ministry
END:VEVENT
BEGIN:VEVENT
DTSTART;TZID=America/Chicago:20260629T080000
DTEND;TZID=America/Chicago:20260629T120000
DTSTAMP:20260422T200637
CREATED:20260222T210620Z
LAST-MODIFIED:20260222T210620Z
UID:10004269-1782720000-1782734400@lopbc.org
SUMMARY:VBS 2026
DESCRIPTION:
URL:https://lopbc.org/church_event/vbs-2026/2026-06-29/
CATEGORIES:Children's Ministry
END:VEVENT
BEGIN:VEVENT
DTSTART;TZID=America/Chicago:20260630T080000
DTEND;TZID=America/Chicago:20260630T120000
DTSTAMP:20260422T200637
CREATED:20260222T210620Z
LAST-MODIFIED:20260222T210620Z
UID:10004270-1782806400-1782820800@lopbc.org
SUMMARY:VBS 2026
DESCRIPTION:
URL:https://lopbc.org/church_event/vbs-2026/2026-06-30/
CATEGORIES:Children's Ministry
END:VEVENT
BEGIN:VEVENT
DTSTART;TZID=America/Chicago:20260701T080000
DTEND;TZID=America/Chicago:20260701T120000
DTSTAMP:20260422T200637
CREATED:20260222T210620Z
LAST-MODIFIED:20260222T210620Z
UID:10004271-1782892800-1782907200@lopbc.org
SUMMARY:VBS 2026
DESCRIPTION:
URL:https://lopbc.org/church_event/vbs-2026/2026-07-01/
CATEGORIES:Children's Ministry
END:VEVENT
BEGIN:VEVENT
DTSTART;TZID=America/Chicago:20260702T080000
DTEND;TZID=America/Chicago:20260702T120000
DTSTAMP:20260422T200637
CREATED:20260222T210620Z
LAST-MODIFIED:20260222T210620Z
UID:10004272-1782979200-1782993600@lopbc.org
SUMMARY:VBS 2026
DESCRIPTION:
URL:https://lopbc.org/church_event/vbs-2026/2026-07-02/
CATEGORIES:Children's Ministry
END:VEVENT
BEGIN:VEVENT
DTSTART;TZID=America/Chicago:20260702T180000
DTEND;TZID=America/Chicago:20260702T210000
DTSTAMP:20260422T200637
CREATED:20260222T195228Z
LAST-MODIFIED:20260222T195228Z
UID:10003923-1783015200-1783026000@lopbc.org
SUMMARY:Parent's Night Out
DESCRIPTION:Need a break from family life? We’re here to serve! On select dates\, we offer free childcare to our church members so that you can spend some quality time with your spouse!
URL:https://lopbc.org/church_event/parents-night-out/2026-07-02/
CATEGORIES:Children's Ministry,Church-wide,Parent's Night Out
END:VEVENT
BEGIN:VEVENT
DTSTART;TZID=America/Chicago:20260703T080000
DTEND;TZID=America/Chicago:20260703T120000
DTSTAMP:20260422T200637
CREATED:20260222T210620Z
LAST-MODIFIED:20260222T210620Z
UID:10004273-1783065600-1783080000@lopbc.org
SUMMARY:VBS 2026
DESCRIPTION:
URL:https://lopbc.org/church_event/vbs-2026/2026-07-03/
CATEGORIES:Children's Ministry
END:VEVENT
BEGIN:VEVENT
DTSTART;TZID=America/Chicago:20260704T080000
DTEND;TZID=America/Chicago:20260704T120000
DTSTAMP:20260422T200637
CREATED:20260222T210620Z
LAST-MODIFIED:20260222T210620Z
UID:10004274-1783152000-1783166400@lopbc.org
SUMMARY:VBS 2026
DESCRIPTION:
URL:https://lopbc.org/church_event/vbs-2026/2026-07-04/
CATEGORIES:Children's Ministry
END:VEVENT
END:VCALENDAR