BEGIN:VCALENDAR
VERSION:2.0
PRODID:-//Lake O&#039; The Pines Baptist Church - ECPv6.15.20//NONSGML v1.0//EN
CALSCALE:GREGORIAN
METHOD:PUBLISH
X-ORIGINAL-URL:https://lopbc.org
X-WR-CALDESC:Events for Lake O&#039; The Pines Baptist Church
REFRESH-INTERVAL;VALUE=DURATION:PT1H
X-Robots-Tag:noindex
X-PUBLISHED-TTL:PT1H
BEGIN:VTIMEZONE
TZID:America/Chicago
BEGIN:DAYLIGHT
TZOFFSETFROM:-0600
TZOFFSETTO:-0500
TZNAME:CDT
DTSTART:20260308T080000
END:DAYLIGHT
BEGIN:STANDARD
TZOFFSETFROM:-0500
TZOFFSETTO:-0600
TZNAME:CST
DTSTART:20261101T070000
END:STANDARD
BEGIN:DAYLIGHT
TZOFFSETFROM:-0600
TZOFFSETTO:-0500
TZNAME:CDT
DTSTART:20270314T080000
END:DAYLIGHT
BEGIN:STANDARD
TZOFFSETFROM:-0500
TZOFFSETTO:-0600
TZNAME:CST
DTSTART:20271107T070000
END:STANDARD
BEGIN:DAYLIGHT
TZOFFSETFROM:-0600
TZOFFSETTO:-0500
TZNAME:CDT
DTSTART:20280312T080000
END:DAYLIGHT
BEGIN:STANDARD
TZOFFSETFROM:-0500
TZOFFSETTO:-0600
TZNAME:CST
DTSTART:20281105T070000
END:STANDARD
END:VTIMEZONE
BEGIN:VEVENT
DTSTART;TZID=America/Chicago:20270110T080000
DTEND;TZID=America/Chicago:20270110T120000
DTSTAMP:20260423T230717
CREATED:20260222T210620Z
LAST-MODIFIED:20260222T210620Z
UID:10004464-1799568000-1799582400@lopbc.org
SUMMARY:VBS 2026
DESCRIPTION:
URL:https://lopbc.org/church_event/vbs-2026/2027-01-10/
CATEGORIES:Children's Ministry
END:VEVENT
BEGIN:VEVENT
DTSTART;TZID=America/Chicago:20270111T080000
DTEND;TZID=America/Chicago:20270111T120000
DTSTAMP:20260423T230717
CREATED:20260222T210620Z
LAST-MODIFIED:20260222T210620Z
UID:10004465-1799654400-1799668800@lopbc.org
SUMMARY:VBS 2026
DESCRIPTION:
URL:https://lopbc.org/church_event/vbs-2026/2027-01-11/
CATEGORIES:Children's Ministry
END:VEVENT
BEGIN:VEVENT
DTSTART;TZID=America/Chicago:20270112T080000
DTEND;TZID=America/Chicago:20270112T120000
DTSTAMP:20260423T230717
CREATED:20260222T210620Z
LAST-MODIFIED:20260222T210620Z
UID:10004466-1799740800-1799755200@lopbc.org
SUMMARY:VBS 2026
DESCRIPTION:
URL:https://lopbc.org/church_event/vbs-2026/2027-01-12/
CATEGORIES:Children's Ministry
END:VEVENT
BEGIN:VEVENT
DTSTART;TZID=America/Chicago:20270113T080000
DTEND;TZID=America/Chicago:20270113T120000
DTSTAMP:20260423T230717
CREATED:20260222T210620Z
LAST-MODIFIED:20260222T210620Z
UID:10004467-1799827200-1799841600@lopbc.org
SUMMARY:VBS 2026
DESCRIPTION:
URL:https://lopbc.org/church_event/vbs-2026/2027-01-13/
CATEGORIES:Children's Ministry
END:VEVENT
BEGIN:VEVENT
DTSTART;TZID=America/Chicago:20270114T080000
DTEND;TZID=America/Chicago:20270114T120000
DTSTAMP:20260423T230717
CREATED:20260222T210620Z
LAST-MODIFIED:20260222T210620Z
UID:10004468-1799913600-1799928000@lopbc.org
SUMMARY:VBS 2026
DESCRIPTION:
URL:https://lopbc.org/church_event/vbs-2026/2027-01-14/
CATEGORIES:Children's Ministry
END:VEVENT
BEGIN:VEVENT
DTSTART;TZID=America/Chicago:20270115T080000
DTEND;TZID=America/Chicago:20270115T120000
DTSTAMP:20260423T230717
CREATED:20260222T210620Z
LAST-MODIFIED:20260222T210620Z
UID:10004469-1800000000-1800014400@lopbc.org
SUMMARY:VBS 2026
DESCRIPTION:
URL:https://lopbc.org/church_event/vbs-2026/2027-01-15/
CATEGORIES:Children's Ministry
END:VEVENT
BEGIN:VEVENT
DTSTART;TZID=America/Chicago:20270116T080000
DTEND;TZID=America/Chicago:20270116T120000
DTSTAMP:20260423T230717
CREATED:20260222T210620Z
LAST-MODIFIED:20260222T210620Z
UID:10004470-1800086400-1800100800@lopbc.org
SUMMARY:VBS 2026
DESCRIPTION:
URL:https://lopbc.org/church_event/vbs-2026/2027-01-16/
CATEGORIES:Children's Ministry
END:VEVENT
BEGIN:VEVENT
DTSTART;TZID=America/Chicago:20270117T080000
DTEND;TZID=America/Chicago:20270117T120000
DTSTAMP:20260423T230717
CREATED:20260222T210620Z
LAST-MODIFIED:20260222T210620Z
UID:10004471-1800172800-1800187200@lopbc.org
SUMMARY:VBS 2026
DESCRIPTION:
URL:https://lopbc.org/church_event/vbs-2026/2027-01-17/
CATEGORIES:Children's Ministry
END:VEVENT
BEGIN:VEVENT
DTSTART;TZID=America/Chicago:20270118T080000
DTEND;TZID=America/Chicago:20270118T120000
DTSTAMP:20260423T230717
CREATED:20260222T210620Z
LAST-MODIFIED:20260222T210620Z
UID:10004472-1800259200-1800273600@lopbc.org
SUMMARY:VBS 2026
DESCRIPTION:
URL:https://lopbc.org/church_event/vbs-2026/2027-01-18/
CATEGORIES:Children's Ministry
END:VEVENT
BEGIN:VEVENT
DTSTART;TZID=America/Chicago:20270119T080000
DTEND;TZID=America/Chicago:20270119T120000
DTSTAMP:20260423T230717
CREATED:20260222T210620Z
LAST-MODIFIED:20260222T210620Z
UID:10004473-1800345600-1800360000@lopbc.org
SUMMARY:VBS 2026
DESCRIPTION:
URL:https://lopbc.org/church_event/vbs-2026/2027-01-19/
CATEGORIES:Children's Ministry
END:VEVENT
BEGIN:VEVENT
DTSTART;TZID=America/Chicago:20270120T080000
DTEND;TZID=America/Chicago:20270120T120000
DTSTAMP:20260423T230717
CREATED:20260222T210620Z
LAST-MODIFIED:20260222T210620Z
UID:10004474-1800432000-1800446400@lopbc.org
SUMMARY:VBS 2026
DESCRIPTION:
URL:https://lopbc.org/church_event/vbs-2026/2027-01-20/
CATEGORIES:Children's Ministry
END:VEVENT
BEGIN:VEVENT
DTSTART;TZID=America/Chicago:20270121T080000
DTEND;TZID=America/Chicago:20270121T120000
DTSTAMP:20260423T230717
CREATED:20260222T210620Z
LAST-MODIFIED:20260222T210620Z
UID:10004475-1800518400-1800532800@lopbc.org
SUMMARY:VBS 2026
DESCRIPTION:
URL:https://lopbc.org/church_event/vbs-2026/2027-01-21/
CATEGORIES:Children's Ministry
END:VEVENT
BEGIN:VEVENT
DTSTART;TZID=America/Chicago:20270122T080000
DTEND;TZID=America/Chicago:20270122T120000
DTSTAMP:20260423T230717
CREATED:20260222T210620Z
LAST-MODIFIED:20260222T210620Z
UID:10004476-1800604800-1800619200@lopbc.org
SUMMARY:VBS 2026
DESCRIPTION:
URL:https://lopbc.org/church_event/vbs-2026/2027-01-22/
CATEGORIES:Children's Ministry
END:VEVENT
BEGIN:VEVENT
DTSTART;TZID=America/Chicago:20270123T080000
DTEND;TZID=America/Chicago:20270123T120000
DTSTAMP:20260423T230717
CREATED:20260222T210620Z
LAST-MODIFIED:20260222T210620Z
UID:10004477-1800691200-1800705600@lopbc.org
SUMMARY:VBS 2026
DESCRIPTION:
URL:https://lopbc.org/church_event/vbs-2026/2027-01-23/
CATEGORIES:Children's Ministry
END:VEVENT
BEGIN:VEVENT
DTSTART;TZID=America/Chicago:20270124T080000
DTEND;TZID=America/Chicago:20270124T120000
DTSTAMP:20260423T230717
CREATED:20260222T210620Z
LAST-MODIFIED:20260222T210620Z
UID:10004478-1800777600-1800792000@lopbc.org
SUMMARY:VBS 2026
DESCRIPTION:
URL:https://lopbc.org/church_event/vbs-2026/2027-01-24/
CATEGORIES:Children's Ministry
END:VEVENT
BEGIN:VEVENT
DTSTART;TZID=America/Chicago:20270125T080000
DTEND;TZID=America/Chicago:20270125T120000
DTSTAMP:20260423T230717
CREATED:20260222T210620Z
LAST-MODIFIED:20260222T210620Z
UID:10004479-1800864000-1800878400@lopbc.org
SUMMARY:VBS 2026
DESCRIPTION:
URL:https://lopbc.org/church_event/vbs-2026/2027-01-25/
CATEGORIES:Children's Ministry
END:VEVENT
BEGIN:VEVENT
DTSTART;TZID=America/Chicago:20270126T080000
DTEND;TZID=America/Chicago:20270126T120000
DTSTAMP:20260423T230717
CREATED:20260222T210620Z
LAST-MODIFIED:20260222T210620Z
UID:10004480-1800950400-1800964800@lopbc.org
SUMMARY:VBS 2026
DESCRIPTION:
URL:https://lopbc.org/church_event/vbs-2026/2027-01-26/
CATEGORIES:Children's Ministry
END:VEVENT
BEGIN:VEVENT
DTSTART;TZID=America/Chicago:20270127T080000
DTEND;TZID=America/Chicago:20270127T120000
DTSTAMP:20260423T230717
CREATED:20260222T210620Z
LAST-MODIFIED:20260222T210620Z
UID:10004481-1801036800-1801051200@lopbc.org
SUMMARY:VBS 2026
DESCRIPTION:
URL:https://lopbc.org/church_event/vbs-2026/2027-01-27/
CATEGORIES:Children's Ministry
END:VEVENT
BEGIN:VEVENT
DTSTART;TZID=America/Chicago:20270128T080000
DTEND;TZID=America/Chicago:20270128T120000
DTSTAMP:20260423T230717
CREATED:20260222T210620Z
LAST-MODIFIED:20260222T210620Z
UID:10004482-1801123200-1801137600@lopbc.org
SUMMARY:VBS 2026
DESCRIPTION:
URL:https://lopbc.org/church_event/vbs-2026/2027-01-28/
CATEGORIES:Children's Ministry
END:VEVENT
BEGIN:VEVENT
DTSTART;TZID=America/Chicago:20270129T080000
DTEND;TZID=America/Chicago:20270129T120000
DTSTAMP:20260423T230717
CREATED:20260222T210620Z
LAST-MODIFIED:20260222T210620Z
UID:10004483-1801209600-1801224000@lopbc.org
SUMMARY:VBS 2026
DESCRIPTION:
URL:https://lopbc.org/church_event/vbs-2026/2027-01-29/
CATEGORIES:Children's Ministry
END:VEVENT
BEGIN:VEVENT
DTSTART;TZID=America/Chicago:20270130T080000
DTEND;TZID=America/Chicago:20270130T120000
DTSTAMP:20260423T230717
CREATED:20260222T210620Z
LAST-MODIFIED:20260222T210620Z
UID:10004484-1801296000-1801310400@lopbc.org
SUMMARY:VBS 2026
DESCRIPTION:
URL:https://lopbc.org/church_event/vbs-2026/2027-01-30/
CATEGORIES:Children's Ministry
END:VEVENT
BEGIN:VEVENT
DTSTART;TZID=America/Chicago:20270131T080000
DTEND;TZID=America/Chicago:20270131T120000
DTSTAMP:20260423T230717
CREATED:20260222T210620Z
LAST-MODIFIED:20260222T210620Z
UID:10004485-1801382400-1801396800@lopbc.org
SUMMARY:VBS 2026
DESCRIPTION:
URL:https://lopbc.org/church_event/vbs-2026/2027-01-31/
CATEGORIES:Children's Ministry
END:VEVENT
BEGIN:VEVENT
DTSTART;TZID=America/Chicago:20270201T080000
DTEND;TZID=America/Chicago:20270201T120000
DTSTAMP:20260423T230717
CREATED:20260222T210620Z
LAST-MODIFIED:20260222T210620Z
UID:10004486-1801468800-1801483200@lopbc.org
SUMMARY:VBS 2026
DESCRIPTION:
URL:https://lopbc.org/church_event/vbs-2026/2027-02-01/
CATEGORIES:Children's Ministry
END:VEVENT
BEGIN:VEVENT
DTSTART;TZID=America/Chicago:20270202T080000
DTEND;TZID=America/Chicago:20270202T120000
DTSTAMP:20260423T230717
CREATED:20260222T210620Z
LAST-MODIFIED:20260222T210620Z
UID:10004487-1801555200-1801569600@lopbc.org
SUMMARY:VBS 2026
DESCRIPTION:
URL:https://lopbc.org/church_event/vbs-2026/2027-02-02/
CATEGORIES:Children's Ministry
END:VEVENT
BEGIN:VEVENT
DTSTART;TZID=America/Chicago:20270203T080000
DTEND;TZID=America/Chicago:20270203T120000
DTSTAMP:20260423T230717
CREATED:20260222T210620Z
LAST-MODIFIED:20260222T210620Z
UID:10004488-1801641600-1801656000@lopbc.org
SUMMARY:VBS 2026
DESCRIPTION:
URL:https://lopbc.org/church_event/vbs-2026/2027-02-03/
CATEGORIES:Children's Ministry
END:VEVENT
BEGIN:VEVENT
DTSTART;TZID=America/Chicago:20270204T080000
DTEND;TZID=America/Chicago:20270204T120000
DTSTAMP:20260423T230717
CREATED:20260222T210620Z
LAST-MODIFIED:20260222T210620Z
UID:10004489-1801728000-1801742400@lopbc.org
SUMMARY:VBS 2026
DESCRIPTION:
URL:https://lopbc.org/church_event/vbs-2026/2027-02-04/
CATEGORIES:Children's Ministry
END:VEVENT
BEGIN:VEVENT
DTSTART;TZID=America/Chicago:20270205T080000
DTEND;TZID=America/Chicago:20270205T120000
DTSTAMP:20260423T230717
CREATED:20260222T210620Z
LAST-MODIFIED:20260222T210620Z
UID:10004490-1801814400-1801828800@lopbc.org
SUMMARY:VBS 2026
DESCRIPTION:
URL:https://lopbc.org/church_event/vbs-2026/2027-02-05/
CATEGORIES:Children's Ministry
END:VEVENT
BEGIN:VEVENT
DTSTART;TZID=America/Chicago:20270206T080000
DTEND;TZID=America/Chicago:20270206T120000
DTSTAMP:20260423T230717
CREATED:20260222T210620Z
LAST-MODIFIED:20260222T210620Z
UID:10004491-1801900800-1801915200@lopbc.org
SUMMARY:VBS 2026
DESCRIPTION:
URL:https://lopbc.org/church_event/vbs-2026/2027-02-06/
CATEGORIES:Children's Ministry
END:VEVENT
BEGIN:VEVENT
DTSTART;TZID=America/Chicago:20270207T080000
DTEND;TZID=America/Chicago:20270207T120000
DTSTAMP:20260423T230717
CREATED:20260222T210620Z
LAST-MODIFIED:20260222T210620Z
UID:10004492-1801987200-1802001600@lopbc.org
SUMMARY:VBS 2026
DESCRIPTION:
URL:https://lopbc.org/church_event/vbs-2026/2027-02-07/
CATEGORIES:Children's Ministry
END:VEVENT
BEGIN:VEVENT
DTSTART;TZID=America/Chicago:20270208T080000
DTEND;TZID=America/Chicago:20270208T120000
DTSTAMP:20260423T230717
CREATED:20260222T210620Z
LAST-MODIFIED:20260222T210620Z
UID:10004493-1802073600-1802088000@lopbc.org
SUMMARY:VBS 2026
DESCRIPTION:
URL:https://lopbc.org/church_event/vbs-2026/2027-02-08/
CATEGORIES:Children's Ministry
END:VEVENT
END:VCALENDAR