BEGIN:VCALENDAR
VERSION:2.0
PRODID:-//Lake O&#039; The Pines Baptist Church - ECPv6.15.20//NONSGML v1.0//EN
CALSCALE:GREGORIAN
METHOD:PUBLISH
X-WR-CALNAME:Lake O&#039; The Pines Baptist Church
X-ORIGINAL-URL:https://lopbc.org
X-WR-CALDESC:Events for Lake O&#039; The Pines Baptist Church
REFRESH-INTERVAL;VALUE=DURATION:PT1H
X-Robots-Tag:noindex
X-PUBLISHED-TTL:PT1H
BEGIN:VTIMEZONE
TZID:America/Chicago
BEGIN:DAYLIGHT
TZOFFSETFROM:-0600
TZOFFSETTO:-0500
TZNAME:CDT
DTSTART:20250309T080000
END:DAYLIGHT
BEGIN:STANDARD
TZOFFSETFROM:-0500
TZOFFSETTO:-0600
TZNAME:CST
DTSTART:20251102T070000
END:STANDARD
BEGIN:DAYLIGHT
TZOFFSETFROM:-0600
TZOFFSETTO:-0500
TZNAME:CDT
DTSTART:20260308T080000
END:DAYLIGHT
BEGIN:STANDARD
TZOFFSETFROM:-0500
TZOFFSETTO:-0600
TZNAME:CST
DTSTART:20261101T070000
END:STANDARD
BEGIN:DAYLIGHT
TZOFFSETFROM:-0600
TZOFFSETTO:-0500
TZNAME:CDT
DTSTART:20270314T080000
END:DAYLIGHT
BEGIN:STANDARD
TZOFFSETFROM:-0500
TZOFFSETTO:-0600
TZNAME:CST
DTSTART:20271107T070000
END:STANDARD
END:VTIMEZONE
BEGIN:VEVENT
DTSTART;TZID=America/Chicago:20260826T080000
DTEND;TZID=America/Chicago:20260826T120000
DTSTAMP:20260423T063332
CREATED:20260222T210620Z
LAST-MODIFIED:20260222T210620Z
UID:10004327-1787731200-1787745600@lopbc.org
SUMMARY:VBS 2026
DESCRIPTION:
URL:https://lopbc.org/church_event/vbs-2026/2026-08-26/
CATEGORIES:Children's Ministry
END:VEVENT
BEGIN:VEVENT
DTSTART;TZID=America/Chicago:20260827T080000
DTEND;TZID=America/Chicago:20260827T120000
DTSTAMP:20260423T063332
CREATED:20260222T210620Z
LAST-MODIFIED:20260222T210620Z
UID:10004328-1787817600-1787832000@lopbc.org
SUMMARY:VBS 2026
DESCRIPTION:
URL:https://lopbc.org/church_event/vbs-2026/2026-08-27/
CATEGORIES:Children's Ministry
END:VEVENT
BEGIN:VEVENT
DTSTART;TZID=America/Chicago:20260828T080000
DTEND;TZID=America/Chicago:20260828T120000
DTSTAMP:20260423T063332
CREATED:20260222T210620Z
LAST-MODIFIED:20260222T210620Z
UID:10004329-1787904000-1787918400@lopbc.org
SUMMARY:VBS 2026
DESCRIPTION:
URL:https://lopbc.org/church_event/vbs-2026/2026-08-28/
CATEGORIES:Children's Ministry
END:VEVENT
BEGIN:VEVENT
DTSTART;TZID=America/Chicago:20260829T080000
DTEND;TZID=America/Chicago:20260829T120000
DTSTAMP:20260423T063332
CREATED:20260222T210620Z
LAST-MODIFIED:20260222T210620Z
UID:10004330-1787990400-1788004800@lopbc.org
SUMMARY:VBS 2026
DESCRIPTION:
URL:https://lopbc.org/church_event/vbs-2026/2026-08-29/
CATEGORIES:Children's Ministry
END:VEVENT
BEGIN:VEVENT
DTSTART;TZID=America/Chicago:20260830T080000
DTEND;TZID=America/Chicago:20260830T120000
DTSTAMP:20260423T063332
CREATED:20260222T210620Z
LAST-MODIFIED:20260222T210620Z
UID:10004331-1788076800-1788091200@lopbc.org
SUMMARY:VBS 2026
DESCRIPTION:
URL:https://lopbc.org/church_event/vbs-2026/2026-08-30/
CATEGORIES:Children's Ministry
END:VEVENT
BEGIN:VEVENT
DTSTART;TZID=America/Chicago:20260831T080000
DTEND;TZID=America/Chicago:20260831T120000
DTSTAMP:20260423T063332
CREATED:20260222T210620Z
LAST-MODIFIED:20260222T210620Z
UID:10004332-1788163200-1788177600@lopbc.org
SUMMARY:VBS 2026
DESCRIPTION:
URL:https://lopbc.org/church_event/vbs-2026/2026-08-31/
CATEGORIES:Children's Ministry
END:VEVENT
BEGIN:VEVENT
DTSTART;TZID=America/Chicago:20260901T080000
DTEND;TZID=America/Chicago:20260901T120000
DTSTAMP:20260423T063332
CREATED:20260222T210620Z
LAST-MODIFIED:20260222T210620Z
UID:10004333-1788249600-1788264000@lopbc.org
SUMMARY:VBS 2026
DESCRIPTION:
URL:https://lopbc.org/church_event/vbs-2026/2026-09-01/
CATEGORIES:Children's Ministry
END:VEVENT
BEGIN:VEVENT
DTSTART;TZID=America/Chicago:20260902T080000
DTEND;TZID=America/Chicago:20260902T120000
DTSTAMP:20260423T063332
CREATED:20260222T210620Z
LAST-MODIFIED:20260222T210620Z
UID:10004334-1788336000-1788350400@lopbc.org
SUMMARY:VBS 2026
DESCRIPTION:
URL:https://lopbc.org/church_event/vbs-2026/2026-09-02/
CATEGORIES:Children's Ministry
END:VEVENT
BEGIN:VEVENT
DTSTART;TZID=America/Chicago:20260903T080000
DTEND;TZID=America/Chicago:20260903T120000
DTSTAMP:20260423T063332
CREATED:20260222T210620Z
LAST-MODIFIED:20260222T210620Z
UID:10004335-1788422400-1788436800@lopbc.org
SUMMARY:VBS 2026
DESCRIPTION:
URL:https://lopbc.org/church_event/vbs-2026/2026-09-03/
CATEGORIES:Children's Ministry
END:VEVENT
BEGIN:VEVENT
DTSTART;TZID=America/Chicago:20260903T180000
DTEND;TZID=America/Chicago:20260903T210000
DTSTAMP:20260423T063332
CREATED:20260222T195228Z
LAST-MODIFIED:20260222T195228Z
UID:10003925-1788458400-1788469200@lopbc.org
SUMMARY:Parent's Night Out
DESCRIPTION:Need a break from family life? We’re here to serve! On select dates\, we offer free childcare to our church members so that you can spend some quality time with your spouse!
URL:https://lopbc.org/church_event/parents-night-out/2026-09-03/
CATEGORIES:Children's Ministry,Church-wide,Parent's Night Out
END:VEVENT
BEGIN:VEVENT
DTSTART;TZID=America/Chicago:20260904T080000
DTEND;TZID=America/Chicago:20260904T120000
DTSTAMP:20260423T063332
CREATED:20260222T210620Z
LAST-MODIFIED:20260222T210620Z
UID:10004336-1788508800-1788523200@lopbc.org
SUMMARY:VBS 2026
DESCRIPTION:
URL:https://lopbc.org/church_event/vbs-2026/2026-09-04/
CATEGORIES:Children's Ministry
END:VEVENT
BEGIN:VEVENT
DTSTART;TZID=America/Chicago:20260905T080000
DTEND;TZID=America/Chicago:20260905T120000
DTSTAMP:20260423T063332
CREATED:20260222T210620Z
LAST-MODIFIED:20260222T210620Z
UID:10004337-1788595200-1788609600@lopbc.org
SUMMARY:VBS 2026
DESCRIPTION:
URL:https://lopbc.org/church_event/vbs-2026/2026-09-05/
CATEGORIES:Children's Ministry
END:VEVENT
BEGIN:VEVENT
DTSTART;TZID=America/Chicago:20260906T080000
DTEND;TZID=America/Chicago:20260906T120000
DTSTAMP:20260423T063332
CREATED:20260222T210620Z
LAST-MODIFIED:20260222T210620Z
UID:10004338-1788681600-1788696000@lopbc.org
SUMMARY:VBS 2026
DESCRIPTION:
URL:https://lopbc.org/church_event/vbs-2026/2026-09-06/
CATEGORIES:Children's Ministry
END:VEVENT
BEGIN:VEVENT
DTSTART;TZID=America/Chicago:20260907T080000
DTEND;TZID=America/Chicago:20260907T120000
DTSTAMP:20260423T063332
CREATED:20260222T210620Z
LAST-MODIFIED:20260222T210620Z
UID:10004339-1788768000-1788782400@lopbc.org
SUMMARY:VBS 2026
DESCRIPTION:
URL:https://lopbc.org/church_event/vbs-2026/2026-09-07/
CATEGORIES:Children's Ministry
END:VEVENT
BEGIN:VEVENT
DTSTART;TZID=America/Chicago:20260908T080000
DTEND;TZID=America/Chicago:20260908T120000
DTSTAMP:20260423T063332
CREATED:20260222T210620Z
LAST-MODIFIED:20260222T210620Z
UID:10004340-1788854400-1788868800@lopbc.org
SUMMARY:VBS 2026
DESCRIPTION:
URL:https://lopbc.org/church_event/vbs-2026/2026-09-08/
CATEGORIES:Children's Ministry
END:VEVENT
BEGIN:VEVENT
DTSTART;TZID=America/Chicago:20260909T080000
DTEND;TZID=America/Chicago:20260909T120000
DTSTAMP:20260423T063332
CREATED:20260222T210620Z
LAST-MODIFIED:20260222T210620Z
UID:10004341-1788940800-1788955200@lopbc.org
SUMMARY:VBS 2026
DESCRIPTION:
URL:https://lopbc.org/church_event/vbs-2026/2026-09-09/
CATEGORIES:Children's Ministry
END:VEVENT
BEGIN:VEVENT
DTSTART;TZID=America/Chicago:20260910T080000
DTEND;TZID=America/Chicago:20260910T120000
DTSTAMP:20260423T063332
CREATED:20260222T210620Z
LAST-MODIFIED:20260222T210620Z
UID:10004342-1789027200-1789041600@lopbc.org
SUMMARY:VBS 2026
DESCRIPTION:
URL:https://lopbc.org/church_event/vbs-2026/2026-09-10/
CATEGORIES:Children's Ministry
END:VEVENT
BEGIN:VEVENT
DTSTART;TZID=America/Chicago:20260911T080000
DTEND;TZID=America/Chicago:20260911T120000
DTSTAMP:20260423T063332
CREATED:20260222T210620Z
LAST-MODIFIED:20260222T210620Z
UID:10004343-1789113600-1789128000@lopbc.org
SUMMARY:VBS 2026
DESCRIPTION:
URL:https://lopbc.org/church_event/vbs-2026/2026-09-11/
CATEGORIES:Children's Ministry
END:VEVENT
BEGIN:VEVENT
DTSTART;TZID=America/Chicago:20260912T080000
DTEND;TZID=America/Chicago:20260912T120000
DTSTAMP:20260423T063332
CREATED:20260222T210620Z
LAST-MODIFIED:20260222T210620Z
UID:10004344-1789200000-1789214400@lopbc.org
SUMMARY:VBS 2026
DESCRIPTION:
URL:https://lopbc.org/church_event/vbs-2026/2026-09-12/
CATEGORIES:Children's Ministry
END:VEVENT
BEGIN:VEVENT
DTSTART;TZID=America/Chicago:20260913T080000
DTEND;TZID=America/Chicago:20260913T120000
DTSTAMP:20260423T063332
CREATED:20260222T210620Z
LAST-MODIFIED:20260222T210620Z
UID:10004345-1789286400-1789300800@lopbc.org
SUMMARY:VBS 2026
DESCRIPTION:
URL:https://lopbc.org/church_event/vbs-2026/2026-09-13/
CATEGORIES:Children's Ministry
END:VEVENT
BEGIN:VEVENT
DTSTART;TZID=America/Chicago:20260914T080000
DTEND;TZID=America/Chicago:20260914T120000
DTSTAMP:20260423T063332
CREATED:20260222T210620Z
LAST-MODIFIED:20260222T210620Z
UID:10004346-1789372800-1789387200@lopbc.org
SUMMARY:VBS 2026
DESCRIPTION:
URL:https://lopbc.org/church_event/vbs-2026/2026-09-14/
CATEGORIES:Children's Ministry
END:VEVENT
BEGIN:VEVENT
DTSTART;TZID=America/Chicago:20260915T080000
DTEND;TZID=America/Chicago:20260915T120000
DTSTAMP:20260423T063332
CREATED:20260222T210620Z
LAST-MODIFIED:20260222T210620Z
UID:10004347-1789459200-1789473600@lopbc.org
SUMMARY:VBS 2026
DESCRIPTION:
URL:https://lopbc.org/church_event/vbs-2026/2026-09-15/
CATEGORIES:Children's Ministry
END:VEVENT
BEGIN:VEVENT
DTSTART;TZID=America/Chicago:20260916T080000
DTEND;TZID=America/Chicago:20260916T120000
DTSTAMP:20260423T063332
CREATED:20260222T210620Z
LAST-MODIFIED:20260222T210620Z
UID:10004348-1789545600-1789560000@lopbc.org
SUMMARY:VBS 2026
DESCRIPTION:
URL:https://lopbc.org/church_event/vbs-2026/2026-09-16/
CATEGORIES:Children's Ministry
END:VEVENT
BEGIN:VEVENT
DTSTART;TZID=America/Chicago:20260917T080000
DTEND;TZID=America/Chicago:20260917T120000
DTSTAMP:20260423T063333
CREATED:20260222T210620Z
LAST-MODIFIED:20260222T210620Z
UID:10004349-1789632000-1789646400@lopbc.org
SUMMARY:VBS 2026
DESCRIPTION:
URL:https://lopbc.org/church_event/vbs-2026/2026-09-17/
CATEGORIES:Children's Ministry
END:VEVENT
BEGIN:VEVENT
DTSTART;TZID=America/Chicago:20260918T080000
DTEND;TZID=America/Chicago:20260918T120000
DTSTAMP:20260423T063333
CREATED:20260222T210620Z
LAST-MODIFIED:20260222T210620Z
UID:10004350-1789718400-1789732800@lopbc.org
SUMMARY:VBS 2026
DESCRIPTION:
URL:https://lopbc.org/church_event/vbs-2026/2026-09-18/
CATEGORIES:Children's Ministry
END:VEVENT
BEGIN:VEVENT
DTSTART;TZID=America/Chicago:20260919T080000
DTEND;TZID=America/Chicago:20260919T120000
DTSTAMP:20260423T063333
CREATED:20260222T210620Z
LAST-MODIFIED:20260222T210620Z
UID:10004351-1789804800-1789819200@lopbc.org
SUMMARY:VBS 2026
DESCRIPTION:
URL:https://lopbc.org/church_event/vbs-2026/2026-09-19/
CATEGORIES:Children's Ministry
END:VEVENT
BEGIN:VEVENT
DTSTART;TZID=America/Chicago:20260920T080000
DTEND;TZID=America/Chicago:20260920T120000
DTSTAMP:20260423T063333
CREATED:20260222T210620Z
LAST-MODIFIED:20260222T210620Z
UID:10004352-1789891200-1789905600@lopbc.org
SUMMARY:VBS 2026
DESCRIPTION:
URL:https://lopbc.org/church_event/vbs-2026/2026-09-20/
CATEGORIES:Children's Ministry
END:VEVENT
BEGIN:VEVENT
DTSTART;TZID=America/Chicago:20260920T160000
DTEND;TZID=America/Chicago:20260920T170000
DTSTAMP:20260423T063333
CREATED:20260222T213435Z
LAST-MODIFIED:20260222T213435Z
UID:10004643-1789920000-1789923600@lopbc.org
SUMMARY:Christmas Play Rehearsal
DESCRIPTION:
URL:https://lopbc.org/church_event/christmas-play-rehearsal/2026-09-20/
CATEGORIES:Children's Ministry
END:VEVENT
BEGIN:VEVENT
DTSTART;TZID=America/Chicago:20260921T080000
DTEND;TZID=America/Chicago:20260921T120000
DTSTAMP:20260423T063333
CREATED:20260222T210620Z
LAST-MODIFIED:20260222T210620Z
UID:10004353-1789977600-1789992000@lopbc.org
SUMMARY:VBS 2026
DESCRIPTION:
URL:https://lopbc.org/church_event/vbs-2026/2026-09-21/
CATEGORIES:Children's Ministry
END:VEVENT
BEGIN:VEVENT
DTSTART;TZID=America/Chicago:20260922T080000
DTEND;TZID=America/Chicago:20260922T120000
DTSTAMP:20260423T063333
CREATED:20260222T210620Z
LAST-MODIFIED:20260222T210620Z
UID:10004354-1790064000-1790078400@lopbc.org
SUMMARY:VBS 2026
DESCRIPTION:
URL:https://lopbc.org/church_event/vbs-2026/2026-09-22/
CATEGORIES:Children's Ministry
END:VEVENT
END:VCALENDAR