BEGIN:VCALENDAR
VERSION:2.0
PRODID:-//Lake O&#039; The Pines Baptist Church - ECPv6.15.20//NONSGML v1.0//EN
CALSCALE:GREGORIAN
METHOD:PUBLISH
X-WR-CALNAME:Lake O&#039; The Pines Baptist Church
X-ORIGINAL-URL:https://lopbc.org
X-WR-CALDESC:Events for Lake O&#039; The Pines Baptist Church
REFRESH-INTERVAL;VALUE=DURATION:PT1H
X-Robots-Tag:noindex
X-PUBLISHED-TTL:PT1H
BEGIN:VTIMEZONE
TZID:America/Chicago
BEGIN:DAYLIGHT
TZOFFSETFROM:-0600
TZOFFSETTO:-0500
TZNAME:CDT
DTSTART:20230312T080000
END:DAYLIGHT
BEGIN:STANDARD
TZOFFSETFROM:-0500
TZOFFSETTO:-0600
TZNAME:CST
DTSTART:20231105T070000
END:STANDARD
BEGIN:DAYLIGHT
TZOFFSETFROM:-0600
TZOFFSETTO:-0500
TZNAME:CDT
DTSTART:20240310T080000
END:DAYLIGHT
BEGIN:STANDARD
TZOFFSETFROM:-0500
TZOFFSETTO:-0600
TZNAME:CST
DTSTART:20241103T070000
END:STANDARD
BEGIN:DAYLIGHT
TZOFFSETFROM:-0600
TZOFFSETTO:-0500
TZNAME:CDT
DTSTART:20250309T080000
END:DAYLIGHT
BEGIN:STANDARD
TZOFFSETFROM:-0500
TZOFFSETTO:-0600
TZNAME:CST
DTSTART:20251102T070000
END:STANDARD
END:VTIMEZONE
BEGIN:VEVENT
DTSTART;TZID=America/Chicago:20241109T120000
DTEND;TZID=America/Chicago:20241109T133000
DTSTAMP:20260423T172645
CREATED:20240226T164335Z
LAST-MODIFIED:20240226T233955Z
UID:10000649-1731153600-1731159000@lopbc.org
SUMMARY:Chili Fund Raiser
DESCRIPTION:Enjoy some of East Texas’ finest chili while helping us raise funds for our new church building.
URL:https://lopbc.org/church_event/chili-fund-raiser/
LOCATION:Fellowship Hall\, 9046 FM729\, Avinger\, TX\, 75630
CATEGORIES:Church-wide,Community
END:VEVENT
BEGIN:VEVENT
DTSTART;TZID=America/Chicago:20241117T120000
DTEND;TZID=America/Chicago:20241117T133000
DTSTAMP:20260423T172645
CREATED:20240226T164504Z
LAST-MODIFIED:20240226T234037Z
UID:10000650-1731844800-1731850200@lopbc.org
SUMMARY:Church Thanksgiving Luncheon
DESCRIPTION:
URL:https://lopbc.org/church_event/church-thanksgiving-luncheon/
LOCATION:Fellowship Hall\, 9046 FM729\, Avinger\, TX\, 75630
CATEGORIES:Church-wide,Community
END:VEVENT
BEGIN:VEVENT
DTSTART;TZID=America/Chicago:20241127T173000
DTEND;TZID=America/Chicago:20241127T183000
DTSTAMP:20260423T172645
CREATED:20240226T164641Z
LAST-MODIFIED:20240226T233939Z
UID:10000651-1732728600-1732732200@lopbc.org
SUMMARY:No Meal or Van Service
DESCRIPTION:
URL:https://lopbc.org/church_event/no-meal-or-van-service/
CATEGORIES:Church-wide,Community
END:VEVENT
BEGIN:VEVENT
DTSTART;VALUE=DATE:20241128
DTEND;VALUE=DATE:20241129
DTSTAMP:20260423T172645
CREATED:20240226T182030Z
LAST-MODIFIED:20240227T000225Z
UID:10000823-1732752000-1732838399@lopbc.org
SUMMARY:Thanksgiving
DESCRIPTION:
URL:https://lopbc.org/church_event/thanksgiving/
CATEGORIES:Church-wide,Holiday
END:VEVENT
END:VCALENDAR