BEGIN:VCALENDAR
VERSION:2.0
PRODID:-//Lake O&#039; The Pines Baptist Church - ECPv6.15.20//NONSGML v1.0//EN
CALSCALE:GREGORIAN
METHOD:PUBLISH
X-WR-CALNAME:Lake O&#039; The Pines Baptist Church
X-ORIGINAL-URL:https://lopbc.org
X-WR-CALDESC:Events for Lake O&#039; The Pines Baptist Church
REFRESH-INTERVAL;VALUE=DURATION:PT1H
X-Robots-Tag:noindex
X-PUBLISHED-TTL:PT1H
BEGIN:VTIMEZONE
TZID:America/Chicago
BEGIN:DAYLIGHT
TZOFFSETFROM:-0600
TZOFFSETTO:-0500
TZNAME:CDT
DTSTART:20230312T080000
END:DAYLIGHT
BEGIN:STANDARD
TZOFFSETFROM:-0500
TZOFFSETTO:-0600
TZNAME:CST
DTSTART:20231105T070000
END:STANDARD
BEGIN:DAYLIGHT
TZOFFSETFROM:-0600
TZOFFSETTO:-0500
TZNAME:CDT
DTSTART:20240310T080000
END:DAYLIGHT
BEGIN:STANDARD
TZOFFSETFROM:-0500
TZOFFSETTO:-0600
TZNAME:CST
DTSTART:20241103T070000
END:STANDARD
BEGIN:DAYLIGHT
TZOFFSETFROM:-0600
TZOFFSETTO:-0500
TZNAME:CDT
DTSTART:20250309T080000
END:DAYLIGHT
BEGIN:STANDARD
TZOFFSETFROM:-0500
TZOFFSETTO:-0600
TZNAME:CST
DTSTART:20251102T070000
END:STANDARD
END:VTIMEZONE
BEGIN:VEVENT
DTSTART;TZID=America/Chicago:20241206T183000
DTEND;TZID=America/Chicago:20241206T203000
DTSTAMP:20260423T172059
CREATED:20240226T164751Z
LAST-MODIFIED:20240226T164751Z
UID:10000652-1733509800-1733517000@lopbc.org
SUMMARY:Adult Sunday School Teacher Party
DESCRIPTION:
URL:https://lopbc.org/church_event/adult-sunday-school-teacher-party/
LOCATION:Fellowship Hall\, 9046 FM729\, Avinger\, TX\, 75630
CATEGORIES:Church-wide
END:VEVENT
BEGIN:VEVENT
DTSTART;TZID=America/Chicago:20241215T180000
DTEND;TZID=America/Chicago:20241215T193000
DTSTAMP:20260423T172059
CREATED:20240226T165035Z
LAST-MODIFIED:20240226T165035Z
UID:10000655-1734285600-1734291000@lopbc.org
SUMMARY:Special Budget Meeting
DESCRIPTION:
URL:https://lopbc.org/church_event/special-budget-meeting/
LOCATION:Sanctuary\, 9046 FM729\, Avinger\, TX\, 75630\, United States
CATEGORIES:Church-wide,Committees
END:VEVENT
BEGIN:VEVENT
DTSTART;TZID=America/Chicago:20241218T183000
DTEND;TZID=America/Chicago:20241218T203000
DTSTAMP:20260423T172059
CREATED:20240226T165258Z
LAST-MODIFIED:20240226T233855Z
UID:10000656-1734546600-1734553800@lopbc.org
SUMMARY:Cocoa/Cookies/Caroling/Campfire
DESCRIPTION:
URL:https://lopbc.org/church_event/cocoa-cookies-caroling-campfire/
LOCATION:LOPBC Firepit\, 9046 FM729\, Avinger\, TX\, 75630\, United States
CATEGORIES:Children's Ministry,Church-wide,Community,Youth Ministry
END:VEVENT
BEGIN:VEVENT
DTSTART;TZID=America/Chicago:20241222T180000
DTEND;TZID=America/Chicago:20241222T190000
DTSTAMP:20260423T172059
CREATED:20240226T165357Z
LAST-MODIFIED:20240226T233830Z
UID:10000657-1734890400-1734894000@lopbc.org
SUMMARY:Christmas Play & Fellowship
DESCRIPTION:
URL:https://lopbc.org/church_event/christmas-play/
LOCATION:Sanctuary\, 9046 FM729\, Avinger\, TX\, 75630\, United States
CATEGORIES:Children's Ministry,Church-wide,Community,Youth Ministry
END:VEVENT
BEGIN:VEVENT
DTSTART;TZID=America/Chicago:20241224T183000
DTEND;TZID=America/Chicago:20241224T193000
DTSTAMP:20260423T172059
CREATED:20240226T171112Z
LAST-MODIFIED:20240226T202933Z
UID:10000674-1735065000-1735068600@lopbc.org
SUMMARY:Lord's Supper & Candle Light Service
DESCRIPTION:
URL:https://lopbc.org/church_event/lords-supper-candle-light-service/
LOCATION:Sanctuary\, 9046 FM729\, Avinger\, TX\, 75630\, United States
CATEGORIES:Church-wide,Community
END:VEVENT
BEGIN:VEVENT
DTSTART;VALUE=DATE:20241225
DTEND;VALUE=DATE:20241226
DTSTAMP:20260423T172059
CREATED:20240226T171208Z
LAST-MODIFIED:20240226T233503Z
UID:10000675-1735084800-1735171199@lopbc.org
SUMMARY:Christmas Day (No Service)
DESCRIPTION:
URL:https://lopbc.org/church_event/christmas-day-no-service/
CATEGORIES:Church-wide,Community
END:VEVENT
BEGIN:VEVENT
DTSTART;TZID=America/Chicago:20241231T183000
DTEND;TZID=America/Chicago:20241231T193000
DTSTAMP:20260423T172059
CREATED:20240226T171305Z
LAST-MODIFIED:20240226T233715Z
UID:10000676-1735669800-1735673400@lopbc.org
SUMMARY:New Year's Eve Party (No Service)
DESCRIPTION:
URL:https://lopbc.org/church_event/new-years-eve-party-no-sercice/
LOCATION:Fellowship Hall\, 9046 FM729\, Avinger\, TX\, 75630
CATEGORIES:Church-wide,Community
END:VEVENT
END:VCALENDAR