BEGIN:VCALENDAR
VERSION:2.0
PRODID:-//Lake O&#039; The Pines Baptist Church - ECPv6.15.20//NONSGML v1.0//EN
CALSCALE:GREGORIAN
METHOD:PUBLISH
X-WR-CALNAME:Lake O&#039; The Pines Baptist Church
X-ORIGINAL-URL:https://lopbc.org
X-WR-CALDESC:Events for Lake O&#039; The Pines Baptist Church
REFRESH-INTERVAL;VALUE=DURATION:PT1H
X-Robots-Tag:noindex
X-PUBLISHED-TTL:PT1H
BEGIN:VTIMEZONE
TZID:America/Chicago
BEGIN:DAYLIGHT
TZOFFSETFROM:-0600
TZOFFSETTO:-0500
TZNAME:CDT
DTSTART:20270314T080000
END:DAYLIGHT
BEGIN:STANDARD
TZOFFSETFROM:-0500
TZOFFSETTO:-0600
TZNAME:CST
DTSTART:20271107T070000
END:STANDARD
BEGIN:DAYLIGHT
TZOFFSETFROM:-0600
TZOFFSETTO:-0500
TZNAME:CDT
DTSTART:20280312T080000
END:DAYLIGHT
BEGIN:STANDARD
TZOFFSETFROM:-0500
TZOFFSETTO:-0600
TZNAME:CST
DTSTART:20281105T070000
END:STANDARD
BEGIN:DAYLIGHT
TZOFFSETFROM:-0600
TZOFFSETTO:-0500
TZNAME:CDT
DTSTART:20290311T080000
END:DAYLIGHT
BEGIN:STANDARD
TZOFFSETFROM:-0500
TZOFFSETTO:-0600
TZNAME:CST
DTSTART:20291104T070000
END:STANDARD
END:VTIMEZONE
BEGIN:VEVENT
DTSTART;TZID=America/Chicago:20280802T180000
DTEND;TZID=America/Chicago:20280802T183000
DTSTAMP:20260424T230932
CREATED:20250130T214435Z
LAST-MODIFIED:20260222T204211Z
UID:10002926-1848852000-1848853800@lopbc.org
SUMMARY:Family Night Meal
DESCRIPTION:
URL:https://lopbc.org/church_event/family-night-meal/2028-08-02/
LOCATION:Fellowship Hall\, 9046 FM729\, Avinger\, TX\, 75630
CATEGORIES:Church-wide,Community
END:VEVENT
BEGIN:VEVENT
DTSTART;TZID=America/Chicago:20280802T183000
DTEND;TZID=America/Chicago:20280802T193000
DTSTAMP:20260424T230932
CREATED:20250130T214249Z
LAST-MODIFIED:20260222T200208Z
UID:10002660-1848853800-1848857400@lopbc.org
SUMMARY:Family Night Worship
DESCRIPTION:
URL:https://lopbc.org/church_event/wednesday-night-worship/2028-08-02/
LOCATION:Sanctuary\, 9046 FM729\, Avinger\, TX\, 75630\, United States
CATEGORIES:Church-wide,Community,Worship
END:VEVENT
BEGIN:VEVENT
DTSTART;TZID=America/Chicago:20280806T093000
DTEND;TZID=America/Chicago:20280806T104500
DTSTAMP:20260424T230932
CREATED:20250130T213312Z
LAST-MODIFIED:20250131T005604Z
UID:10002127-1849167000-1849171500@lopbc.org
SUMMARY:Sunday AM Sunday School
DESCRIPTION:
URL:https://lopbc.org/church_event/sunday-am-sunday-school-2/2028-08-06/
LOCATION:Classrooms\, 9046 FM729\, Avinger\, TX\, 75630\, United States
CATEGORIES:Church-wide,Community,Sunday School
END:VEVENT
BEGIN:VEVENT
DTSTART;TZID=America/Chicago:20280806T110000
DTEND;TZID=America/Chicago:20280806T123000
DTSTAMP:20260424T230932
CREATED:20250130T213205Z
LAST-MODIFIED:20250131T161102Z
UID:10001861-1849172400-1849177800@lopbc.org
SUMMARY:Sunday AM Worship
DESCRIPTION:
URL:https://lopbc.org/church_event/sunday-am-worship/2028-08-06/
LOCATION:Sanctuary\, 9046 FM729\, Avinger\, TX\, 75630\, United States
CATEGORIES:Church-wide,Community,Worship
END:VEVENT
BEGIN:VEVENT
DTSTART;TZID=America/Chicago:20280806T180000
DTEND;TZID=America/Chicago:20280806T190000
DTSTAMP:20260424T230932
CREATED:20250130T213902Z
LAST-MODIFIED:20260222T210931Z
UID:10002396-1849197600-1849201200@lopbc.org
SUMMARY:Sunday Evening Worship
DESCRIPTION:
URL:https://lopbc.org/church_event/sunday-evening-worship/2028-08-06/
LOCATION:Sanctuary\, 9046 FM729\, Avinger\, TX\, 75630\, United States
CATEGORIES:Church-wide,Community,Worship
END:VEVENT
BEGIN:VEVENT
DTSTART;TZID=America/Chicago:20280809T180000
DTEND;TZID=America/Chicago:20280809T183000
DTSTAMP:20260424T230932
CREATED:20250130T214435Z
LAST-MODIFIED:20260222T204211Z
UID:10002927-1849456800-1849458600@lopbc.org
SUMMARY:Family Night Meal
DESCRIPTION:
URL:https://lopbc.org/church_event/family-night-meal/2028-08-09/
LOCATION:Fellowship Hall\, 9046 FM729\, Avinger\, TX\, 75630
CATEGORIES:Church-wide,Community
END:VEVENT
BEGIN:VEVENT
DTSTART;TZID=America/Chicago:20280809T183000
DTEND;TZID=America/Chicago:20280809T193000
DTSTAMP:20260424T230932
CREATED:20250130T214249Z
LAST-MODIFIED:20260222T200208Z
UID:10002661-1849458600-1849462200@lopbc.org
SUMMARY:Family Night Worship
DESCRIPTION:
URL:https://lopbc.org/church_event/wednesday-night-worship/2028-08-09/
LOCATION:Sanctuary\, 9046 FM729\, Avinger\, TX\, 75630\, United States
CATEGORIES:Church-wide,Community,Worship
END:VEVENT
BEGIN:VEVENT
DTSTART;TZID=America/Chicago:20280813T093000
DTEND;TZID=America/Chicago:20280813T104500
DTSTAMP:20260424T230932
CREATED:20250130T213312Z
LAST-MODIFIED:20250131T005604Z
UID:10002128-1849771800-1849776300@lopbc.org
SUMMARY:Sunday AM Sunday School
DESCRIPTION:
URL:https://lopbc.org/church_event/sunday-am-sunday-school-2/2028-08-13/
LOCATION:Classrooms\, 9046 FM729\, Avinger\, TX\, 75630\, United States
CATEGORIES:Church-wide,Community,Sunday School
END:VEVENT
BEGIN:VEVENT
DTSTART;TZID=America/Chicago:20280813T110000
DTEND;TZID=America/Chicago:20280813T123000
DTSTAMP:20260424T230932
CREATED:20250130T213205Z
LAST-MODIFIED:20250131T161102Z
UID:10001862-1849777200-1849782600@lopbc.org
SUMMARY:Sunday AM Worship
DESCRIPTION:
URL:https://lopbc.org/church_event/sunday-am-worship/2028-08-13/
LOCATION:Sanctuary\, 9046 FM729\, Avinger\, TX\, 75630\, United States
CATEGORIES:Church-wide,Community,Worship
END:VEVENT
BEGIN:VEVENT
DTSTART;TZID=America/Chicago:20280813T180000
DTEND;TZID=America/Chicago:20280813T190000
DTSTAMP:20260424T230932
CREATED:20250130T213902Z
LAST-MODIFIED:20260222T210931Z
UID:10002397-1849802400-1849806000@lopbc.org
SUMMARY:Sunday Evening Worship
DESCRIPTION:
URL:https://lopbc.org/church_event/sunday-evening-worship/2028-08-13/
LOCATION:Sanctuary\, 9046 FM729\, Avinger\, TX\, 75630\, United States
CATEGORIES:Church-wide,Community,Worship
END:VEVENT
BEGIN:VEVENT
DTSTART;TZID=America/Chicago:20280816T180000
DTEND;TZID=America/Chicago:20280816T183000
DTSTAMP:20260424T230932
CREATED:20250130T214435Z
LAST-MODIFIED:20260222T204211Z
UID:10002928-1850061600-1850063400@lopbc.org
SUMMARY:Family Night Meal
DESCRIPTION:
URL:https://lopbc.org/church_event/family-night-meal/2028-08-16/
LOCATION:Fellowship Hall\, 9046 FM729\, Avinger\, TX\, 75630
CATEGORIES:Church-wide,Community
END:VEVENT
BEGIN:VEVENT
DTSTART;TZID=America/Chicago:20280816T183000
DTEND;TZID=America/Chicago:20280816T193000
DTSTAMP:20260424T230932
CREATED:20250130T214249Z
LAST-MODIFIED:20260222T200208Z
UID:10002662-1850063400-1850067000@lopbc.org
SUMMARY:Family Night Worship
DESCRIPTION:
URL:https://lopbc.org/church_event/wednesday-night-worship/2028-08-16/
LOCATION:Sanctuary\, 9046 FM729\, Avinger\, TX\, 75630\, United States
CATEGORIES:Church-wide,Community,Worship
END:VEVENT
BEGIN:VEVENT
DTSTART;TZID=America/Chicago:20280820T093000
DTEND;TZID=America/Chicago:20280820T104500
DTSTAMP:20260424T230932
CREATED:20250130T213312Z
LAST-MODIFIED:20250131T005604Z
UID:10002129-1850376600-1850381100@lopbc.org
SUMMARY:Sunday AM Sunday School
DESCRIPTION:
URL:https://lopbc.org/church_event/sunday-am-sunday-school-2/2028-08-20/
LOCATION:Classrooms\, 9046 FM729\, Avinger\, TX\, 75630\, United States
CATEGORIES:Church-wide,Community,Sunday School
END:VEVENT
BEGIN:VEVENT
DTSTART;TZID=America/Chicago:20280820T110000
DTEND;TZID=America/Chicago:20280820T123000
DTSTAMP:20260424T230932
CREATED:20250130T213205Z
LAST-MODIFIED:20250131T161102Z
UID:10001863-1850382000-1850387400@lopbc.org
SUMMARY:Sunday AM Worship
DESCRIPTION:
URL:https://lopbc.org/church_event/sunday-am-worship/2028-08-20/
LOCATION:Sanctuary\, 9046 FM729\, Avinger\, TX\, 75630\, United States
CATEGORIES:Church-wide,Community,Worship
END:VEVENT
BEGIN:VEVENT
DTSTART;TZID=America/Chicago:20280820T180000
DTEND;TZID=America/Chicago:20280820T190000
DTSTAMP:20260424T230932
CREATED:20250130T213902Z
LAST-MODIFIED:20260222T210931Z
UID:10002398-1850407200-1850410800@lopbc.org
SUMMARY:Sunday Evening Worship
DESCRIPTION:
URL:https://lopbc.org/church_event/sunday-evening-worship/2028-08-20/
LOCATION:Sanctuary\, 9046 FM729\, Avinger\, TX\, 75630\, United States
CATEGORIES:Church-wide,Community,Worship
END:VEVENT
BEGIN:VEVENT
DTSTART;TZID=America/Chicago:20280823T180000
DTEND;TZID=America/Chicago:20280823T183000
DTSTAMP:20260424T230932
CREATED:20250130T214435Z
LAST-MODIFIED:20260222T204211Z
UID:10002929-1850666400-1850668200@lopbc.org
SUMMARY:Family Night Meal
DESCRIPTION:
URL:https://lopbc.org/church_event/family-night-meal/2028-08-23/
LOCATION:Fellowship Hall\, 9046 FM729\, Avinger\, TX\, 75630
CATEGORIES:Church-wide,Community
END:VEVENT
BEGIN:VEVENT
DTSTART;TZID=America/Chicago:20280823T183000
DTEND;TZID=America/Chicago:20280823T193000
DTSTAMP:20260424T230932
CREATED:20250130T214249Z
LAST-MODIFIED:20260222T200208Z
UID:10002663-1850668200-1850671800@lopbc.org
SUMMARY:Family Night Worship
DESCRIPTION:
URL:https://lopbc.org/church_event/wednesday-night-worship/2028-08-23/
LOCATION:Sanctuary\, 9046 FM729\, Avinger\, TX\, 75630\, United States
CATEGORIES:Church-wide,Community,Worship
END:VEVENT
BEGIN:VEVENT
DTSTART;TZID=America/Chicago:20280827T093000
DTEND;TZID=America/Chicago:20280827T104500
DTSTAMP:20260424T230932
CREATED:20250130T213312Z
LAST-MODIFIED:20250131T005604Z
UID:10002130-1850981400-1850985900@lopbc.org
SUMMARY:Sunday AM Sunday School
DESCRIPTION:
URL:https://lopbc.org/church_event/sunday-am-sunday-school-2/2028-08-27/
LOCATION:Classrooms\, 9046 FM729\, Avinger\, TX\, 75630\, United States
CATEGORIES:Church-wide,Community,Sunday School
END:VEVENT
BEGIN:VEVENT
DTSTART;TZID=America/Chicago:20280827T110000
DTEND;TZID=America/Chicago:20280827T123000
DTSTAMP:20260424T230932
CREATED:20250130T213205Z
LAST-MODIFIED:20250131T161102Z
UID:10001864-1850986800-1850992200@lopbc.org
SUMMARY:Sunday AM Worship
DESCRIPTION:
URL:https://lopbc.org/church_event/sunday-am-worship/2028-08-27/
LOCATION:Sanctuary\, 9046 FM729\, Avinger\, TX\, 75630\, United States
CATEGORIES:Church-wide,Community,Worship
END:VEVENT
BEGIN:VEVENT
DTSTART;TZID=America/Chicago:20280827T180000
DTEND;TZID=America/Chicago:20280827T190000
DTSTAMP:20260424T230932
CREATED:20250130T213902Z
LAST-MODIFIED:20260222T210931Z
UID:10002399-1851012000-1851015600@lopbc.org
SUMMARY:Sunday Evening Worship
DESCRIPTION:
URL:https://lopbc.org/church_event/sunday-evening-worship/2028-08-27/
LOCATION:Sanctuary\, 9046 FM729\, Avinger\, TX\, 75630\, United States
CATEGORIES:Church-wide,Community,Worship
END:VEVENT
BEGIN:VEVENT
DTSTART;TZID=America/Chicago:20280830T180000
DTEND;TZID=America/Chicago:20280830T183000
DTSTAMP:20260424T230932
CREATED:20250130T214435Z
LAST-MODIFIED:20260222T204211Z
UID:10002930-1851271200-1851273000@lopbc.org
SUMMARY:Family Night Meal
DESCRIPTION:
URL:https://lopbc.org/church_event/family-night-meal/2028-08-30/
LOCATION:Fellowship Hall\, 9046 FM729\, Avinger\, TX\, 75630
CATEGORIES:Church-wide,Community
END:VEVENT
BEGIN:VEVENT
DTSTART;TZID=America/Chicago:20280830T183000
DTEND;TZID=America/Chicago:20280830T193000
DTSTAMP:20260424T230932
CREATED:20250130T214249Z
LAST-MODIFIED:20260222T200208Z
UID:10002664-1851273000-1851276600@lopbc.org
SUMMARY:Family Night Worship
DESCRIPTION:
URL:https://lopbc.org/church_event/wednesday-night-worship/2028-08-30/
LOCATION:Sanctuary\, 9046 FM729\, Avinger\, TX\, 75630\, United States
CATEGORIES:Church-wide,Community,Worship
END:VEVENT
END:VCALENDAR