BEGIN:VCALENDAR
VERSION:2.0
PRODID:-//Lake O&#039; The Pines Baptist Church - ECPv6.15.20//NONSGML v1.0//EN
CALSCALE:GREGORIAN
METHOD:PUBLISH
X-WR-CALNAME:Lake O&#039; The Pines Baptist Church
X-ORIGINAL-URL:https://lopbc.org
X-WR-CALDESC:Events for Lake O&#039; The Pines Baptist Church
REFRESH-INTERVAL;VALUE=DURATION:PT1H
X-Robots-Tag:noindex
X-PUBLISHED-TTL:PT1H
BEGIN:VTIMEZONE
TZID:America/Chicago
BEGIN:DAYLIGHT
TZOFFSETFROM:-0600
TZOFFSETTO:-0500
TZNAME:CDT
DTSTART:20250309T080000
END:DAYLIGHT
BEGIN:STANDARD
TZOFFSETFROM:-0500
TZOFFSETTO:-0600
TZNAME:CST
DTSTART:20251102T070000
END:STANDARD
BEGIN:DAYLIGHT
TZOFFSETFROM:-0600
TZOFFSETTO:-0500
TZNAME:CDT
DTSTART:20260308T080000
END:DAYLIGHT
BEGIN:STANDARD
TZOFFSETFROM:-0500
TZOFFSETTO:-0600
TZNAME:CST
DTSTART:20261101T070000
END:STANDARD
BEGIN:DAYLIGHT
TZOFFSETFROM:-0600
TZOFFSETTO:-0500
TZNAME:CDT
DTSTART:20270314T080000
END:DAYLIGHT
BEGIN:STANDARD
TZOFFSETFROM:-0500
TZOFFSETTO:-0600
TZNAME:CST
DTSTART:20271107T070000
END:STANDARD
END:VTIMEZONE
BEGIN:VEVENT
DTSTART;TZID=America/Chicago:20260218T180000
DTEND;TZID=America/Chicago:20260218T183000
DTSTAMP:20260423T052601
CREATED:20250130T214435Z
LAST-MODIFIED:20260222T204211Z
UID:10002798-1771437600-1771439400@lopbc.org
SUMMARY:Family Night Meal
DESCRIPTION:
URL:https://lopbc.org/church_event/family-night-meal/2026-02-18/
LOCATION:Fellowship Hall\, 9046 FM729\, Avinger\, TX\, 75630
CATEGORIES:Church-wide,Community
END:VEVENT
BEGIN:VEVENT
DTSTART;TZID=America/Chicago:20260215T180000
DTEND;TZID=America/Chicago:20260215T190000
DTSTAMP:20260423T052601
CREATED:20250130T213902Z
LAST-MODIFIED:20260222T210931Z
UID:10002267-1771178400-1771182000@lopbc.org
SUMMARY:Sunday Evening Worship
DESCRIPTION:
URL:https://lopbc.org/church_event/sunday-evening-worship/2026-02-15/
LOCATION:Sanctuary\, 9046 FM729\, Avinger\, TX\, 75630\, United States
CATEGORIES:Church-wide,Community,Worship
END:VEVENT
BEGIN:VEVENT
DTSTART;TZID=America/Chicago:20260215T110000
DTEND;TZID=America/Chicago:20260215T123000
DTSTAMP:20260423T052601
CREATED:20250130T213205Z
LAST-MODIFIED:20250131T161102Z
UID:10001732-1771153200-1771158600@lopbc.org
SUMMARY:Sunday AM Worship
DESCRIPTION:
URL:https://lopbc.org/church_event/sunday-am-worship/2026-02-15/
LOCATION:Sanctuary\, 9046 FM729\, Avinger\, TX\, 75630\, United States
CATEGORIES:Church-wide,Community,Worship
END:VEVENT
BEGIN:VEVENT
DTSTART;TZID=America/Chicago:20260215T093000
DTEND;TZID=America/Chicago:20260215T104500
DTSTAMP:20260423T052601
CREATED:20250130T213312Z
LAST-MODIFIED:20250131T005604Z
UID:10001998-1771147800-1771152300@lopbc.org
SUMMARY:Sunday AM Sunday School
DESCRIPTION:
URL:https://lopbc.org/church_event/sunday-am-sunday-school-2/2026-02-15/
LOCATION:Classrooms\, 9046 FM729\, Avinger\, TX\, 75630\, United States
CATEGORIES:Church-wide,Community,Sunday School
END:VEVENT
BEGIN:VEVENT
DTSTART;TZID=America/Chicago:20260211T183000
DTEND;TZID=America/Chicago:20260211T193000
DTSTAMP:20260423T052601
CREATED:20250130T214249Z
LAST-MODIFIED:20260222T200208Z
UID:10002531-1770834600-1770838200@lopbc.org
SUMMARY:Family Night Worship
DESCRIPTION:
URL:https://lopbc.org/church_event/wednesday-night-worship/2026-02-11/
LOCATION:Sanctuary\, 9046 FM729\, Avinger\, TX\, 75630\, United States
CATEGORIES:Church-wide,Community,Worship
END:VEVENT
BEGIN:VEVENT
DTSTART;TZID=America/Chicago:20260211T180000
DTEND;TZID=America/Chicago:20260211T183000
DTSTAMP:20260423T052601
CREATED:20250130T214435Z
LAST-MODIFIED:20260222T204211Z
UID:10002797-1770832800-1770834600@lopbc.org
SUMMARY:Family Night Meal
DESCRIPTION:
URL:https://lopbc.org/church_event/family-night-meal/2026-02-11/
LOCATION:Fellowship Hall\, 9046 FM729\, Avinger\, TX\, 75630
CATEGORIES:Church-wide,Community
END:VEVENT
BEGIN:VEVENT
DTSTART;TZID=America/Chicago:20260208T180000
DTEND;TZID=America/Chicago:20260208T190000
DTSTAMP:20260423T052601
CREATED:20250130T213902Z
LAST-MODIFIED:20260222T210931Z
UID:10002266-1770573600-1770577200@lopbc.org
SUMMARY:Sunday Evening Worship
DESCRIPTION:
URL:https://lopbc.org/church_event/sunday-evening-worship/2026-02-08/
LOCATION:Sanctuary\, 9046 FM729\, Avinger\, TX\, 75630\, United States
CATEGORIES:Church-wide,Community,Worship
END:VEVENT
BEGIN:VEVENT
DTSTART;TZID=America/Chicago:20260208T110000
DTEND;TZID=America/Chicago:20260208T123000
DTSTAMP:20260423T052601
CREATED:20250130T213205Z
LAST-MODIFIED:20250131T161102Z
UID:10001731-1770548400-1770553800@lopbc.org
SUMMARY:Sunday AM Worship
DESCRIPTION:
URL:https://lopbc.org/church_event/sunday-am-worship/2026-02-08/
LOCATION:Sanctuary\, 9046 FM729\, Avinger\, TX\, 75630\, United States
CATEGORIES:Church-wide,Community,Worship
END:VEVENT
BEGIN:VEVENT
DTSTART;TZID=America/Chicago:20260208T093000
DTEND;TZID=America/Chicago:20260208T104500
DTSTAMP:20260423T052601
CREATED:20250130T213312Z
LAST-MODIFIED:20250131T005604Z
UID:10001997-1770543000-1770547500@lopbc.org
SUMMARY:Sunday AM Sunday School
DESCRIPTION:
URL:https://lopbc.org/church_event/sunday-am-sunday-school-2/2026-02-08/
LOCATION:Classrooms\, 9046 FM729\, Avinger\, TX\, 75630\, United States
CATEGORIES:Church-wide,Community,Sunday School
END:VEVENT
BEGIN:VEVENT
DTSTART;TZID=America/Chicago:20260204T183000
DTEND;TZID=America/Chicago:20260204T193000
DTSTAMP:20260423T052601
CREATED:20250130T214249Z
LAST-MODIFIED:20260222T200208Z
UID:10002530-1770229800-1770233400@lopbc.org
SUMMARY:Family Night Worship
DESCRIPTION:
URL:https://lopbc.org/church_event/wednesday-night-worship/2026-02-04/
LOCATION:Sanctuary\, 9046 FM729\, Avinger\, TX\, 75630\, United States
CATEGORIES:Church-wide,Community,Worship
END:VEVENT
BEGIN:VEVENT
DTSTART;TZID=America/Chicago:20260204T180000
DTEND;TZID=America/Chicago:20260204T183000
DTSTAMP:20260423T052601
CREATED:20250130T214435Z
LAST-MODIFIED:20260222T204211Z
UID:10002796-1770228000-1770229800@lopbc.org
SUMMARY:Family Night Meal
DESCRIPTION:
URL:https://lopbc.org/church_event/family-night-meal/2026-02-04/
LOCATION:Fellowship Hall\, 9046 FM729\, Avinger\, TX\, 75630
CATEGORIES:Church-wide,Community
END:VEVENT
BEGIN:VEVENT
DTSTART;TZID=America/Chicago:20260201T180000
DTEND;TZID=America/Chicago:20260201T190000
DTSTAMP:20260423T052601
CREATED:20250130T213902Z
LAST-MODIFIED:20260222T210931Z
UID:10002265-1769968800-1769972400@lopbc.org
SUMMARY:Sunday Evening Worship
DESCRIPTION:
URL:https://lopbc.org/church_event/sunday-evening-worship/2026-02-01/
LOCATION:Sanctuary\, 9046 FM729\, Avinger\, TX\, 75630\, United States
CATEGORIES:Church-wide,Community,Worship
END:VEVENT
BEGIN:VEVENT
DTSTART;TZID=America/Chicago:20260201T110000
DTEND;TZID=America/Chicago:20260201T123000
DTSTAMP:20260423T052601
CREATED:20250130T213205Z
LAST-MODIFIED:20250131T161102Z
UID:10001730-1769943600-1769949000@lopbc.org
SUMMARY:Sunday AM Worship
DESCRIPTION:
URL:https://lopbc.org/church_event/sunday-am-worship/2026-02-01/
LOCATION:Sanctuary\, 9046 FM729\, Avinger\, TX\, 75630\, United States
CATEGORIES:Church-wide,Community,Worship
END:VEVENT
BEGIN:VEVENT
DTSTART;TZID=America/Chicago:20260201T093000
DTEND;TZID=America/Chicago:20260201T104500
DTSTAMP:20260423T052601
CREATED:20250130T213312Z
LAST-MODIFIED:20250131T005604Z
UID:10001996-1769938200-1769942700@lopbc.org
SUMMARY:Sunday AM Sunday School
DESCRIPTION:
URL:https://lopbc.org/church_event/sunday-am-sunday-school-2/2026-02-01/
LOCATION:Classrooms\, 9046 FM729\, Avinger\, TX\, 75630\, United States
CATEGORIES:Church-wide,Community,Sunday School
END:VEVENT
BEGIN:VEVENT
DTSTART;TZID=America/Chicago:20260128T183000
DTEND;TZID=America/Chicago:20260128T193000
DTSTAMP:20260423T052601
CREATED:20250130T214249Z
LAST-MODIFIED:20260222T200208Z
UID:10002529-1769625000-1769628600@lopbc.org
SUMMARY:Family Night Worship
DESCRIPTION:
URL:https://lopbc.org/church_event/wednesday-night-worship/2026-01-28/
LOCATION:Sanctuary\, 9046 FM729\, Avinger\, TX\, 75630\, United States
CATEGORIES:Church-wide,Community,Worship
END:VEVENT
BEGIN:VEVENT
DTSTART;TZID=America/Chicago:20260128T180000
DTEND;TZID=America/Chicago:20260128T183000
DTSTAMP:20260423T052601
CREATED:20250130T214435Z
LAST-MODIFIED:20260222T204211Z
UID:10002795-1769623200-1769625000@lopbc.org
SUMMARY:Family Night Meal
DESCRIPTION:
URL:https://lopbc.org/church_event/family-night-meal/2026-01-28/
LOCATION:Fellowship Hall\, 9046 FM729\, Avinger\, TX\, 75630
CATEGORIES:Church-wide,Community
END:VEVENT
BEGIN:VEVENT
DTSTART;TZID=America/Chicago:20260125T180000
DTEND;TZID=America/Chicago:20260125T190000
DTSTAMP:20260423T052601
CREATED:20250130T213902Z
LAST-MODIFIED:20260222T210931Z
UID:10002264-1769364000-1769367600@lopbc.org
SUMMARY:Sunday Evening Worship
DESCRIPTION:
URL:https://lopbc.org/church_event/sunday-evening-worship/2026-01-25/
LOCATION:Sanctuary\, 9046 FM729\, Avinger\, TX\, 75630\, United States
CATEGORIES:Church-wide,Community,Worship
END:VEVENT
BEGIN:VEVENT
DTSTART;TZID=America/Chicago:20260125T110000
DTEND;TZID=America/Chicago:20260125T123000
DTSTAMP:20260423T052601
CREATED:20250130T213205Z
LAST-MODIFIED:20250131T161102Z
UID:10001729-1769338800-1769344200@lopbc.org
SUMMARY:Sunday AM Worship
DESCRIPTION:
URL:https://lopbc.org/church_event/sunday-am-worship/2026-01-25/
LOCATION:Sanctuary\, 9046 FM729\, Avinger\, TX\, 75630\, United States
CATEGORIES:Church-wide,Community,Worship
END:VEVENT
BEGIN:VEVENT
DTSTART;TZID=America/Chicago:20260125T093000
DTEND;TZID=America/Chicago:20260125T104500
DTSTAMP:20260423T052602
CREATED:20250130T213312Z
LAST-MODIFIED:20250131T005604Z
UID:10001995-1769333400-1769337900@lopbc.org
SUMMARY:Sunday AM Sunday School
DESCRIPTION:
URL:https://lopbc.org/church_event/sunday-am-sunday-school-2/2026-01-25/
LOCATION:Classrooms\, 9046 FM729\, Avinger\, TX\, 75630\, United States
CATEGORIES:Church-wide,Community,Sunday School
END:VEVENT
BEGIN:VEVENT
DTSTART;TZID=America/Chicago:20260121T183000
DTEND;TZID=America/Chicago:20260121T193000
DTSTAMP:20260423T052602
CREATED:20250130T214249Z
LAST-MODIFIED:20260222T200208Z
UID:10002528-1769020200-1769023800@lopbc.org
SUMMARY:Family Night Worship
DESCRIPTION:
URL:https://lopbc.org/church_event/wednesday-night-worship/2026-01-21/
LOCATION:Sanctuary\, 9046 FM729\, Avinger\, TX\, 75630\, United States
CATEGORIES:Church-wide,Community,Worship
END:VEVENT
BEGIN:VEVENT
DTSTART;TZID=America/Chicago:20260121T180000
DTEND;TZID=America/Chicago:20260121T183000
DTSTAMP:20260423T052602
CREATED:20250130T214435Z
LAST-MODIFIED:20260222T204211Z
UID:10002794-1769018400-1769020200@lopbc.org
SUMMARY:Family Night Meal
DESCRIPTION:
URL:https://lopbc.org/church_event/family-night-meal/2026-01-21/
LOCATION:Fellowship Hall\, 9046 FM729\, Avinger\, TX\, 75630
CATEGORIES:Church-wide,Community
END:VEVENT
BEGIN:VEVENT
DTSTART;TZID=America/Chicago:20260118T180000
DTEND;TZID=America/Chicago:20260118T190000
DTSTAMP:20260423T052602
CREATED:20250130T213902Z
LAST-MODIFIED:20260222T210931Z
UID:10002263-1768759200-1768762800@lopbc.org
SUMMARY:Sunday Evening Worship
DESCRIPTION:
URL:https://lopbc.org/church_event/sunday-evening-worship/2026-01-18/
LOCATION:Sanctuary\, 9046 FM729\, Avinger\, TX\, 75630\, United States
CATEGORIES:Church-wide,Community,Worship
END:VEVENT
BEGIN:VEVENT
DTSTART;TZID=America/Chicago:20260118T110000
DTEND;TZID=America/Chicago:20260118T123000
DTSTAMP:20260423T052602
CREATED:20250130T213205Z
LAST-MODIFIED:20250131T161102Z
UID:10001728-1768734000-1768739400@lopbc.org
SUMMARY:Sunday AM Worship
DESCRIPTION:
URL:https://lopbc.org/church_event/sunday-am-worship/2026-01-18/
LOCATION:Sanctuary\, 9046 FM729\, Avinger\, TX\, 75630\, United States
CATEGORIES:Church-wide,Community,Worship
END:VEVENT
BEGIN:VEVENT
DTSTART;TZID=America/Chicago:20260118T093000
DTEND;TZID=America/Chicago:20260118T104500
DTSTAMP:20260423T052602
CREATED:20250130T213312Z
LAST-MODIFIED:20250131T005604Z
UID:10001994-1768728600-1768733100@lopbc.org
SUMMARY:Sunday AM Sunday School
DESCRIPTION:
URL:https://lopbc.org/church_event/sunday-am-sunday-school-2/2026-01-18/
LOCATION:Classrooms\, 9046 FM729\, Avinger\, TX\, 75630\, United States
CATEGORIES:Church-wide,Community,Sunday School
END:VEVENT
BEGIN:VEVENT
DTSTART;TZID=America/Chicago:20260114T183000
DTEND;TZID=America/Chicago:20260114T193000
DTSTAMP:20260423T052602
CREATED:20250130T214249Z
LAST-MODIFIED:20260222T200208Z
UID:10002527-1768415400-1768419000@lopbc.org
SUMMARY:Family Night Worship
DESCRIPTION:
URL:https://lopbc.org/church_event/wednesday-night-worship/2026-01-14/
LOCATION:Sanctuary\, 9046 FM729\, Avinger\, TX\, 75630\, United States
CATEGORIES:Church-wide,Community,Worship
END:VEVENT
BEGIN:VEVENT
DTSTART;TZID=America/Chicago:20260114T180000
DTEND;TZID=America/Chicago:20260114T183000
DTSTAMP:20260423T052602
CREATED:20250130T214435Z
LAST-MODIFIED:20260222T204211Z
UID:10002793-1768413600-1768415400@lopbc.org
SUMMARY:Family Night Meal
DESCRIPTION:
URL:https://lopbc.org/church_event/family-night-meal/2026-01-14/
LOCATION:Fellowship Hall\, 9046 FM729\, Avinger\, TX\, 75630
CATEGORIES:Church-wide,Community
END:VEVENT
BEGIN:VEVENT
DTSTART;TZID=America/Chicago:20260111T180000
DTEND;TZID=America/Chicago:20260111T190000
DTSTAMP:20260423T052602
CREATED:20250130T213902Z
LAST-MODIFIED:20260222T210931Z
UID:10002262-1768154400-1768158000@lopbc.org
SUMMARY:Sunday Evening Worship
DESCRIPTION:
URL:https://lopbc.org/church_event/sunday-evening-worship/2026-01-11/
LOCATION:Sanctuary\, 9046 FM729\, Avinger\, TX\, 75630\, United States
CATEGORIES:Church-wide,Community,Worship
END:VEVENT
BEGIN:VEVENT
DTSTART;TZID=America/Chicago:20260111T110000
DTEND;TZID=America/Chicago:20260111T123000
DTSTAMP:20260423T052602
CREATED:20250130T213205Z
LAST-MODIFIED:20250131T161102Z
UID:10001727-1768129200-1768134600@lopbc.org
SUMMARY:Sunday AM Worship
DESCRIPTION:
URL:https://lopbc.org/church_event/sunday-am-worship/2026-01-11/
LOCATION:Sanctuary\, 9046 FM729\, Avinger\, TX\, 75630\, United States
CATEGORIES:Church-wide,Community,Worship
END:VEVENT
BEGIN:VEVENT
DTSTART;TZID=America/Chicago:20260111T093000
DTEND;TZID=America/Chicago:20260111T104500
DTSTAMP:20260423T052602
CREATED:20250130T213312Z
LAST-MODIFIED:20250131T005604Z
UID:10001993-1768123800-1768128300@lopbc.org
SUMMARY:Sunday AM Sunday School
DESCRIPTION:
URL:https://lopbc.org/church_event/sunday-am-sunday-school-2/2026-01-11/
LOCATION:Classrooms\, 9046 FM729\, Avinger\, TX\, 75630\, United States
CATEGORIES:Church-wide,Community,Sunday School
END:VEVENT
BEGIN:VEVENT
DTSTART;TZID=America/Chicago:20260107T183000
DTEND;TZID=America/Chicago:20260107T193000
DTSTAMP:20260423T052602
CREATED:20250130T214249Z
LAST-MODIFIED:20260222T200208Z
UID:10002526-1767810600-1767814200@lopbc.org
SUMMARY:Family Night Worship
DESCRIPTION:
URL:https://lopbc.org/church_event/wednesday-night-worship/2026-01-07/
LOCATION:Sanctuary\, 9046 FM729\, Avinger\, TX\, 75630\, United States
CATEGORIES:Church-wide,Community,Worship
END:VEVENT
END:VCALENDAR