BEGIN:VCALENDAR
VERSION:2.0
PRODID:-//Lake O&#039; The Pines Baptist Church - ECPv6.15.20//NONSGML v1.0//EN
CALSCALE:GREGORIAN
METHOD:PUBLISH
X-WR-CALNAME:Lake O&#039; The Pines Baptist Church
X-ORIGINAL-URL:https://lopbc.org
X-WR-CALDESC:Events for Lake O&#039; The Pines Baptist Church
REFRESH-INTERVAL;VALUE=DURATION:PT1H
X-Robots-Tag:noindex
X-PUBLISHED-TTL:PT1H
BEGIN:VTIMEZONE
TZID:America/Chicago
BEGIN:DAYLIGHT
TZOFFSETFROM:-0600
TZOFFSETTO:-0500
TZNAME:CDT
DTSTART:20230312T080000
END:DAYLIGHT
BEGIN:STANDARD
TZOFFSETFROM:-0500
TZOFFSETTO:-0600
TZNAME:CST
DTSTART:20231105T070000
END:STANDARD
BEGIN:DAYLIGHT
TZOFFSETFROM:-0600
TZOFFSETTO:-0500
TZNAME:CDT
DTSTART:20240310T080000
END:DAYLIGHT
BEGIN:STANDARD
TZOFFSETFROM:-0500
TZOFFSETTO:-0600
TZNAME:CST
DTSTART:20241103T070000
END:STANDARD
BEGIN:DAYLIGHT
TZOFFSETFROM:-0600
TZOFFSETTO:-0500
TZNAME:CDT
DTSTART:20250309T080000
END:DAYLIGHT
BEGIN:STANDARD
TZOFFSETFROM:-0500
TZOFFSETTO:-0600
TZNAME:CST
DTSTART:20251102T070000
END:STANDARD
BEGIN:DAYLIGHT
TZOFFSETFROM:-0600
TZOFFSETTO:-0500
TZNAME:CDT
DTSTART:20260308T080000
END:DAYLIGHT
BEGIN:STANDARD
TZOFFSETFROM:-0500
TZOFFSETTO:-0600
TZNAME:CST
DTSTART:20261101T070000
END:STANDARD
BEGIN:DAYLIGHT
TZOFFSETFROM:-0600
TZOFFSETTO:-0500
TZNAME:CDT
DTSTART:20270314T080000
END:DAYLIGHT
BEGIN:STANDARD
TZOFFSETFROM:-0500
TZOFFSETTO:-0600
TZNAME:CST
DTSTART:20271107T070000
END:STANDARD
END:VTIMEZONE
BEGIN:VEVENT
DTSTART;TZID=America/Chicago:20260419T180000
DTEND;TZID=America/Chicago:20260419T190000
DTSTAMP:20260422T214306
CREATED:20260222T202420Z
LAST-MODIFIED:20260222T202420Z
UID:10004166-1776621600-1776625200@lopbc.org
SUMMARY:Business Meetings 2026
DESCRIPTION:
URL:https://lopbc.org/church_event/business-meetings-2026/2026-04-19/
LOCATION:Sanctuary\, 9046 FM729\, Avinger\, TX\, 75630\, United States
CATEGORIES:Church-wide,Committees
END:VEVENT
BEGIN:VEVENT
DTSTART;TZID=America/Chicago:20260322T160000
DTEND;TZID=America/Chicago:20260322T170000
DTSTAMP:20260422T214306
CREATED:20260222T191405Z
LAST-MODIFIED:20260222T191701Z
UID:10003894-1774195200-1774198800@lopbc.org
SUMMARY:Team War Room Council
DESCRIPTION:
URL:https://lopbc.org/church_event/team-war-room-council-2/2026-03-22/
LOCATION:Sanctuary\, 9046 FM729\, Avinger\, TX\, 75630\, United States
CATEGORIES:Committees
END:VEVENT
BEGIN:VEVENT
DTSTART;TZID=America/Chicago:20260308T180000
DTEND;TZID=America/Chicago:20260308T190000
DTSTAMP:20260422T214306
CREATED:20260222T202420Z
LAST-MODIFIED:20260222T202420Z
UID:10004165-1772992800-1772996400@lopbc.org
SUMMARY:Business Meetings 2026
DESCRIPTION:
URL:https://lopbc.org/church_event/business-meetings-2026/2026-03-08/
LOCATION:Sanctuary\, 9046 FM729\, Avinger\, TX\, 75630\, United States
CATEGORIES:Church-wide,Committees
END:VEVENT
BEGIN:VEVENT
DTSTART;TZID=America/Chicago:20260222T160000
DTEND;TZID=America/Chicago:20260222T170000
DTSTAMP:20260422T214306
CREATED:20260222T191405Z
LAST-MODIFIED:20260222T191701Z
UID:10003019-1771776000-1771779600@lopbc.org
SUMMARY:Team War Room Council
DESCRIPTION:
URL:https://lopbc.org/church_event/team-war-room-council-2/2026-02-22/2/
LOCATION:Sanctuary\, 9046 FM729\, Avinger\, TX\, 75630\, United States
CATEGORIES:Committees
END:VEVENT
BEGIN:VEVENT
DTSTART;TZID=America/Chicago:20260222T080000
DTEND;TZID=America/Chicago:20260222T170000
DTSTAMP:20260422T214306
CREATED:20260222T191405Z
LAST-MODIFIED:20260222T191701Z
UID:10003893-1771747200-1771779600@lopbc.org
SUMMARY:Team War Room Council
DESCRIPTION:
URL:https://lopbc.org/church_event/team-war-room-council-2/2026-02-22/1/
LOCATION:Sanctuary\, 9046 FM729\, Avinger\, TX\, 75630\, United States
CATEGORIES:Committees
END:VEVENT
BEGIN:VEVENT
DTSTART;VALUE=DATE:20260222
DTEND;VALUE=DATE:20260223
DTSTAMP:20260422T214306
CREATED:20260222T213051Z
LAST-MODIFIED:20260222T213051Z
UID:10004640-1771718400-1771804799@lopbc.org
SUMMARY:Budget Form Available
DESCRIPTION:
URL:https://lopbc.org/church_event/budget-form-available/
CATEGORIES:Children's Ministry,Church-wide,Committees,Men's Ministry,Parent's Night Out,Praying Hearts and Hands,Sunday School,Women's Ministry,Youth Ministry
END:VEVENT
BEGIN:VEVENT
DTSTART;TZID=America/Chicago:20251214T120000
DTEND;TZID=America/Chicago:20251214T123000
DTSTAMP:20260422T214306
CREATED:20250131T190836Z
LAST-MODIFIED:20250131T190836Z
UID:10003878-1765713600-1765715400@lopbc.org
SUMMARY:2026 Budget Vote
DESCRIPTION:
URL:https://lopbc.org/church_event/2026-budget-vote/
CATEGORIES:Church-wide,Committees
END:VEVENT
BEGIN:VEVENT
DTSTART;TZID=America/Chicago:20250907T090000
DTEND;TZID=America/Chicago:20250907T093000
DTSTAMP:20260422T214306
CREATED:20250131T161447Z
LAST-MODIFIED:20250131T161447Z
UID:10003786-1757235600-1757237400@lopbc.org
SUMMARY:Budget Forms Due
DESCRIPTION:
URL:https://lopbc.org/church_event/budget-forms-due/
CATEGORIES:Church-wide,Committees
END:VEVENT
BEGIN:VEVENT
DTSTART;TZID=America/Chicago:20250803T160000
DTEND;TZID=America/Chicago:20250803T170000
DTSTAMP:20260422T214306
CREATED:20250130T221823Z
LAST-MODIFIED:20250130T221823Z
UID:10003018-1754236800-1754240400@lopbc.org
SUMMARY:Team War Room Council
DESCRIPTION:
URL:https://lopbc.org/church_event/team-war-room-council/2025-08-03/
LOCATION:Sanctuary\, 9046 FM729\, Avinger\, TX\, 75630\, United States
CATEGORIES:Committees
END:VEVENT
BEGIN:VEVENT
DTSTART;TZID=America/Chicago:20250803T080000
DTEND;TZID=America/Chicago:20250803T083000
DTSTAMP:20260422T214306
CREATED:20250131T160216Z
LAST-MODIFIED:20250131T160216Z
UID:10003777-1754208000-1754209800@lopbc.org
SUMMARY:Budget Form Release
DESCRIPTION:
URL:https://lopbc.org/church_event/budget-form-release/
CATEGORIES:Church-wide,Committees
END:VEVENT
BEGIN:VEVENT
DTSTART;TZID=America/Chicago:20250706T160000
DTEND;TZID=America/Chicago:20250706T170000
DTSTAMP:20260422T214306
CREATED:20250130T221823Z
LAST-MODIFIED:20250130T221823Z
UID:10003017-1751817600-1751821200@lopbc.org
SUMMARY:Team War Room Council
DESCRIPTION:
URL:https://lopbc.org/church_event/team-war-room-council/2025-07-06/
LOCATION:Sanctuary\, 9046 FM729\, Avinger\, TX\, 75630\, United States
CATEGORIES:Committees
END:VEVENT
BEGIN:VEVENT
DTSTART;TZID=America/Chicago:20250518T160000
DTEND;TZID=America/Chicago:20250518T170000
DTSTAMP:20260422T214306
CREATED:20250130T221823Z
LAST-MODIFIED:20250130T221823Z
UID:10003016-1747584000-1747587600@lopbc.org
SUMMARY:Team War Room Council
DESCRIPTION:
URL:https://lopbc.org/church_event/team-war-room-council/2025-05-18/
LOCATION:Sanctuary\, 9046 FM729\, Avinger\, TX\, 75630\, United States
CATEGORIES:Committees
END:VEVENT
BEGIN:VEVENT
DTSTART;TZID=America/Chicago:20250406T160000
DTEND;TZID=America/Chicago:20250406T170000
DTSTAMP:20260422T214306
CREATED:20250130T221823Z
LAST-MODIFIED:20250130T221823Z
UID:10003015-1743955200-1743958800@lopbc.org
SUMMARY:Team War Room Council
DESCRIPTION:
URL:https://lopbc.org/church_event/team-war-room-council/2025-04-06/
LOCATION:Sanctuary\, 9046 FM729\, Avinger\, TX\, 75630\, United States
CATEGORIES:Committees
END:VEVENT
BEGIN:VEVENT
DTSTART;TZID=America/Chicago:20250309T160000
DTEND;TZID=America/Chicago:20250309T170000
DTSTAMP:20260422T214306
CREATED:20250130T221823Z
LAST-MODIFIED:20250130T221823Z
UID:10003014-1741536000-1741539600@lopbc.org
SUMMARY:Team War Room Council
DESCRIPTION:
URL:https://lopbc.org/church_event/team-war-room-council/2025-03-09/
LOCATION:Sanctuary\, 9046 FM729\, Avinger\, TX\, 75630\, United States
CATEGORIES:Committees
END:VEVENT
BEGIN:VEVENT
DTSTART;TZID=America/Chicago:20250202T160000
DTEND;TZID=America/Chicago:20250202T170000
DTSTAMP:20260422T214306
CREATED:20250130T221823Z
LAST-MODIFIED:20250130T221823Z
UID:10003013-1738512000-1738515600@lopbc.org
SUMMARY:Team War Room Council
DESCRIPTION:
URL:https://lopbc.org/church_event/team-war-room-council/2025-02-02/
LOCATION:Sanctuary\, 9046 FM729\, Avinger\, TX\, 75630\, United States
CATEGORIES:Committees
END:VEVENT
BEGIN:VEVENT
DTSTART;TZID=America/Chicago:20241215T180000
DTEND;TZID=America/Chicago:20241215T193000
DTSTAMP:20260422T214306
CREATED:20240226T165035Z
LAST-MODIFIED:20240226T165035Z
UID:10000655-1734285600-1734291000@lopbc.org
SUMMARY:Special Budget Meeting
DESCRIPTION:
URL:https://lopbc.org/church_event/special-budget-meeting/
LOCATION:Sanctuary\, 9046 FM729\, Avinger\, TX\, 75630\, United States
CATEGORIES:Church-wide,Committees
END:VEVENT
BEGIN:VEVENT
DTSTART;TZID=America/Chicago:20241110T160000
DTEND;TZID=America/Chicago:20241110T180000
DTSTAMP:20260422T214306
CREATED:20240226T174748Z
LAST-MODIFIED:20240226T174748Z
UID:10000810-1731254400-1731261600@lopbc.org
SUMMARY:Team Council Meeting
DESCRIPTION:
URL:https://lopbc.org/church_event/team-council-meeting-8/
LOCATION:Sanctuary\, 9046 FM729\, Avinger\, TX\, 75630\, United States
CATEGORIES:Committees
END:VEVENT
BEGIN:VEVENT
DTSTART;TZID=America/Chicago:20241013T160000
DTEND;TZID=America/Chicago:20241013T180000
DTSTAMP:20260422T214306
CREATED:20240226T174713Z
LAST-MODIFIED:20240226T174713Z
UID:10000809-1728835200-1728842400@lopbc.org
SUMMARY:Team Council Meeting
DESCRIPTION:
URL:https://lopbc.org/church_event/team-council-meeting-7/
LOCATION:Sanctuary\, 9046 FM729\, Avinger\, TX\, 75630\, United States
CATEGORIES:Committees
END:VEVENT
BEGIN:VEVENT
DTSTART;TZID=America/Chicago:20240922T160000
DTEND;TZID=America/Chicago:20240922T180000
DTSTAMP:20260422T214306
CREATED:20240226T174617Z
LAST-MODIFIED:20240226T174617Z
UID:10000808-1727020800-1727028000@lopbc.org
SUMMARY:Team Council Meeting
DESCRIPTION:
URL:https://lopbc.org/church_event/team-council-meeting-6/
LOCATION:Sanctuary\, 9046 FM729\, Avinger\, TX\, 75630\, United States
CATEGORIES:Committees
END:VEVENT
BEGIN:VEVENT
DTSTART;TZID=America/Chicago:20240804T160000
DTEND;TZID=America/Chicago:20240804T180000
DTSTAMP:20260422T214306
CREATED:20240226T174436Z
LAST-MODIFIED:20240226T174436Z
UID:10000807-1722787200-1722794400@lopbc.org
SUMMARY:Team Council Meeting
DESCRIPTION:
URL:https://lopbc.org/church_event/team-council-meeting-5/
CATEGORIES:Committees
END:VEVENT
BEGIN:VEVENT
DTSTART;TZID=America/Chicago:20240714T160000
DTEND;TZID=America/Chicago:20240714T180000
DTSTAMP:20260422T214306
CREATED:20240226T174358Z
LAST-MODIFIED:20240226T174358Z
UID:10000806-1720972800-1720980000@lopbc.org
SUMMARY:Team Council Meeting
DESCRIPTION:
URL:https://lopbc.org/church_event/team-council-meeting-4/
LOCATION:Sanctuary\, 9046 FM729\, Avinger\, TX\, 75630\, United States
CATEGORIES:Committees
END:VEVENT
BEGIN:VEVENT
DTSTART;TZID=America/Chicago:20240519T160000
DTEND;TZID=America/Chicago:20240519T180000
DTSTAMP:20260422T214306
CREATED:20240226T174202Z
LAST-MODIFIED:20240226T174202Z
UID:10000805-1716134400-1716141600@lopbc.org
SUMMARY:Team Council Meeting
DESCRIPTION:
URL:https://lopbc.org/church_event/team-council-meeting-3/
LOCATION:Sanctuary\, 9046 FM729\, Avinger\, TX\, 75630\, United States
CATEGORIES:Committees
END:VEVENT
BEGIN:VEVENT
DTSTART;TZID=America/Chicago:20240505T180000
DTEND;TZID=America/Chicago:20240505T193000
DTSTAMP:20260422T214306
CREATED:20240226T165755Z
LAST-MODIFIED:20240226T165755Z
UID:10000659-1714932000-1714937400@lopbc.org
SUMMARY:Business Meeting
DESCRIPTION:
URL:https://lopbc.org/church_event/business-meeting/
LOCATION:Sanctuary\, 9046 FM729\, Avinger\, TX\, 75630\, United States
CATEGORIES:Church-wide,Committees
END:VEVENT
BEGIN:VEVENT
DTSTART;TZID=America/Chicago:20240428T160000
DTEND;TZID=America/Chicago:20240428T180000
DTSTAMP:20260422T214306
CREATED:20240226T174124Z
LAST-MODIFIED:20240226T174124Z
UID:10000804-1714320000-1714327200@lopbc.org
SUMMARY:Team Council Meeting
DESCRIPTION:
URL:https://lopbc.org/church_event/team-council-meeting-2/
LOCATION:Sanctuary\, 9046 FM729\, Avinger\, TX\, 75630\, United States
CATEGORIES:Committees
END:VEVENT
BEGIN:VEVENT
DTSTART;TZID=America/Chicago:20240317T160000
DTEND;TZID=America/Chicago:20240317T180000
DTSTAMP:20260422T214306
CREATED:20240226T174049Z
LAST-MODIFIED:20240226T174049Z
UID:10000803-1710691200-1710698400@lopbc.org
SUMMARY:Team Council Meeting
DESCRIPTION:
URL:https://lopbc.org/church_event/team-council-meeting/
LOCATION:Fellowship Hall\, 9046 FM729\, Avinger\, TX\, 75630
CATEGORIES:Committees
END:VEVENT
END:VCALENDAR