BEGIN:VCALENDAR
VERSION:2.0
PRODID:-//Lake O&#039; The Pines Baptist Church - ECPv6.15.20//NONSGML v1.0//EN
CALSCALE:GREGORIAN
METHOD:PUBLISH
X-ORIGINAL-URL:https://lopbc.org
X-WR-CALDESC:Events for Lake O&#039; The Pines Baptist Church
REFRESH-INTERVAL;VALUE=DURATION:PT1H
X-Robots-Tag:noindex
X-PUBLISHED-TTL:PT1H
BEGIN:VTIMEZONE
TZID:America/Chicago
BEGIN:DAYLIGHT
TZOFFSETFROM:-0600
TZOFFSETTO:-0500
TZNAME:CDT
DTSTART:20230312T080000
END:DAYLIGHT
BEGIN:STANDARD
TZOFFSETFROM:-0500
TZOFFSETTO:-0600
TZNAME:CST
DTSTART:20231105T070000
END:STANDARD
BEGIN:DAYLIGHT
TZOFFSETFROM:-0600
TZOFFSETTO:-0500
TZNAME:CDT
DTSTART:20240310T080000
END:DAYLIGHT
BEGIN:STANDARD
TZOFFSETFROM:-0500
TZOFFSETTO:-0600
TZNAME:CST
DTSTART:20241103T070000
END:STANDARD
BEGIN:DAYLIGHT
TZOFFSETFROM:-0600
TZOFFSETTO:-0500
TZNAME:CDT
DTSTART:20250309T080000
END:DAYLIGHT
BEGIN:STANDARD
TZOFFSETFROM:-0500
TZOFFSETTO:-0600
TZNAME:CST
DTSTART:20251102T070000
END:STANDARD
BEGIN:DAYLIGHT
TZOFFSETFROM:-0600
TZOFFSETTO:-0500
TZNAME:CDT
DTSTART:20260308T080000
END:DAYLIGHT
BEGIN:STANDARD
TZOFFSETFROM:-0500
TZOFFSETTO:-0600
TZNAME:CST
DTSTART:20261101T070000
END:STANDARD
BEGIN:DAYLIGHT
TZOFFSETFROM:-0600
TZOFFSETTO:-0500
TZNAME:CDT
DTSTART:20270314T080000
END:DAYLIGHT
BEGIN:STANDARD
TZOFFSETFROM:-0500
TZOFFSETTO:-0600
TZNAME:CST
DTSTART:20271107T070000
END:STANDARD
END:VTIMEZONE
BEGIN:VEVENT
DTSTART;TZID=America/Chicago:20260407T173000
DTEND;TZID=America/Chicago:20260407T183000
DTSTAMP:20260422T230744
CREATED:20250130T211824Z
LAST-MODIFIED:20250130T211824Z
UID:10001363-1775583000-1775586600@lopbc.org
SUMMARY:Deacon Meeting
DESCRIPTION:
URL:https://lopbc.org/church_event/deacon-meeting-2/2026-04-07/
CATEGORIES:Deacon
END:VEVENT
BEGIN:VEVENT
DTSTART;TZID=America/Chicago:20260303T173000
DTEND;TZID=America/Chicago:20260303T183000
DTSTAMP:20260422T230744
CREATED:20250130T211824Z
LAST-MODIFIED:20250130T211824Z
UID:10001362-1772559000-1772562600@lopbc.org
SUMMARY:Deacon Meeting
DESCRIPTION:
URL:https://lopbc.org/church_event/deacon-meeting-2/2026-03-03/
CATEGORIES:Deacon
END:VEVENT
BEGIN:VEVENT
DTSTART;TZID=America/Chicago:20260203T173000
DTEND;TZID=America/Chicago:20260203T183000
DTSTAMP:20260422T230744
CREATED:20250130T211824Z
LAST-MODIFIED:20250130T211824Z
UID:10001361-1770139800-1770143400@lopbc.org
SUMMARY:Deacon Meeting
DESCRIPTION:
URL:https://lopbc.org/church_event/deacon-meeting-2/2026-02-03/
CATEGORIES:Deacon
END:VEVENT
BEGIN:VEVENT
DTSTART;TZID=America/Chicago:20260106T173000
DTEND;TZID=America/Chicago:20260106T183000
DTSTAMP:20260422T230744
CREATED:20250130T211824Z
LAST-MODIFIED:20250130T211824Z
UID:10001360-1767720600-1767724200@lopbc.org
SUMMARY:Deacon Meeting
DESCRIPTION:
URL:https://lopbc.org/church_event/deacon-meeting-2/2026-01-06/
CATEGORIES:Deacon
END:VEVENT
BEGIN:VEVENT
DTSTART;TZID=America/Chicago:20251202T173000
DTEND;TZID=America/Chicago:20251202T183000
DTSTAMP:20260422T230744
CREATED:20250130T211824Z
LAST-MODIFIED:20250130T211824Z
UID:10001359-1764696600-1764700200@lopbc.org
SUMMARY:Deacon Meeting
DESCRIPTION:
URL:https://lopbc.org/church_event/deacon-meeting-2/2025-12-02/
CATEGORIES:Deacon
END:VEVENT
BEGIN:VEVENT
DTSTART;TZID=America/Chicago:20251104T173000
DTEND;TZID=America/Chicago:20251104T183000
DTSTAMP:20260422T230744
CREATED:20250130T211824Z
LAST-MODIFIED:20250130T211824Z
UID:10001358-1762277400-1762281000@lopbc.org
SUMMARY:Deacon Meeting
DESCRIPTION:
URL:https://lopbc.org/church_event/deacon-meeting-2/2025-11-04/
CATEGORIES:Deacon
END:VEVENT
BEGIN:VEVENT
DTSTART;TZID=America/Chicago:20251007T173000
DTEND;TZID=America/Chicago:20251007T183000
DTSTAMP:20260422T230744
CREATED:20250130T211824Z
LAST-MODIFIED:20250130T211824Z
UID:10001357-1759858200-1759861800@lopbc.org
SUMMARY:Deacon Meeting
DESCRIPTION:
URL:https://lopbc.org/church_event/deacon-meeting-2/2025-10-07/
CATEGORIES:Deacon
END:VEVENT
BEGIN:VEVENT
DTSTART;TZID=America/Chicago:20250902T173000
DTEND;TZID=America/Chicago:20250902T183000
DTSTAMP:20260422T230744
CREATED:20250130T211824Z
LAST-MODIFIED:20250130T211824Z
UID:10001356-1756834200-1756837800@lopbc.org
SUMMARY:Deacon Meeting
DESCRIPTION:
URL:https://lopbc.org/church_event/deacon-meeting-2/2025-09-02/
CATEGORIES:Deacon
END:VEVENT
BEGIN:VEVENT
DTSTART;TZID=America/Chicago:20250805T173000
DTEND;TZID=America/Chicago:20250805T183000
DTSTAMP:20260422T230744
CREATED:20250130T211824Z
LAST-MODIFIED:20250130T211824Z
UID:10001355-1754415000-1754418600@lopbc.org
SUMMARY:Deacon Meeting
DESCRIPTION:
URL:https://lopbc.org/church_event/deacon-meeting-2/2025-08-05/
CATEGORIES:Deacon
END:VEVENT
BEGIN:VEVENT
DTSTART;TZID=America/Chicago:20250701T173000
DTEND;TZID=America/Chicago:20250701T183000
DTSTAMP:20260422T230744
CREATED:20250130T211824Z
LAST-MODIFIED:20250130T211824Z
UID:10001354-1751391000-1751394600@lopbc.org
SUMMARY:Deacon Meeting
DESCRIPTION:
URL:https://lopbc.org/church_event/deacon-meeting-2/2025-07-01/
CATEGORIES:Deacon
END:VEVENT
BEGIN:VEVENT
DTSTART;TZID=America/Chicago:20250603T173000
DTEND;TZID=America/Chicago:20250603T183000
DTSTAMP:20260422T230744
CREATED:20250130T211824Z
LAST-MODIFIED:20250130T211824Z
UID:10001353-1748971800-1748975400@lopbc.org
SUMMARY:Deacon Meeting
DESCRIPTION:
URL:https://lopbc.org/church_event/deacon-meeting-2/2025-06-03/
CATEGORIES:Deacon
END:VEVENT
BEGIN:VEVENT
DTSTART;TZID=America/Chicago:20250506T173000
DTEND;TZID=America/Chicago:20250506T183000
DTSTAMP:20260422T230744
CREATED:20250130T211824Z
LAST-MODIFIED:20250130T211824Z
UID:10001352-1746552600-1746556200@lopbc.org
SUMMARY:Deacon Meeting
DESCRIPTION:
URL:https://lopbc.org/church_event/deacon-meeting-2/2025-05-06/
CATEGORIES:Deacon
END:VEVENT
BEGIN:VEVENT
DTSTART;TZID=America/Chicago:20250401T173000
DTEND;TZID=America/Chicago:20250401T183000
DTSTAMP:20260422T230744
CREATED:20250130T211824Z
LAST-MODIFIED:20250130T211824Z
UID:10001351-1743528600-1743532200@lopbc.org
SUMMARY:Deacon Meeting
DESCRIPTION:
URL:https://lopbc.org/church_event/deacon-meeting-2/2025-04-01/
CATEGORIES:Deacon
END:VEVENT
BEGIN:VEVENT
DTSTART;TZID=America/Chicago:20250304T173000
DTEND;TZID=America/Chicago:20250304T183000
DTSTAMP:20260422T230744
CREATED:20250130T211824Z
LAST-MODIFIED:20250130T211824Z
UID:10001350-1741109400-1741113000@lopbc.org
SUMMARY:Deacon Meeting
DESCRIPTION:
URL:https://lopbc.org/church_event/deacon-meeting-2/2025-03-04/
CATEGORIES:Deacon
END:VEVENT
BEGIN:VEVENT
DTSTART;TZID=America/Chicago:20250204T173000
DTEND;TZID=America/Chicago:20250204T183000
DTSTAMP:20260422T230744
CREATED:20250130T211824Z
LAST-MODIFIED:20250130T211824Z
UID:10001349-1738690200-1738693800@lopbc.org
SUMMARY:Deacon Meeting
DESCRIPTION:
URL:https://lopbc.org/church_event/deacon-meeting-2/2025-02-04/
CATEGORIES:Deacon
END:VEVENT
BEGIN:VEVENT
DTSTART;TZID=America/Chicago:20250114T170000
DTEND;TZID=America/Chicago:20250114T183000
DTSTAMP:20260422T230744
CREATED:20240225T232108Z
LAST-MODIFIED:20240225T232225Z
UID:10000502-1736874000-1736879400@lopbc.org
SUMMARY:Deacon Meeting
DESCRIPTION:
URL:https://lopbc.org/church_event/deacon-meeting/2025-01-14/
CATEGORIES:Deacon
END:VEVENT
BEGIN:VEVENT
DTSTART;TZID=America/Chicago:20241210T170000
DTEND;TZID=America/Chicago:20241210T183000
DTSTAMP:20260422T230744
CREATED:20240225T232108Z
LAST-MODIFIED:20240225T232225Z
UID:10000501-1733850000-1733855400@lopbc.org
SUMMARY:Deacon Meeting
DESCRIPTION:
URL:https://lopbc.org/church_event/deacon-meeting/2024-12-10/
CATEGORIES:Deacon
END:VEVENT
BEGIN:VEVENT
DTSTART;TZID=America/Chicago:20241112T170000
DTEND;TZID=America/Chicago:20241112T183000
DTSTAMP:20260422T230744
CREATED:20240225T232108Z
LAST-MODIFIED:20240225T232225Z
UID:10000500-1731430800-1731436200@lopbc.org
SUMMARY:Deacon Meeting
DESCRIPTION:
URL:https://lopbc.org/church_event/deacon-meeting/2024-11-12/
CATEGORIES:Deacon
END:VEVENT
BEGIN:VEVENT
DTSTART;TZID=America/Chicago:20241008T170000
DTEND;TZID=America/Chicago:20241008T183000
DTSTAMP:20260422T230744
CREATED:20240225T232108Z
LAST-MODIFIED:20240225T232225Z
UID:10000499-1728406800-1728412200@lopbc.org
SUMMARY:Deacon Meeting
DESCRIPTION:
URL:https://lopbc.org/church_event/deacon-meeting/2024-10-08/
CATEGORIES:Deacon
END:VEVENT
BEGIN:VEVENT
DTSTART;TZID=America/Chicago:20240910T170000
DTEND;TZID=America/Chicago:20240910T183000
DTSTAMP:20260422T230744
CREATED:20240225T232108Z
LAST-MODIFIED:20240225T232225Z
UID:10000498-1725987600-1725993000@lopbc.org
SUMMARY:Deacon Meeting
DESCRIPTION:
URL:https://lopbc.org/church_event/deacon-meeting/2024-09-10/
CATEGORIES:Deacon
END:VEVENT
BEGIN:VEVENT
DTSTART;TZID=America/Chicago:20240813T170000
DTEND;TZID=America/Chicago:20240813T183000
DTSTAMP:20260422T230744
CREATED:20240225T232108Z
LAST-MODIFIED:20240225T232225Z
UID:10000497-1723568400-1723573800@lopbc.org
SUMMARY:Deacon Meeting
DESCRIPTION:
URL:https://lopbc.org/church_event/deacon-meeting/2024-08-13/
CATEGORIES:Deacon
END:VEVENT
BEGIN:VEVENT
DTSTART;TZID=America/Chicago:20240709T170000
DTEND;TZID=America/Chicago:20240709T183000
DTSTAMP:20260422T230744
CREATED:20240225T232108Z
LAST-MODIFIED:20240225T232225Z
UID:10000496-1720544400-1720549800@lopbc.org
SUMMARY:Deacon Meeting
DESCRIPTION:
URL:https://lopbc.org/church_event/deacon-meeting/2024-07-09/
CATEGORIES:Deacon
END:VEVENT
BEGIN:VEVENT
DTSTART;TZID=America/Chicago:20240611T170000
DTEND;TZID=America/Chicago:20240611T183000
DTSTAMP:20260422T230744
CREATED:20240225T232108Z
LAST-MODIFIED:20240225T232225Z
UID:10000495-1718125200-1718130600@lopbc.org
SUMMARY:Deacon Meeting
DESCRIPTION:
URL:https://lopbc.org/church_event/deacon-meeting/2024-06-11/
CATEGORIES:Deacon
END:VEVENT
BEGIN:VEVENT
DTSTART;TZID=America/Chicago:20240514T170000
DTEND;TZID=America/Chicago:20240514T183000
DTSTAMP:20260422T230744
CREATED:20240225T232108Z
LAST-MODIFIED:20240225T232225Z
UID:10000494-1715706000-1715711400@lopbc.org
SUMMARY:Deacon Meeting
DESCRIPTION:
URL:https://lopbc.org/church_event/deacon-meeting/2024-05-14/
CATEGORIES:Deacon
END:VEVENT
BEGIN:VEVENT
DTSTART;TZID=America/Chicago:20240409T170000
DTEND;TZID=America/Chicago:20240409T183000
DTSTAMP:20260422T230744
CREATED:20240225T232108Z
LAST-MODIFIED:20240225T232225Z
UID:10000493-1712682000-1712687400@lopbc.org
SUMMARY:Deacon Meeting
DESCRIPTION:
URL:https://lopbc.org/church_event/deacon-meeting/2024-04-09/
CATEGORIES:Deacon
END:VEVENT
BEGIN:VEVENT
DTSTART;TZID=America/Chicago:20240312T170000
DTEND;TZID=America/Chicago:20240312T183000
DTSTAMP:20260422T230744
CREATED:20240225T232108Z
LAST-MODIFIED:20240225T232225Z
UID:10000492-1710262800-1710268200@lopbc.org
SUMMARY:Deacon Meeting
DESCRIPTION:
URL:https://lopbc.org/church_event/deacon-meeting/2024-03-12/
CATEGORIES:Deacon
END:VEVENT
END:VCALENDAR