BEGIN:VCALENDAR
VERSION:2.0
PRODID:-//Lake O&#039; The Pines Baptist Church - ECPv6.15.20//NONSGML v1.0//EN
CALSCALE:GREGORIAN
METHOD:PUBLISH
X-ORIGINAL-URL:https://lopbc.org
X-WR-CALDESC:Events for Lake O&#039; The Pines Baptist Church
REFRESH-INTERVAL;VALUE=DURATION:PT1H
X-Robots-Tag:noindex
X-PUBLISHED-TTL:PT1H
BEGIN:VTIMEZONE
TZID:America/Chicago
BEGIN:DAYLIGHT
TZOFFSETFROM:-0600
TZOFFSETTO:-0500
TZNAME:CDT
DTSTART:20270314T080000
END:DAYLIGHT
BEGIN:STANDARD
TZOFFSETFROM:-0500
TZOFFSETTO:-0600
TZNAME:CST
DTSTART:20271107T070000
END:STANDARD
BEGIN:DAYLIGHT
TZOFFSETFROM:-0600
TZOFFSETTO:-0500
TZNAME:CDT
DTSTART:20280312T080000
END:DAYLIGHT
BEGIN:STANDARD
TZOFFSETFROM:-0500
TZOFFSETTO:-0600
TZNAME:CST
DTSTART:20281105T070000
END:STANDARD
BEGIN:DAYLIGHT
TZOFFSETFROM:-0600
TZOFFSETTO:-0500
TZNAME:CDT
DTSTART:20290311T080000
END:DAYLIGHT
BEGIN:STANDARD
TZOFFSETFROM:-0500
TZOFFSETTO:-0600
TZNAME:CST
DTSTART:20291104T070000
END:STANDARD
BEGIN:DAYLIGHT
TZOFFSETFROM:-0600
TZOFFSETTO:-0500
TZNAME:CDT
DTSTART:20300310T080000
END:DAYLIGHT
BEGIN:STANDARD
TZOFFSETFROM:-0500
TZOFFSETTO:-0600
TZNAME:CST
DTSTART:20301103T070000
END:STANDARD
BEGIN:DAYLIGHT
TZOFFSETFROM:-0600
TZOFFSETTO:-0500
TZNAME:CDT
DTSTART:20310309T080000
END:DAYLIGHT
BEGIN:STANDARD
TZOFFSETFROM:-0500
TZOFFSETTO:-0600
TZNAME:CST
DTSTART:20311102T070000
END:STANDARD
END:VTIMEZONE
BEGIN:VEVENT
DTSTART;TZID=America/Chicago:20280502T173000
DTEND;TZID=America/Chicago:20280502T183000
DTSTAMP:20260423T001448
CREATED:20250130T211824Z
LAST-MODIFIED:20250130T211824Z
UID:10001388-1840901400-1840905000@lopbc.org
SUMMARY:Deacon Meeting
DESCRIPTION:
URL:https://lopbc.org/church_event/deacon-meeting-2/2028-05-02/
CATEGORIES:Deacon
END:VEVENT
BEGIN:VEVENT
DTSTART;TZID=America/Chicago:20280606T173000
DTEND;TZID=America/Chicago:20280606T183000
DTSTAMP:20260423T001448
CREATED:20250130T211824Z
LAST-MODIFIED:20250130T211824Z
UID:10001389-1843925400-1843929000@lopbc.org
SUMMARY:Deacon Meeting
DESCRIPTION:
URL:https://lopbc.org/church_event/deacon-meeting-2/2028-06-06/
CATEGORIES:Deacon
END:VEVENT
BEGIN:VEVENT
DTSTART;TZID=America/Chicago:20280704T173000
DTEND;TZID=America/Chicago:20280704T183000
DTSTAMP:20260423T001448
CREATED:20250130T211824Z
LAST-MODIFIED:20250130T211824Z
UID:10001390-1846344600-1846348200@lopbc.org
SUMMARY:Deacon Meeting
DESCRIPTION:
URL:https://lopbc.org/church_event/deacon-meeting-2/2028-07-04/
CATEGORIES:Deacon
END:VEVENT
BEGIN:VEVENT
DTSTART;TZID=America/Chicago:20280801T173000
DTEND;TZID=America/Chicago:20280801T183000
DTSTAMP:20260423T001448
CREATED:20250130T211824Z
LAST-MODIFIED:20250130T211824Z
UID:10001391-1848763800-1848767400@lopbc.org
SUMMARY:Deacon Meeting
DESCRIPTION:
URL:https://lopbc.org/church_event/deacon-meeting-2/2028-08-01/
CATEGORIES:Deacon
END:VEVENT
BEGIN:VEVENT
DTSTART;TZID=America/Chicago:20280905T173000
DTEND;TZID=America/Chicago:20280905T183000
DTSTAMP:20260423T001448
CREATED:20250130T211824Z
LAST-MODIFIED:20250130T211824Z
UID:10001392-1851787800-1851791400@lopbc.org
SUMMARY:Deacon Meeting
DESCRIPTION:
URL:https://lopbc.org/church_event/deacon-meeting-2/2028-09-05/
CATEGORIES:Deacon
END:VEVENT
BEGIN:VEVENT
DTSTART;TZID=America/Chicago:20281003T173000
DTEND;TZID=America/Chicago:20281003T183000
DTSTAMP:20260423T001448
CREATED:20250130T211824Z
LAST-MODIFIED:20250130T211824Z
UID:10001393-1854207000-1854210600@lopbc.org
SUMMARY:Deacon Meeting
DESCRIPTION:
URL:https://lopbc.org/church_event/deacon-meeting-2/2028-10-03/
CATEGORIES:Deacon
END:VEVENT
BEGIN:VEVENT
DTSTART;TZID=America/Chicago:20281107T173000
DTEND;TZID=America/Chicago:20281107T183000
DTSTAMP:20260423T001448
CREATED:20250130T211824Z
LAST-MODIFIED:20250130T211824Z
UID:10001394-1857231000-1857234600@lopbc.org
SUMMARY:Deacon Meeting
DESCRIPTION:
URL:https://lopbc.org/church_event/deacon-meeting-2/2028-11-07/
CATEGORIES:Deacon
END:VEVENT
BEGIN:VEVENT
DTSTART;TZID=America/Chicago:20281205T173000
DTEND;TZID=America/Chicago:20281205T183000
DTSTAMP:20260423T001448
CREATED:20250130T211824Z
LAST-MODIFIED:20250130T211824Z
UID:10001395-1859650200-1859653800@lopbc.org
SUMMARY:Deacon Meeting
DESCRIPTION:
URL:https://lopbc.org/church_event/deacon-meeting-2/2028-12-05/
CATEGORIES:Deacon
END:VEVENT
BEGIN:VEVENT
DTSTART;TZID=America/Chicago:20290102T173000
DTEND;TZID=America/Chicago:20290102T183000
DTSTAMP:20260423T001448
CREATED:20250130T211824Z
LAST-MODIFIED:20250130T211824Z
UID:10001396-1862069400-1862073000@lopbc.org
SUMMARY:Deacon Meeting
DESCRIPTION:
URL:https://lopbc.org/church_event/deacon-meeting-2/2029-01-02/
CATEGORIES:Deacon
END:VEVENT
BEGIN:VEVENT
DTSTART;TZID=America/Chicago:20290206T173000
DTEND;TZID=America/Chicago:20290206T183000
DTSTAMP:20260423T001448
CREATED:20250130T211824Z
LAST-MODIFIED:20250130T211824Z
UID:10001397-1865093400-1865097000@lopbc.org
SUMMARY:Deacon Meeting
DESCRIPTION:
URL:https://lopbc.org/church_event/deacon-meeting-2/2029-02-06/
CATEGORIES:Deacon
END:VEVENT
BEGIN:VEVENT
DTSTART;TZID=America/Chicago:20290306T173000
DTEND;TZID=America/Chicago:20290306T183000
DTSTAMP:20260423T001448
CREATED:20250130T211824Z
LAST-MODIFIED:20250130T211824Z
UID:10001398-1867512600-1867516200@lopbc.org
SUMMARY:Deacon Meeting
DESCRIPTION:
URL:https://lopbc.org/church_event/deacon-meeting-2/2029-03-06/
CATEGORIES:Deacon
END:VEVENT
BEGIN:VEVENT
DTSTART;TZID=America/Chicago:20290403T173000
DTEND;TZID=America/Chicago:20290403T183000
DTSTAMP:20260423T001448
CREATED:20250130T211824Z
LAST-MODIFIED:20250130T211824Z
UID:10001399-1869931800-1869935400@lopbc.org
SUMMARY:Deacon Meeting
DESCRIPTION:
URL:https://lopbc.org/church_event/deacon-meeting-2/2029-04-03/
CATEGORIES:Deacon
END:VEVENT
BEGIN:VEVENT
DTSTART;TZID=America/Chicago:20290501T173000
DTEND;TZID=America/Chicago:20290501T183000
DTSTAMP:20260423T001448
CREATED:20250130T211824Z
LAST-MODIFIED:20250130T211824Z
UID:10001400-1872351000-1872354600@lopbc.org
SUMMARY:Deacon Meeting
DESCRIPTION:
URL:https://lopbc.org/church_event/deacon-meeting-2/2029-05-01/
CATEGORIES:Deacon
END:VEVENT
BEGIN:VEVENT
DTSTART;TZID=America/Chicago:20290605T173000
DTEND;TZID=America/Chicago:20290605T183000
DTSTAMP:20260423T001448
CREATED:20250130T211824Z
LAST-MODIFIED:20250130T211824Z
UID:10001401-1875375000-1875378600@lopbc.org
SUMMARY:Deacon Meeting
DESCRIPTION:
URL:https://lopbc.org/church_event/deacon-meeting-2/2029-06-05/
CATEGORIES:Deacon
END:VEVENT
BEGIN:VEVENT
DTSTART;TZID=America/Chicago:20290703T173000
DTEND;TZID=America/Chicago:20290703T183000
DTSTAMP:20260423T001448
CREATED:20250130T211824Z
LAST-MODIFIED:20250130T211824Z
UID:10001402-1877794200-1877797800@lopbc.org
SUMMARY:Deacon Meeting
DESCRIPTION:
URL:https://lopbc.org/church_event/deacon-meeting-2/2029-07-03/
CATEGORIES:Deacon
END:VEVENT
BEGIN:VEVENT
DTSTART;TZID=America/Chicago:20290807T173000
DTEND;TZID=America/Chicago:20290807T183000
DTSTAMP:20260423T001448
CREATED:20250130T211824Z
LAST-MODIFIED:20250130T211824Z
UID:10001403-1880818200-1880821800@lopbc.org
SUMMARY:Deacon Meeting
DESCRIPTION:
URL:https://lopbc.org/church_event/deacon-meeting-2/2029-08-07/
CATEGORIES:Deacon
END:VEVENT
BEGIN:VEVENT
DTSTART;TZID=America/Chicago:20290904T173000
DTEND;TZID=America/Chicago:20290904T183000
DTSTAMP:20260423T001448
CREATED:20250130T211824Z
LAST-MODIFIED:20250130T211824Z
UID:10001404-1883237400-1883241000@lopbc.org
SUMMARY:Deacon Meeting
DESCRIPTION:
URL:https://lopbc.org/church_event/deacon-meeting-2/2029-09-04/
CATEGORIES:Deacon
END:VEVENT
BEGIN:VEVENT
DTSTART;TZID=America/Chicago:20291002T173000
DTEND;TZID=America/Chicago:20291002T183000
DTSTAMP:20260423T001448
CREATED:20250130T211824Z
LAST-MODIFIED:20250130T211824Z
UID:10001405-1885656600-1885660200@lopbc.org
SUMMARY:Deacon Meeting
DESCRIPTION:
URL:https://lopbc.org/church_event/deacon-meeting-2/2029-10-02/
CATEGORIES:Deacon
END:VEVENT
BEGIN:VEVENT
DTSTART;TZID=America/Chicago:20291106T173000
DTEND;TZID=America/Chicago:20291106T183000
DTSTAMP:20260423T001448
CREATED:20250130T211824Z
LAST-MODIFIED:20250130T211824Z
UID:10001406-1888680600-1888684200@lopbc.org
SUMMARY:Deacon Meeting
DESCRIPTION:
URL:https://lopbc.org/church_event/deacon-meeting-2/2029-11-06/
CATEGORIES:Deacon
END:VEVENT
BEGIN:VEVENT
DTSTART;TZID=America/Chicago:20291204T173000
DTEND;TZID=America/Chicago:20291204T183000
DTSTAMP:20260423T001448
CREATED:20250130T211824Z
LAST-MODIFIED:20250130T211824Z
UID:10001407-1891099800-1891103400@lopbc.org
SUMMARY:Deacon Meeting
DESCRIPTION:
URL:https://lopbc.org/church_event/deacon-meeting-2/2029-12-04/
CATEGORIES:Deacon
END:VEVENT
BEGIN:VEVENT
DTSTART;TZID=America/Chicago:20300101T173000
DTEND;TZID=America/Chicago:20300101T183000
DTSTAMP:20260423T001448
CREATED:20250130T211824Z
LAST-MODIFIED:20250130T211824Z
UID:10001408-1893519000-1893522600@lopbc.org
SUMMARY:Deacon Meeting
DESCRIPTION:
URL:https://lopbc.org/church_event/deacon-meeting-2/2030-01-01/
CATEGORIES:Deacon
END:VEVENT
END:VCALENDAR