BEGIN:VCALENDAR
VERSION:2.0
PRODID:-//Lake O&#039; The Pines Baptist Church - ECPv6.15.20//NONSGML v1.0//EN
CALSCALE:GREGORIAN
METHOD:PUBLISH
X-ORIGINAL-URL:https://lopbc.org
X-WR-CALDESC:Events for Lake O&#039; The Pines Baptist Church
REFRESH-INTERVAL;VALUE=DURATION:PT1H
X-Robots-Tag:noindex
X-PUBLISHED-TTL:PT1H
BEGIN:VTIMEZONE
TZID:America/Chicago
BEGIN:DAYLIGHT
TZOFFSETFROM:-0600
TZOFFSETTO:-0500
TZNAME:CDT
DTSTART:20230312T080000
END:DAYLIGHT
BEGIN:STANDARD
TZOFFSETFROM:-0500
TZOFFSETTO:-0600
TZNAME:CST
DTSTART:20231105T070000
END:STANDARD
BEGIN:DAYLIGHT
TZOFFSETFROM:-0600
TZOFFSETTO:-0500
TZNAME:CDT
DTSTART:20240310T080000
END:DAYLIGHT
BEGIN:STANDARD
TZOFFSETFROM:-0500
TZOFFSETTO:-0600
TZNAME:CST
DTSTART:20241103T070000
END:STANDARD
BEGIN:DAYLIGHT
TZOFFSETFROM:-0600
TZOFFSETTO:-0500
TZNAME:CDT
DTSTART:20250309T080000
END:DAYLIGHT
BEGIN:STANDARD
TZOFFSETFROM:-0500
TZOFFSETTO:-0600
TZNAME:CST
DTSTART:20251102T070000
END:STANDARD
BEGIN:DAYLIGHT
TZOFFSETFROM:-0600
TZOFFSETTO:-0500
TZNAME:CDT
DTSTART:20260308T080000
END:DAYLIGHT
BEGIN:STANDARD
TZOFFSETFROM:-0500
TZOFFSETTO:-0600
TZNAME:CST
DTSTART:20261101T070000
END:STANDARD
END:VTIMEZONE
BEGIN:VEVENT
DTSTART;VALUE=DATE:20251111
DTEND;VALUE=DATE:20251112
DTSTAMP:20260423T040423
CREATED:20250131T165057Z
LAST-MODIFIED:20250131T165057Z
UID:10003868-1762819200-1762905599@lopbc.org
SUMMARY:Veteran's Day
DESCRIPTION:
URL:https://lopbc.org/church_event/veterans-day/
CATEGORIES:Church-wide,Community,Holiday
END:VEVENT
BEGIN:VEVENT
DTSTART;VALUE=DATE:20250704
DTEND;VALUE=DATE:20250705
DTSTAMP:20260423T040423
CREATED:20250131T013941Z
LAST-MODIFIED:20250131T013941Z
UID:10003765-1751587200-1751673599@lopbc.org
SUMMARY:Independence Day
DESCRIPTION:
URL:https://lopbc.org/church_event/independence-day-2/
CATEGORIES:Church-wide,Community,Holiday
END:VEVENT
BEGIN:VEVENT
DTSTART;VALUE=DATE:20250511
DTEND;VALUE=DATE:20250512
DTSTAMP:20260423T040423
CREATED:20250131T011305Z
LAST-MODIFIED:20250131T011305Z
UID:10003379-1746921600-1747007999@lopbc.org
SUMMARY:Mother's Day
DESCRIPTION:
URL:https://lopbc.org/church_event/mothers-day-2/
CATEGORIES:Church-wide,Community,Holiday
END:VEVENT
BEGIN:VEVENT
DTSTART;VALUE=DATE:20250418
DTEND;VALUE=DATE:20250419
DTSTAMP:20260423T040423
CREATED:20250131T004120Z
LAST-MODIFIED:20250131T004120Z
UID:10003361-1744934400-1745020799@lopbc.org
SUMMARY:Good Friday
DESCRIPTION:
URL:https://lopbc.org/church_event/good-friday-2/
CATEGORIES:Church-wide,Community,Holiday
END:VEVENT
BEGIN:VEVENT
DTSTART;TZID=America/Chicago:20250130T080000
DTEND;TZID=America/Chicago:20250130T170000
DTSTAMP:20260423T040423
CREATED:20250131T011402Z
LAST-MODIFIED:20250131T011402Z
UID:10003380-1738224000-1738256400@lopbc.org
SUMMARY:Memorial Day
DESCRIPTION:
URL:https://lopbc.org/church_event/memorial-day/
CATEGORIES:Church-wide,Community,Holiday
END:VEVENT
BEGIN:VEVENT
DTSTART;VALUE=DATE:20241128
DTEND;VALUE=DATE:20241129
DTSTAMP:20260423T040423
CREATED:20240226T182030Z
LAST-MODIFIED:20240227T000225Z
UID:10000823-1732752000-1732838399@lopbc.org
SUMMARY:Thanksgiving
DESCRIPTION:
URL:https://lopbc.org/church_event/thanksgiving/
CATEGORIES:Church-wide,Holiday
END:VEVENT
BEGIN:VEVENT
DTSTART;VALUE=DATE:20240902
DTEND;VALUE=DATE:20240903
DTSTAMP:20260423T040423
CREATED:20240226T180506Z
LAST-MODIFIED:20240227T000310Z
UID:10000817-1725235200-1725321599@lopbc.org
SUMMARY:Labor Day
DESCRIPTION:
URL:https://lopbc.org/church_event/labor-day/
CATEGORIES:Church-wide,Holiday
END:VEVENT
BEGIN:VEVENT
DTSTART;VALUE=DATE:20240704
DTEND;VALUE=DATE:20240705
DTSTAMP:20260423T040423
CREATED:20240226T175537Z
LAST-MODIFIED:20240227T000341Z
UID:10000813-1720051200-1720137599@lopbc.org
SUMMARY:Independence Day
DESCRIPTION:
URL:https://lopbc.org/church_event/independence-day/
CATEGORIES:Church-wide,Holiday
END:VEVENT
BEGIN:VEVENT
DTSTART;VALUE=DATE:20240616
DTEND;VALUE=DATE:20240617
DTSTAMP:20260423T040423
CREATED:20240226T175314Z
LAST-MODIFIED:20240227T000355Z
UID:10000812-1718496000-1718582399@lopbc.org
SUMMARY:Father's Day
DESCRIPTION:
URL:https://lopbc.org/church_event/fathers-day/
CATEGORIES:Church-wide,Holiday
END:VEVENT
BEGIN:VEVENT
DTSTART;VALUE=DATE:20240512
DTEND;VALUE=DATE:20240513
DTSTAMP:20260423T040423
CREATED:20240226T175035Z
LAST-MODIFIED:20240227T000412Z
UID:10000811-1715472000-1715558399@lopbc.org
SUMMARY:Mother's Day
DESCRIPTION:
URL:https://lopbc.org/church_event/mothers-day/
CATEGORIES:Church-wide,Holiday
END:VEVENT
BEGIN:VEVENT
DTSTART;VALUE=DATE:20240329
DTEND;VALUE=DATE:20240330
DTSTAMP:20260423T040423
CREATED:20240226T172725Z
LAST-MODIFIED:20240227T000455Z
UID:10000797-1711670400-1711756799@lopbc.org
SUMMARY:Good Friday
DESCRIPTION:
URL:https://lopbc.org/church_event/good-friday/
CATEGORIES:Church-wide,Holiday
END:VEVENT
END:VCALENDAR