BEGIN:VCALENDAR
VERSION:2.0
PRODID:-//Lake O&#039; The Pines Baptist Church - ECPv6.15.20//NONSGML v1.0//EN
CALSCALE:GREGORIAN
METHOD:PUBLISH
X-WR-CALNAME:Lake O&#039; The Pines Baptist Church
X-ORIGINAL-URL:https://lopbc.org
X-WR-CALDESC:Events for Lake O&#039; The Pines Baptist Church
REFRESH-INTERVAL;VALUE=DURATION:PT1H
X-Robots-Tag:noindex
X-PUBLISHED-TTL:PT1H
BEGIN:VTIMEZONE
TZID:America/Chicago
BEGIN:DAYLIGHT
TZOFFSETFROM:-0600
TZOFFSETTO:-0500
TZNAME:CDT
DTSTART:20270314T080000
END:DAYLIGHT
BEGIN:STANDARD
TZOFFSETFROM:-0500
TZOFFSETTO:-0600
TZNAME:CST
DTSTART:20271107T070000
END:STANDARD
BEGIN:DAYLIGHT
TZOFFSETFROM:-0600
TZOFFSETTO:-0500
TZNAME:CDT
DTSTART:20280312T080000
END:DAYLIGHT
BEGIN:STANDARD
TZOFFSETFROM:-0500
TZOFFSETTO:-0600
TZNAME:CST
DTSTART:20281105T070000
END:STANDARD
BEGIN:DAYLIGHT
TZOFFSETFROM:-0600
TZOFFSETTO:-0500
TZNAME:CDT
DTSTART:20290311T080000
END:DAYLIGHT
BEGIN:STANDARD
TZOFFSETFROM:-0500
TZOFFSETTO:-0600
TZNAME:CST
DTSTART:20291104T070000
END:STANDARD
BEGIN:DAYLIGHT
TZOFFSETFROM:-0600
TZOFFSETTO:-0500
TZNAME:CDT
DTSTART:20300310T080000
END:DAYLIGHT
BEGIN:STANDARD
TZOFFSETFROM:-0500
TZOFFSETTO:-0600
TZNAME:CST
DTSTART:20301103T070000
END:STANDARD
BEGIN:DAYLIGHT
TZOFFSETFROM:-0600
TZOFFSETTO:-0500
TZNAME:CDT
DTSTART:20310309T080000
END:DAYLIGHT
BEGIN:STANDARD
TZOFFSETFROM:-0500
TZOFFSETTO:-0600
TZNAME:CST
DTSTART:20311102T070000
END:STANDARD
END:VTIMEZONE
BEGIN:VEVENT
DTSTART;TZID=America/Chicago:20280516T173000
DTEND;TZID=America/Chicago:20280516T203000
DTSTAMP:20260423T002248
CREATED:20260222T201217Z
LAST-MODIFIED:20260222T201217Z
UID:10004129-1842111000-1842121800@lopbc.org
SUMMARY:Praying Hearts and Hands
DESCRIPTION:
URL:https://lopbc.org/church_event/praying-hearts-and-hands-2/2028-05-16/
CATEGORIES:Praying Hearts and Hands
END:VEVENT
BEGIN:VEVENT
DTSTART;TZID=America/Chicago:20280620T173000
DTEND;TZID=America/Chicago:20280620T203000
DTSTAMP:20260423T002248
CREATED:20260222T201217Z
LAST-MODIFIED:20260222T201217Z
UID:10004130-1845135000-1845145800@lopbc.org
SUMMARY:Praying Hearts and Hands
DESCRIPTION:
URL:https://lopbc.org/church_event/praying-hearts-and-hands-2/2028-06-20/
CATEGORIES:Praying Hearts and Hands
END:VEVENT
BEGIN:VEVENT
DTSTART;TZID=America/Chicago:20280718T173000
DTEND;TZID=America/Chicago:20280718T203000
DTSTAMP:20260423T002248
CREATED:20260222T201217Z
LAST-MODIFIED:20260222T201217Z
UID:10004131-1847554200-1847565000@lopbc.org
SUMMARY:Praying Hearts and Hands
DESCRIPTION:
URL:https://lopbc.org/church_event/praying-hearts-and-hands-2/2028-07-18/
CATEGORIES:Praying Hearts and Hands
END:VEVENT
BEGIN:VEVENT
DTSTART;TZID=America/Chicago:20280815T173000
DTEND;TZID=America/Chicago:20280815T203000
DTSTAMP:20260423T002248
CREATED:20260222T201217Z
LAST-MODIFIED:20260222T201217Z
UID:10004132-1849973400-1849984200@lopbc.org
SUMMARY:Praying Hearts and Hands
DESCRIPTION:
URL:https://lopbc.org/church_event/praying-hearts-and-hands-2/2028-08-15/
CATEGORIES:Praying Hearts and Hands
END:VEVENT
BEGIN:VEVENT
DTSTART;TZID=America/Chicago:20280919T173000
DTEND;TZID=America/Chicago:20280919T203000
DTSTAMP:20260423T002248
CREATED:20260222T201217Z
LAST-MODIFIED:20260222T201217Z
UID:10004133-1852997400-1853008200@lopbc.org
SUMMARY:Praying Hearts and Hands
DESCRIPTION:
URL:https://lopbc.org/church_event/praying-hearts-and-hands-2/2028-09-19/
CATEGORIES:Praying Hearts and Hands
END:VEVENT
BEGIN:VEVENT
DTSTART;TZID=America/Chicago:20281017T173000
DTEND;TZID=America/Chicago:20281017T203000
DTSTAMP:20260423T002248
CREATED:20260222T201217Z
LAST-MODIFIED:20260222T201217Z
UID:10004134-1855416600-1855427400@lopbc.org
SUMMARY:Praying Hearts and Hands
DESCRIPTION:
URL:https://lopbc.org/church_event/praying-hearts-and-hands-2/2028-10-17/
CATEGORIES:Praying Hearts and Hands
END:VEVENT
BEGIN:VEVENT
DTSTART;TZID=America/Chicago:20281121T173000
DTEND;TZID=America/Chicago:20281121T203000
DTSTAMP:20260423T002248
CREATED:20260222T201217Z
LAST-MODIFIED:20260222T201217Z
UID:10004135-1858440600-1858451400@lopbc.org
SUMMARY:Praying Hearts and Hands
DESCRIPTION:
URL:https://lopbc.org/church_event/praying-hearts-and-hands-2/2028-11-21/
CATEGORIES:Praying Hearts and Hands
END:VEVENT
BEGIN:VEVENT
DTSTART;TZID=America/Chicago:20281219T173000
DTEND;TZID=America/Chicago:20281219T203000
DTSTAMP:20260423T002248
CREATED:20260222T201217Z
LAST-MODIFIED:20260222T201217Z
UID:10004136-1860859800-1860870600@lopbc.org
SUMMARY:Praying Hearts and Hands
DESCRIPTION:
URL:https://lopbc.org/church_event/praying-hearts-and-hands-2/2028-12-19/
CATEGORIES:Praying Hearts and Hands
END:VEVENT
BEGIN:VEVENT
DTSTART;TZID=America/Chicago:20290116T173000
DTEND;TZID=America/Chicago:20290116T203000
DTSTAMP:20260423T002248
CREATED:20260222T201217Z
LAST-MODIFIED:20260222T201217Z
UID:10004137-1863279000-1863289800@lopbc.org
SUMMARY:Praying Hearts and Hands
DESCRIPTION:
URL:https://lopbc.org/church_event/praying-hearts-and-hands-2/2029-01-16/
CATEGORIES:Praying Hearts and Hands
END:VEVENT
BEGIN:VEVENT
DTSTART;TZID=America/Chicago:20290220T173000
DTEND;TZID=America/Chicago:20290220T203000
DTSTAMP:20260423T002248
CREATED:20260222T201217Z
LAST-MODIFIED:20260222T201217Z
UID:10004138-1866303000-1866313800@lopbc.org
SUMMARY:Praying Hearts and Hands
DESCRIPTION:
URL:https://lopbc.org/church_event/praying-hearts-and-hands-2/2029-02-20/
CATEGORIES:Praying Hearts and Hands
END:VEVENT
BEGIN:VEVENT
DTSTART;TZID=America/Chicago:20290320T173000
DTEND;TZID=America/Chicago:20290320T203000
DTSTAMP:20260423T002248
CREATED:20260222T201217Z
LAST-MODIFIED:20260222T201217Z
UID:10004139-1868722200-1868733000@lopbc.org
SUMMARY:Praying Hearts and Hands
DESCRIPTION:
URL:https://lopbc.org/church_event/praying-hearts-and-hands-2/2029-03-20/
CATEGORIES:Praying Hearts and Hands
END:VEVENT
BEGIN:VEVENT
DTSTART;TZID=America/Chicago:20290417T173000
DTEND;TZID=America/Chicago:20290417T203000
DTSTAMP:20260423T002248
CREATED:20260222T201217Z
LAST-MODIFIED:20260222T201217Z
UID:10004140-1871141400-1871152200@lopbc.org
SUMMARY:Praying Hearts and Hands
DESCRIPTION:
URL:https://lopbc.org/church_event/praying-hearts-and-hands-2/2029-04-17/
CATEGORIES:Praying Hearts and Hands
END:VEVENT
BEGIN:VEVENT
DTSTART;TZID=America/Chicago:20290515T173000
DTEND;TZID=America/Chicago:20290515T203000
DTSTAMP:20260423T002248
CREATED:20260222T201217Z
LAST-MODIFIED:20260222T201217Z
UID:10004141-1873560600-1873571400@lopbc.org
SUMMARY:Praying Hearts and Hands
DESCRIPTION:
URL:https://lopbc.org/church_event/praying-hearts-and-hands-2/2029-05-15/
CATEGORIES:Praying Hearts and Hands
END:VEVENT
BEGIN:VEVENT
DTSTART;TZID=America/Chicago:20290619T173000
DTEND;TZID=America/Chicago:20290619T203000
DTSTAMP:20260423T002248
CREATED:20260222T201217Z
LAST-MODIFIED:20260222T201217Z
UID:10004142-1876584600-1876595400@lopbc.org
SUMMARY:Praying Hearts and Hands
DESCRIPTION:
URL:https://lopbc.org/church_event/praying-hearts-and-hands-2/2029-06-19/
CATEGORIES:Praying Hearts and Hands
END:VEVENT
BEGIN:VEVENT
DTSTART;TZID=America/Chicago:20290717T173000
DTEND;TZID=America/Chicago:20290717T203000
DTSTAMP:20260423T002248
CREATED:20260222T201217Z
LAST-MODIFIED:20260222T201217Z
UID:10004143-1879003800-1879014600@lopbc.org
SUMMARY:Praying Hearts and Hands
DESCRIPTION:
URL:https://lopbc.org/church_event/praying-hearts-and-hands-2/2029-07-17/
CATEGORIES:Praying Hearts and Hands
END:VEVENT
BEGIN:VEVENT
DTSTART;TZID=America/Chicago:20290821T173000
DTEND;TZID=America/Chicago:20290821T203000
DTSTAMP:20260423T002248
CREATED:20260222T201217Z
LAST-MODIFIED:20260222T201217Z
UID:10004144-1882027800-1882038600@lopbc.org
SUMMARY:Praying Hearts and Hands
DESCRIPTION:
URL:https://lopbc.org/church_event/praying-hearts-and-hands-2/2029-08-21/
CATEGORIES:Praying Hearts and Hands
END:VEVENT
BEGIN:VEVENT
DTSTART;TZID=America/Chicago:20290918T173000
DTEND;TZID=America/Chicago:20290918T203000
DTSTAMP:20260423T002248
CREATED:20260222T201217Z
LAST-MODIFIED:20260222T201217Z
UID:10004145-1884447000-1884457800@lopbc.org
SUMMARY:Praying Hearts and Hands
DESCRIPTION:
URL:https://lopbc.org/church_event/praying-hearts-and-hands-2/2029-09-18/
CATEGORIES:Praying Hearts and Hands
END:VEVENT
BEGIN:VEVENT
DTSTART;TZID=America/Chicago:20291016T173000
DTEND;TZID=America/Chicago:20291016T203000
DTSTAMP:20260423T002248
CREATED:20260222T201217Z
LAST-MODIFIED:20260222T201217Z
UID:10004146-1886866200-1886877000@lopbc.org
SUMMARY:Praying Hearts and Hands
DESCRIPTION:
URL:https://lopbc.org/church_event/praying-hearts-and-hands-2/2029-10-16/
CATEGORIES:Praying Hearts and Hands
END:VEVENT
BEGIN:VEVENT
DTSTART;TZID=America/Chicago:20291120T173000
DTEND;TZID=America/Chicago:20291120T203000
DTSTAMP:20260423T002248
CREATED:20260222T201217Z
LAST-MODIFIED:20260222T201217Z
UID:10004147-1889890200-1889901000@lopbc.org
SUMMARY:Praying Hearts and Hands
DESCRIPTION:
URL:https://lopbc.org/church_event/praying-hearts-and-hands-2/2029-11-20/
CATEGORIES:Praying Hearts and Hands
END:VEVENT
BEGIN:VEVENT
DTSTART;TZID=America/Chicago:20291218T173000
DTEND;TZID=America/Chicago:20291218T203000
DTSTAMP:20260423T002248
CREATED:20260222T201217Z
LAST-MODIFIED:20260222T201217Z
UID:10004148-1892309400-1892320200@lopbc.org
SUMMARY:Praying Hearts and Hands
DESCRIPTION:
URL:https://lopbc.org/church_event/praying-hearts-and-hands-2/2029-12-18/
CATEGORIES:Praying Hearts and Hands
END:VEVENT
BEGIN:VEVENT
DTSTART;TZID=America/Chicago:20300115T173000
DTEND;TZID=America/Chicago:20300115T203000
DTSTAMP:20260423T002248
CREATED:20260222T201217Z
LAST-MODIFIED:20260222T201217Z
UID:10004149-1894728600-1894739400@lopbc.org
SUMMARY:Praying Hearts and Hands
DESCRIPTION:
URL:https://lopbc.org/church_event/praying-hearts-and-hands-2/2030-01-15/
CATEGORIES:Praying Hearts and Hands
END:VEVENT
BEGIN:VEVENT
DTSTART;TZID=America/Chicago:20300219T173000
DTEND;TZID=America/Chicago:20300219T203000
DTSTAMP:20260423T002248
CREATED:20260222T201217Z
LAST-MODIFIED:20260222T201217Z
UID:10004150-1897752600-1897763400@lopbc.org
SUMMARY:Praying Hearts and Hands
DESCRIPTION:
URL:https://lopbc.org/church_event/praying-hearts-and-hands-2/2030-02-19/
CATEGORIES:Praying Hearts and Hands
END:VEVENT
BEGIN:VEVENT
DTSTART;TZID=America/Chicago:20300319T173000
DTEND;TZID=America/Chicago:20300319T203000
DTSTAMP:20260423T002248
CREATED:20260222T201217Z
LAST-MODIFIED:20260222T201217Z
UID:10004151-1900171800-1900182600@lopbc.org
SUMMARY:Praying Hearts and Hands
DESCRIPTION:
URL:https://lopbc.org/church_event/praying-hearts-and-hands-2/2030-03-19/
CATEGORIES:Praying Hearts and Hands
END:VEVENT
BEGIN:VEVENT
DTSTART;TZID=America/Chicago:20300416T173000
DTEND;TZID=America/Chicago:20300416T203000
DTSTAMP:20260423T002248
CREATED:20260222T201217Z
LAST-MODIFIED:20260222T201217Z
UID:10004152-1902591000-1902601800@lopbc.org
SUMMARY:Praying Hearts and Hands
DESCRIPTION:
URL:https://lopbc.org/church_event/praying-hearts-and-hands-2/2030-04-16/
CATEGORIES:Praying Hearts and Hands
END:VEVENT
BEGIN:VEVENT
DTSTART;TZID=America/Chicago:20300521T173000
DTEND;TZID=America/Chicago:20300521T203000
DTSTAMP:20260423T002248
CREATED:20260222T201217Z
LAST-MODIFIED:20260222T201217Z
UID:10004153-1905615000-1905625800@lopbc.org
SUMMARY:Praying Hearts and Hands
DESCRIPTION:
URL:https://lopbc.org/church_event/praying-hearts-and-hands-2/2030-05-21/
CATEGORIES:Praying Hearts and Hands
END:VEVENT
BEGIN:VEVENT
DTSTART;TZID=America/Chicago:20300618T173000
DTEND;TZID=America/Chicago:20300618T203000
DTSTAMP:20260423T002248
CREATED:20260222T201217Z
LAST-MODIFIED:20260222T201217Z
UID:10004154-1908034200-1908045000@lopbc.org
SUMMARY:Praying Hearts and Hands
DESCRIPTION:
URL:https://lopbc.org/church_event/praying-hearts-and-hands-2/2030-06-18/
CATEGORIES:Praying Hearts and Hands
END:VEVENT
BEGIN:VEVENT
DTSTART;TZID=America/Chicago:20300716T173000
DTEND;TZID=America/Chicago:20300716T203000
DTSTAMP:20260423T002248
CREATED:20260222T201217Z
LAST-MODIFIED:20260222T201217Z
UID:10004155-1910453400-1910464200@lopbc.org
SUMMARY:Praying Hearts and Hands
DESCRIPTION:
URL:https://lopbc.org/church_event/praying-hearts-and-hands-2/2030-07-16/
CATEGORIES:Praying Hearts and Hands
END:VEVENT
BEGIN:VEVENT
DTSTART;TZID=America/Chicago:20300820T173000
DTEND;TZID=America/Chicago:20300820T203000
DTSTAMP:20260423T002248
CREATED:20260222T201217Z
LAST-MODIFIED:20260222T201217Z
UID:10004156-1913477400-1913488200@lopbc.org
SUMMARY:Praying Hearts and Hands
DESCRIPTION:
URL:https://lopbc.org/church_event/praying-hearts-and-hands-2/2030-08-20/
CATEGORIES:Praying Hearts and Hands
END:VEVENT
BEGIN:VEVENT
DTSTART;TZID=America/Chicago:20300917T173000
DTEND;TZID=America/Chicago:20300917T203000
DTSTAMP:20260423T002248
CREATED:20260222T201217Z
LAST-MODIFIED:20260222T201217Z
UID:10004157-1915896600-1915907400@lopbc.org
SUMMARY:Praying Hearts and Hands
DESCRIPTION:
URL:https://lopbc.org/church_event/praying-hearts-and-hands-2/2030-09-17/
CATEGORIES:Praying Hearts and Hands
END:VEVENT
BEGIN:VEVENT
DTSTART;TZID=America/Chicago:20301015T173000
DTEND;TZID=America/Chicago:20301015T203000
DTSTAMP:20260423T002248
CREATED:20260222T201217Z
LAST-MODIFIED:20260222T201217Z
UID:10004158-1918315800-1918326600@lopbc.org
SUMMARY:Praying Hearts and Hands
DESCRIPTION:
URL:https://lopbc.org/church_event/praying-hearts-and-hands-2/2030-10-15/
CATEGORIES:Praying Hearts and Hands
END:VEVENT
END:VCALENDAR