BEGIN:VCALENDAR
VERSION:2.0
PRODID:-//Lake O&#039; The Pines Baptist Church - ECPv6.15.20//NONSGML v1.0//EN
CALSCALE:GREGORIAN
METHOD:PUBLISH
X-ORIGINAL-URL:https://lopbc.org
X-WR-CALDESC:Events for Lake O&#039; The Pines Baptist Church
REFRESH-INTERVAL;VALUE=DURATION:PT1H
X-Robots-Tag:noindex
X-PUBLISHED-TTL:PT1H
BEGIN:VTIMEZONE
TZID:America/Chicago
BEGIN:DAYLIGHT
TZOFFSETFROM:-0600
TZOFFSETTO:-0500
TZNAME:CDT
DTSTART:20280312T080000
END:DAYLIGHT
BEGIN:STANDARD
TZOFFSETFROM:-0500
TZOFFSETTO:-0600
TZNAME:CST
DTSTART:20281105T070000
END:STANDARD
BEGIN:DAYLIGHT
TZOFFSETFROM:-0600
TZOFFSETTO:-0500
TZNAME:CDT
DTSTART:20290311T080000
END:DAYLIGHT
BEGIN:STANDARD
TZOFFSETFROM:-0500
TZOFFSETTO:-0600
TZNAME:CST
DTSTART:20291104T070000
END:STANDARD
BEGIN:DAYLIGHT
TZOFFSETFROM:-0600
TZOFFSETTO:-0500
TZNAME:CDT
DTSTART:20300310T080000
END:DAYLIGHT
BEGIN:STANDARD
TZOFFSETFROM:-0500
TZOFFSETTO:-0600
TZNAME:CST
DTSTART:20301103T070000
END:STANDARD
END:VTIMEZONE
BEGIN:VEVENT
DTSTART;TZID=America/Chicago:20290128T093000
DTEND;TZID=America/Chicago:20290128T104500
DTSTAMP:20260423T151336
CREATED:20250130T213312Z
LAST-MODIFIED:20250131T005604Z
UID:10002152-1864287000-1864291500@lopbc.org
SUMMARY:Sunday AM Sunday School
DESCRIPTION:
URL:https://lopbc.org/church_event/sunday-am-sunday-school-2/2029-01-28/
LOCATION:Classrooms\, 9046 FM729\, Avinger\, TX\, 75630\, United States
CATEGORIES:Church-wide,Community,Sunday School
END:VEVENT
BEGIN:VEVENT
DTSTART;TZID=America/Chicago:20290204T093000
DTEND;TZID=America/Chicago:20290204T104500
DTSTAMP:20260423T151336
CREATED:20250130T213312Z
LAST-MODIFIED:20250131T005604Z
UID:10002153-1864891800-1864896300@lopbc.org
SUMMARY:Sunday AM Sunday School
DESCRIPTION:
URL:https://lopbc.org/church_event/sunday-am-sunday-school-2/2029-02-04/
LOCATION:Classrooms\, 9046 FM729\, Avinger\, TX\, 75630\, United States
CATEGORIES:Church-wide,Community,Sunday School
END:VEVENT
BEGIN:VEVENT
DTSTART;TZID=America/Chicago:20290211T093000
DTEND;TZID=America/Chicago:20290211T104500
DTSTAMP:20260423T151336
CREATED:20250130T213312Z
LAST-MODIFIED:20250131T005604Z
UID:10002154-1865496600-1865501100@lopbc.org
SUMMARY:Sunday AM Sunday School
DESCRIPTION:
URL:https://lopbc.org/church_event/sunday-am-sunday-school-2/2029-02-11/
LOCATION:Classrooms\, 9046 FM729\, Avinger\, TX\, 75630\, United States
CATEGORIES:Church-wide,Community,Sunday School
END:VEVENT
BEGIN:VEVENT
DTSTART;TZID=America/Chicago:20290218T093000
DTEND;TZID=America/Chicago:20290218T104500
DTSTAMP:20260423T151336
CREATED:20250130T213312Z
LAST-MODIFIED:20250131T005604Z
UID:10002155-1866101400-1866105900@lopbc.org
SUMMARY:Sunday AM Sunday School
DESCRIPTION:
URL:https://lopbc.org/church_event/sunday-am-sunday-school-2/2029-02-18/
LOCATION:Classrooms\, 9046 FM729\, Avinger\, TX\, 75630\, United States
CATEGORIES:Church-wide,Community,Sunday School
END:VEVENT
BEGIN:VEVENT
DTSTART;TZID=America/Chicago:20290225T093000
DTEND;TZID=America/Chicago:20290225T104500
DTSTAMP:20260423T151336
CREATED:20250130T213312Z
LAST-MODIFIED:20250131T005604Z
UID:10002156-1866706200-1866710700@lopbc.org
SUMMARY:Sunday AM Sunday School
DESCRIPTION:
URL:https://lopbc.org/church_event/sunday-am-sunday-school-2/2029-02-25/
LOCATION:Classrooms\, 9046 FM729\, Avinger\, TX\, 75630\, United States
CATEGORIES:Church-wide,Community,Sunday School
END:VEVENT
BEGIN:VEVENT
DTSTART;TZID=America/Chicago:20290304T093000
DTEND;TZID=America/Chicago:20290304T104500
DTSTAMP:20260423T151336
CREATED:20250130T213312Z
LAST-MODIFIED:20250131T005604Z
UID:10002157-1867311000-1867315500@lopbc.org
SUMMARY:Sunday AM Sunday School
DESCRIPTION:
URL:https://lopbc.org/church_event/sunday-am-sunday-school-2/2029-03-04/
LOCATION:Classrooms\, 9046 FM729\, Avinger\, TX\, 75630\, United States
CATEGORIES:Church-wide,Community,Sunday School
END:VEVENT
BEGIN:VEVENT
DTSTART;TZID=America/Chicago:20290311T093000
DTEND;TZID=America/Chicago:20290311T104500
DTSTAMP:20260423T151336
CREATED:20250130T213312Z
LAST-MODIFIED:20250131T005604Z
UID:10002158-1867915800-1867920300@lopbc.org
SUMMARY:Sunday AM Sunday School
DESCRIPTION:
URL:https://lopbc.org/church_event/sunday-am-sunday-school-2/2029-03-11/
LOCATION:Classrooms\, 9046 FM729\, Avinger\, TX\, 75630\, United States
CATEGORIES:Church-wide,Community,Sunday School
END:VEVENT
BEGIN:VEVENT
DTSTART;TZID=America/Chicago:20290318T093000
DTEND;TZID=America/Chicago:20290318T104500
DTSTAMP:20260423T151336
CREATED:20250130T213312Z
LAST-MODIFIED:20250131T005604Z
UID:10002159-1868520600-1868525100@lopbc.org
SUMMARY:Sunday AM Sunday School
DESCRIPTION:
URL:https://lopbc.org/church_event/sunday-am-sunday-school-2/2029-03-18/
LOCATION:Classrooms\, 9046 FM729\, Avinger\, TX\, 75630\, United States
CATEGORIES:Church-wide,Community,Sunday School
END:VEVENT
BEGIN:VEVENT
DTSTART;TZID=America/Chicago:20290325T093000
DTEND;TZID=America/Chicago:20290325T104500
DTSTAMP:20260423T151336
CREATED:20250130T213312Z
LAST-MODIFIED:20250131T005604Z
UID:10002160-1869125400-1869129900@lopbc.org
SUMMARY:Sunday AM Sunday School
DESCRIPTION:
URL:https://lopbc.org/church_event/sunday-am-sunday-school-2/2029-03-25/
LOCATION:Classrooms\, 9046 FM729\, Avinger\, TX\, 75630\, United States
CATEGORIES:Church-wide,Community,Sunday School
END:VEVENT
BEGIN:VEVENT
DTSTART;TZID=America/Chicago:20290401T093000
DTEND;TZID=America/Chicago:20290401T104500
DTSTAMP:20260423T151336
CREATED:20250130T213312Z
LAST-MODIFIED:20250131T005604Z
UID:10002161-1869730200-1869734700@lopbc.org
SUMMARY:Sunday AM Sunday School
DESCRIPTION:
URL:https://lopbc.org/church_event/sunday-am-sunday-school-2/2029-04-01/
LOCATION:Classrooms\, 9046 FM729\, Avinger\, TX\, 75630\, United States
CATEGORIES:Church-wide,Community,Sunday School
END:VEVENT
BEGIN:VEVENT
DTSTART;TZID=America/Chicago:20290408T093000
DTEND;TZID=America/Chicago:20290408T104500
DTSTAMP:20260423T151336
CREATED:20250130T213312Z
LAST-MODIFIED:20250131T005604Z
UID:10002162-1870335000-1870339500@lopbc.org
SUMMARY:Sunday AM Sunday School
DESCRIPTION:
URL:https://lopbc.org/church_event/sunday-am-sunday-school-2/2029-04-08/
LOCATION:Classrooms\, 9046 FM729\, Avinger\, TX\, 75630\, United States
CATEGORIES:Church-wide,Community,Sunday School
END:VEVENT
BEGIN:VEVENT
DTSTART;TZID=America/Chicago:20290415T093000
DTEND;TZID=America/Chicago:20290415T104500
DTSTAMP:20260423T151336
CREATED:20250130T213312Z
LAST-MODIFIED:20250131T005604Z
UID:10002163-1870939800-1870944300@lopbc.org
SUMMARY:Sunday AM Sunday School
DESCRIPTION:
URL:https://lopbc.org/church_event/sunday-am-sunday-school-2/2029-04-15/
LOCATION:Classrooms\, 9046 FM729\, Avinger\, TX\, 75630\, United States
CATEGORIES:Church-wide,Community,Sunday School
END:VEVENT
BEGIN:VEVENT
DTSTART;TZID=America/Chicago:20290422T093000
DTEND;TZID=America/Chicago:20290422T104500
DTSTAMP:20260423T151336
CREATED:20250130T213312Z
LAST-MODIFIED:20250131T005604Z
UID:10002164-1871544600-1871549100@lopbc.org
SUMMARY:Sunday AM Sunday School
DESCRIPTION:
URL:https://lopbc.org/church_event/sunday-am-sunday-school-2/2029-04-22/
LOCATION:Classrooms\, 9046 FM729\, Avinger\, TX\, 75630\, United States
CATEGORIES:Church-wide,Community,Sunday School
END:VEVENT
BEGIN:VEVENT
DTSTART;TZID=America/Chicago:20290429T093000
DTEND;TZID=America/Chicago:20290429T104500
DTSTAMP:20260423T151336
CREATED:20250130T213312Z
LAST-MODIFIED:20250131T005604Z
UID:10002165-1872149400-1872153900@lopbc.org
SUMMARY:Sunday AM Sunday School
DESCRIPTION:
URL:https://lopbc.org/church_event/sunday-am-sunday-school-2/2029-04-29/
LOCATION:Classrooms\, 9046 FM729\, Avinger\, TX\, 75630\, United States
CATEGORIES:Church-wide,Community,Sunday School
END:VEVENT
BEGIN:VEVENT
DTSTART;TZID=America/Chicago:20290506T093000
DTEND;TZID=America/Chicago:20290506T104500
DTSTAMP:20260423T151337
CREATED:20250130T213312Z
LAST-MODIFIED:20250131T005604Z
UID:10002166-1872754200-1872758700@lopbc.org
SUMMARY:Sunday AM Sunday School
DESCRIPTION:
URL:https://lopbc.org/church_event/sunday-am-sunday-school-2/2029-05-06/
LOCATION:Classrooms\, 9046 FM729\, Avinger\, TX\, 75630\, United States
CATEGORIES:Church-wide,Community,Sunday School
END:VEVENT
BEGIN:VEVENT
DTSTART;TZID=America/Chicago:20290513T093000
DTEND;TZID=America/Chicago:20290513T104500
DTSTAMP:20260423T151337
CREATED:20250130T213312Z
LAST-MODIFIED:20250131T005604Z
UID:10002167-1873359000-1873363500@lopbc.org
SUMMARY:Sunday AM Sunday School
DESCRIPTION:
URL:https://lopbc.org/church_event/sunday-am-sunday-school-2/2029-05-13/
LOCATION:Classrooms\, 9046 FM729\, Avinger\, TX\, 75630\, United States
CATEGORIES:Church-wide,Community,Sunday School
END:VEVENT
BEGIN:VEVENT
DTSTART;TZID=America/Chicago:20290520T093000
DTEND;TZID=America/Chicago:20290520T104500
DTSTAMP:20260423T151337
CREATED:20250130T213312Z
LAST-MODIFIED:20250131T005604Z
UID:10002168-1873963800-1873968300@lopbc.org
SUMMARY:Sunday AM Sunday School
DESCRIPTION:
URL:https://lopbc.org/church_event/sunday-am-sunday-school-2/2029-05-20/
LOCATION:Classrooms\, 9046 FM729\, Avinger\, TX\, 75630\, United States
CATEGORIES:Church-wide,Community,Sunday School
END:VEVENT
BEGIN:VEVENT
DTSTART;TZID=America/Chicago:20290527T093000
DTEND;TZID=America/Chicago:20290527T104500
DTSTAMP:20260423T151337
CREATED:20250130T213312Z
LAST-MODIFIED:20250131T005604Z
UID:10002169-1874568600-1874573100@lopbc.org
SUMMARY:Sunday AM Sunday School
DESCRIPTION:
URL:https://lopbc.org/church_event/sunday-am-sunday-school-2/2029-05-27/
LOCATION:Classrooms\, 9046 FM729\, Avinger\, TX\, 75630\, United States
CATEGORIES:Church-wide,Community,Sunday School
END:VEVENT
BEGIN:VEVENT
DTSTART;TZID=America/Chicago:20290603T093000
DTEND;TZID=America/Chicago:20290603T104500
DTSTAMP:20260423T151337
CREATED:20250130T213312Z
LAST-MODIFIED:20250131T005604Z
UID:10002170-1875173400-1875177900@lopbc.org
SUMMARY:Sunday AM Sunday School
DESCRIPTION:
URL:https://lopbc.org/church_event/sunday-am-sunday-school-2/2029-06-03/
LOCATION:Classrooms\, 9046 FM729\, Avinger\, TX\, 75630\, United States
CATEGORIES:Church-wide,Community,Sunday School
END:VEVENT
BEGIN:VEVENT
DTSTART;TZID=America/Chicago:20290610T093000
DTEND;TZID=America/Chicago:20290610T104500
DTSTAMP:20260423T151337
CREATED:20250130T213312Z
LAST-MODIFIED:20250131T005604Z
UID:10002171-1875778200-1875782700@lopbc.org
SUMMARY:Sunday AM Sunday School
DESCRIPTION:
URL:https://lopbc.org/church_event/sunday-am-sunday-school-2/2029-06-10/
LOCATION:Classrooms\, 9046 FM729\, Avinger\, TX\, 75630\, United States
CATEGORIES:Church-wide,Community,Sunday School
END:VEVENT
BEGIN:VEVENT
DTSTART;TZID=America/Chicago:20290617T093000
DTEND;TZID=America/Chicago:20290617T104500
DTSTAMP:20260423T151337
CREATED:20250130T213312Z
LAST-MODIFIED:20250131T005604Z
UID:10002172-1876383000-1876387500@lopbc.org
SUMMARY:Sunday AM Sunday School
DESCRIPTION:
URL:https://lopbc.org/church_event/sunday-am-sunday-school-2/2029-06-17/
LOCATION:Classrooms\, 9046 FM729\, Avinger\, TX\, 75630\, United States
CATEGORIES:Church-wide,Community,Sunday School
END:VEVENT
BEGIN:VEVENT
DTSTART;TZID=America/Chicago:20290624T093000
DTEND;TZID=America/Chicago:20290624T104500
DTSTAMP:20260423T151337
CREATED:20250130T213312Z
LAST-MODIFIED:20250131T005604Z
UID:10002173-1876987800-1876992300@lopbc.org
SUMMARY:Sunday AM Sunday School
DESCRIPTION:
URL:https://lopbc.org/church_event/sunday-am-sunday-school-2/2029-06-24/
LOCATION:Classrooms\, 9046 FM729\, Avinger\, TX\, 75630\, United States
CATEGORIES:Church-wide,Community,Sunday School
END:VEVENT
BEGIN:VEVENT
DTSTART;TZID=America/Chicago:20290701T093000
DTEND;TZID=America/Chicago:20290701T104500
DTSTAMP:20260423T151337
CREATED:20250130T213312Z
LAST-MODIFIED:20250131T005604Z
UID:10002174-1877592600-1877597100@lopbc.org
SUMMARY:Sunday AM Sunday School
DESCRIPTION:
URL:https://lopbc.org/church_event/sunday-am-sunday-school-2/2029-07-01/
LOCATION:Classrooms\, 9046 FM729\, Avinger\, TX\, 75630\, United States
CATEGORIES:Church-wide,Community,Sunday School
END:VEVENT
BEGIN:VEVENT
DTSTART;TZID=America/Chicago:20290708T093000
DTEND;TZID=America/Chicago:20290708T104500
DTSTAMP:20260423T151337
CREATED:20250130T213312Z
LAST-MODIFIED:20250131T005604Z
UID:10002175-1878197400-1878201900@lopbc.org
SUMMARY:Sunday AM Sunday School
DESCRIPTION:
URL:https://lopbc.org/church_event/sunday-am-sunday-school-2/2029-07-08/
LOCATION:Classrooms\, 9046 FM729\, Avinger\, TX\, 75630\, United States
CATEGORIES:Church-wide,Community,Sunday School
END:VEVENT
BEGIN:VEVENT
DTSTART;TZID=America/Chicago:20290715T093000
DTEND;TZID=America/Chicago:20290715T104500
DTSTAMP:20260423T151337
CREATED:20250130T213312Z
LAST-MODIFIED:20250131T005604Z
UID:10002176-1878802200-1878806700@lopbc.org
SUMMARY:Sunday AM Sunday School
DESCRIPTION:
URL:https://lopbc.org/church_event/sunday-am-sunday-school-2/2029-07-15/
LOCATION:Classrooms\, 9046 FM729\, Avinger\, TX\, 75630\, United States
CATEGORIES:Church-wide,Community,Sunday School
END:VEVENT
BEGIN:VEVENT
DTSTART;TZID=America/Chicago:20290722T093000
DTEND;TZID=America/Chicago:20290722T104500
DTSTAMP:20260423T151337
CREATED:20250130T213312Z
LAST-MODIFIED:20250131T005604Z
UID:10002177-1879407000-1879411500@lopbc.org
SUMMARY:Sunday AM Sunday School
DESCRIPTION:
URL:https://lopbc.org/church_event/sunday-am-sunday-school-2/2029-07-22/
LOCATION:Classrooms\, 9046 FM729\, Avinger\, TX\, 75630\, United States
CATEGORIES:Church-wide,Community,Sunday School
END:VEVENT
BEGIN:VEVENT
DTSTART;TZID=America/Chicago:20290729T093000
DTEND;TZID=America/Chicago:20290729T104500
DTSTAMP:20260423T151337
CREATED:20250130T213312Z
LAST-MODIFIED:20250131T005604Z
UID:10002178-1880011800-1880016300@lopbc.org
SUMMARY:Sunday AM Sunday School
DESCRIPTION:
URL:https://lopbc.org/church_event/sunday-am-sunday-school-2/2029-07-29/
LOCATION:Classrooms\, 9046 FM729\, Avinger\, TX\, 75630\, United States
CATEGORIES:Church-wide,Community,Sunday School
END:VEVENT
BEGIN:VEVENT
DTSTART;TZID=America/Chicago:20290805T093000
DTEND;TZID=America/Chicago:20290805T104500
DTSTAMP:20260423T151337
CREATED:20250130T213312Z
LAST-MODIFIED:20250131T005604Z
UID:10002179-1880616600-1880621100@lopbc.org
SUMMARY:Sunday AM Sunday School
DESCRIPTION:
URL:https://lopbc.org/church_event/sunday-am-sunday-school-2/2029-08-05/
LOCATION:Classrooms\, 9046 FM729\, Avinger\, TX\, 75630\, United States
CATEGORIES:Church-wide,Community,Sunday School
END:VEVENT
BEGIN:VEVENT
DTSTART;TZID=America/Chicago:20290812T093000
DTEND;TZID=America/Chicago:20290812T104500
DTSTAMP:20260423T151337
CREATED:20250130T213312Z
LAST-MODIFIED:20250131T005604Z
UID:10002180-1881221400-1881225900@lopbc.org
SUMMARY:Sunday AM Sunday School
DESCRIPTION:
URL:https://lopbc.org/church_event/sunday-am-sunday-school-2/2029-08-12/
LOCATION:Classrooms\, 9046 FM729\, Avinger\, TX\, 75630\, United States
CATEGORIES:Church-wide,Community,Sunday School
END:VEVENT
BEGIN:VEVENT
DTSTART;TZID=America/Chicago:20290819T093000
DTEND;TZID=America/Chicago:20290819T104500
DTSTAMP:20260423T151337
CREATED:20250130T213312Z
LAST-MODIFIED:20250131T005604Z
UID:10002181-1881826200-1881830700@lopbc.org
SUMMARY:Sunday AM Sunday School
DESCRIPTION:
URL:https://lopbc.org/church_event/sunday-am-sunday-school-2/2029-08-19/
LOCATION:Classrooms\, 9046 FM729\, Avinger\, TX\, 75630\, United States
CATEGORIES:Church-wide,Community,Sunday School
END:VEVENT
END:VCALENDAR