BEGIN:VCALENDAR
VERSION:2.0
PRODID:-//Lake O&#039; The Pines Baptist Church - ECPv6.15.20//NONSGML v1.0//EN
CALSCALE:GREGORIAN
METHOD:PUBLISH
X-WR-CALNAME:Lake O&#039; The Pines Baptist Church
X-ORIGINAL-URL:https://lopbc.org
X-WR-CALDESC:Events for Lake O&#039; The Pines Baptist Church
REFRESH-INTERVAL;VALUE=DURATION:PT1H
X-Robots-Tag:noindex
X-PUBLISHED-TTL:PT1H
BEGIN:VTIMEZONE
TZID:America/Chicago
BEGIN:DAYLIGHT
TZOFFSETFROM:-0600
TZOFFSETTO:-0500
TZNAME:CDT
DTSTART:20260308T080000
END:DAYLIGHT
BEGIN:STANDARD
TZOFFSETFROM:-0500
TZOFFSETTO:-0600
TZNAME:CST
DTSTART:20261101T070000
END:STANDARD
BEGIN:DAYLIGHT
TZOFFSETFROM:-0600
TZOFFSETTO:-0500
TZNAME:CDT
DTSTART:20270314T080000
END:DAYLIGHT
BEGIN:STANDARD
TZOFFSETFROM:-0500
TZOFFSETTO:-0600
TZNAME:CST
DTSTART:20271107T070000
END:STANDARD
BEGIN:DAYLIGHT
TZOFFSETFROM:-0600
TZOFFSETTO:-0500
TZNAME:CDT
DTSTART:20280312T080000
END:DAYLIGHT
BEGIN:STANDARD
TZOFFSETFROM:-0500
TZOFFSETTO:-0600
TZNAME:CST
DTSTART:20281105T070000
END:STANDARD
END:VTIMEZONE
BEGIN:VEVENT
DTSTART;TZID=America/Chicago:20270328T093000
DTEND;TZID=America/Chicago:20270328T104500
DTSTAMP:20260423T014017
CREATED:20250130T213312Z
LAST-MODIFIED:20250131T005604Z
UID:10002056-1806226200-1806230700@lopbc.org
SUMMARY:Sunday AM Sunday School
DESCRIPTION:
URL:https://lopbc.org/church_event/sunday-am-sunday-school-2/2027-03-28/
LOCATION:Classrooms\, 9046 FM729\, Avinger\, TX\, 75630\, United States
CATEGORIES:Church-wide,Community,Sunday School
END:VEVENT
BEGIN:VEVENT
DTSTART;TZID=America/Chicago:20270404T093000
DTEND;TZID=America/Chicago:20270404T104500
DTSTAMP:20260423T014017
CREATED:20250130T213312Z
LAST-MODIFIED:20250131T005604Z
UID:10002057-1806831000-1806835500@lopbc.org
SUMMARY:Sunday AM Sunday School
DESCRIPTION:
URL:https://lopbc.org/church_event/sunday-am-sunday-school-2/2027-04-04/
LOCATION:Classrooms\, 9046 FM729\, Avinger\, TX\, 75630\, United States
CATEGORIES:Church-wide,Community,Sunday School
END:VEVENT
BEGIN:VEVENT
DTSTART;TZID=America/Chicago:20270411T093000
DTEND;TZID=America/Chicago:20270411T104500
DTSTAMP:20260423T014017
CREATED:20250130T213312Z
LAST-MODIFIED:20250131T005604Z
UID:10002058-1807435800-1807440300@lopbc.org
SUMMARY:Sunday AM Sunday School
DESCRIPTION:
URL:https://lopbc.org/church_event/sunday-am-sunday-school-2/2027-04-11/
LOCATION:Classrooms\, 9046 FM729\, Avinger\, TX\, 75630\, United States
CATEGORIES:Church-wide,Community,Sunday School
END:VEVENT
BEGIN:VEVENT
DTSTART;TZID=America/Chicago:20270418T093000
DTEND;TZID=America/Chicago:20270418T104500
DTSTAMP:20260423T014017
CREATED:20250130T213312Z
LAST-MODIFIED:20250131T005604Z
UID:10002059-1808040600-1808045100@lopbc.org
SUMMARY:Sunday AM Sunday School
DESCRIPTION:
URL:https://lopbc.org/church_event/sunday-am-sunday-school-2/2027-04-18/
LOCATION:Classrooms\, 9046 FM729\, Avinger\, TX\, 75630\, United States
CATEGORIES:Church-wide,Community,Sunday School
END:VEVENT
BEGIN:VEVENT
DTSTART;TZID=America/Chicago:20270425T093000
DTEND;TZID=America/Chicago:20270425T104500
DTSTAMP:20260423T014017
CREATED:20250130T213312Z
LAST-MODIFIED:20250131T005604Z
UID:10002060-1808645400-1808649900@lopbc.org
SUMMARY:Sunday AM Sunday School
DESCRIPTION:
URL:https://lopbc.org/church_event/sunday-am-sunday-school-2/2027-04-25/
LOCATION:Classrooms\, 9046 FM729\, Avinger\, TX\, 75630\, United States
CATEGORIES:Church-wide,Community,Sunday School
END:VEVENT
BEGIN:VEVENT
DTSTART;TZID=America/Chicago:20270502T093000
DTEND;TZID=America/Chicago:20270502T104500
DTSTAMP:20260423T014017
CREATED:20250130T213312Z
LAST-MODIFIED:20250131T005604Z
UID:10002061-1809250200-1809254700@lopbc.org
SUMMARY:Sunday AM Sunday School
DESCRIPTION:
URL:https://lopbc.org/church_event/sunday-am-sunday-school-2/2027-05-02/
LOCATION:Classrooms\, 9046 FM729\, Avinger\, TX\, 75630\, United States
CATEGORIES:Church-wide,Community,Sunday School
END:VEVENT
BEGIN:VEVENT
DTSTART;TZID=America/Chicago:20270509T093000
DTEND;TZID=America/Chicago:20270509T104500
DTSTAMP:20260423T014017
CREATED:20250130T213312Z
LAST-MODIFIED:20250131T005604Z
UID:10002062-1809855000-1809859500@lopbc.org
SUMMARY:Sunday AM Sunday School
DESCRIPTION:
URL:https://lopbc.org/church_event/sunday-am-sunday-school-2/2027-05-09/
LOCATION:Classrooms\, 9046 FM729\, Avinger\, TX\, 75630\, United States
CATEGORIES:Church-wide,Community,Sunday School
END:VEVENT
BEGIN:VEVENT
DTSTART;TZID=America/Chicago:20270516T093000
DTEND;TZID=America/Chicago:20270516T104500
DTSTAMP:20260423T014017
CREATED:20250130T213312Z
LAST-MODIFIED:20250131T005604Z
UID:10002063-1810459800-1810464300@lopbc.org
SUMMARY:Sunday AM Sunday School
DESCRIPTION:
URL:https://lopbc.org/church_event/sunday-am-sunday-school-2/2027-05-16/
LOCATION:Classrooms\, 9046 FM729\, Avinger\, TX\, 75630\, United States
CATEGORIES:Church-wide,Community,Sunday School
END:VEVENT
BEGIN:VEVENT
DTSTART;TZID=America/Chicago:20270523T093000
DTEND;TZID=America/Chicago:20270523T104500
DTSTAMP:20260423T014017
CREATED:20250130T213312Z
LAST-MODIFIED:20250131T005604Z
UID:10002064-1811064600-1811069100@lopbc.org
SUMMARY:Sunday AM Sunday School
DESCRIPTION:
URL:https://lopbc.org/church_event/sunday-am-sunday-school-2/2027-05-23/
LOCATION:Classrooms\, 9046 FM729\, Avinger\, TX\, 75630\, United States
CATEGORIES:Church-wide,Community,Sunday School
END:VEVENT
BEGIN:VEVENT
DTSTART;TZID=America/Chicago:20270530T093000
DTEND;TZID=America/Chicago:20270530T104500
DTSTAMP:20260423T014017
CREATED:20250130T213312Z
LAST-MODIFIED:20250131T005604Z
UID:10002065-1811669400-1811673900@lopbc.org
SUMMARY:Sunday AM Sunday School
DESCRIPTION:
URL:https://lopbc.org/church_event/sunday-am-sunday-school-2/2027-05-30/
LOCATION:Classrooms\, 9046 FM729\, Avinger\, TX\, 75630\, United States
CATEGORIES:Church-wide,Community,Sunday School
END:VEVENT
BEGIN:VEVENT
DTSTART;TZID=America/Chicago:20270606T093000
DTEND;TZID=America/Chicago:20270606T104500
DTSTAMP:20260423T014017
CREATED:20250130T213312Z
LAST-MODIFIED:20250131T005604Z
UID:10002066-1812274200-1812278700@lopbc.org
SUMMARY:Sunday AM Sunday School
DESCRIPTION:
URL:https://lopbc.org/church_event/sunday-am-sunday-school-2/2027-06-06/
LOCATION:Classrooms\, 9046 FM729\, Avinger\, TX\, 75630\, United States
CATEGORIES:Church-wide,Community,Sunday School
END:VEVENT
BEGIN:VEVENT
DTSTART;TZID=America/Chicago:20270613T093000
DTEND;TZID=America/Chicago:20270613T104500
DTSTAMP:20260423T014017
CREATED:20250130T213312Z
LAST-MODIFIED:20250131T005604Z
UID:10002067-1812879000-1812883500@lopbc.org
SUMMARY:Sunday AM Sunday School
DESCRIPTION:
URL:https://lopbc.org/church_event/sunday-am-sunday-school-2/2027-06-13/
LOCATION:Classrooms\, 9046 FM729\, Avinger\, TX\, 75630\, United States
CATEGORIES:Church-wide,Community,Sunday School
END:VEVENT
BEGIN:VEVENT
DTSTART;TZID=America/Chicago:20270620T093000
DTEND;TZID=America/Chicago:20270620T104500
DTSTAMP:20260423T014017
CREATED:20250130T213312Z
LAST-MODIFIED:20250131T005604Z
UID:10002068-1813483800-1813488300@lopbc.org
SUMMARY:Sunday AM Sunday School
DESCRIPTION:
URL:https://lopbc.org/church_event/sunday-am-sunday-school-2/2027-06-20/
LOCATION:Classrooms\, 9046 FM729\, Avinger\, TX\, 75630\, United States
CATEGORIES:Church-wide,Community,Sunday School
END:VEVENT
BEGIN:VEVENT
DTSTART;TZID=America/Chicago:20270627T093000
DTEND;TZID=America/Chicago:20270627T104500
DTSTAMP:20260423T014017
CREATED:20250130T213312Z
LAST-MODIFIED:20250131T005604Z
UID:10002069-1814088600-1814093100@lopbc.org
SUMMARY:Sunday AM Sunday School
DESCRIPTION:
URL:https://lopbc.org/church_event/sunday-am-sunday-school-2/2027-06-27/
LOCATION:Classrooms\, 9046 FM729\, Avinger\, TX\, 75630\, United States
CATEGORIES:Church-wide,Community,Sunday School
END:VEVENT
BEGIN:VEVENT
DTSTART;TZID=America/Chicago:20270704T093000
DTEND;TZID=America/Chicago:20270704T104500
DTSTAMP:20260423T014017
CREATED:20250130T213312Z
LAST-MODIFIED:20250131T005604Z
UID:10002070-1814693400-1814697900@lopbc.org
SUMMARY:Sunday AM Sunday School
DESCRIPTION:
URL:https://lopbc.org/church_event/sunday-am-sunday-school-2/2027-07-04/
LOCATION:Classrooms\, 9046 FM729\, Avinger\, TX\, 75630\, United States
CATEGORIES:Church-wide,Community,Sunday School
END:VEVENT
BEGIN:VEVENT
DTSTART;TZID=America/Chicago:20270711T093000
DTEND;TZID=America/Chicago:20270711T104500
DTSTAMP:20260423T014017
CREATED:20250130T213312Z
LAST-MODIFIED:20250131T005604Z
UID:10002071-1815298200-1815302700@lopbc.org
SUMMARY:Sunday AM Sunday School
DESCRIPTION:
URL:https://lopbc.org/church_event/sunday-am-sunday-school-2/2027-07-11/
LOCATION:Classrooms\, 9046 FM729\, Avinger\, TX\, 75630\, United States
CATEGORIES:Church-wide,Community,Sunday School
END:VEVENT
BEGIN:VEVENT
DTSTART;TZID=America/Chicago:20270718T093000
DTEND;TZID=America/Chicago:20270718T104500
DTSTAMP:20260423T014017
CREATED:20250130T213312Z
LAST-MODIFIED:20250131T005604Z
UID:10002072-1815903000-1815907500@lopbc.org
SUMMARY:Sunday AM Sunday School
DESCRIPTION:
URL:https://lopbc.org/church_event/sunday-am-sunday-school-2/2027-07-18/
LOCATION:Classrooms\, 9046 FM729\, Avinger\, TX\, 75630\, United States
CATEGORIES:Church-wide,Community,Sunday School
END:VEVENT
BEGIN:VEVENT
DTSTART;TZID=America/Chicago:20270725T093000
DTEND;TZID=America/Chicago:20270725T104500
DTSTAMP:20260423T014017
CREATED:20250130T213312Z
LAST-MODIFIED:20250131T005604Z
UID:10002073-1816507800-1816512300@lopbc.org
SUMMARY:Sunday AM Sunday School
DESCRIPTION:
URL:https://lopbc.org/church_event/sunday-am-sunday-school-2/2027-07-25/
LOCATION:Classrooms\, 9046 FM729\, Avinger\, TX\, 75630\, United States
CATEGORIES:Church-wide,Community,Sunday School
END:VEVENT
BEGIN:VEVENT
DTSTART;TZID=America/Chicago:20270801T093000
DTEND;TZID=America/Chicago:20270801T104500
DTSTAMP:20260423T014017
CREATED:20250130T213312Z
LAST-MODIFIED:20250131T005604Z
UID:10002074-1817112600-1817117100@lopbc.org
SUMMARY:Sunday AM Sunday School
DESCRIPTION:
URL:https://lopbc.org/church_event/sunday-am-sunday-school-2/2027-08-01/
LOCATION:Classrooms\, 9046 FM729\, Avinger\, TX\, 75630\, United States
CATEGORIES:Church-wide,Community,Sunday School
END:VEVENT
BEGIN:VEVENT
DTSTART;TZID=America/Chicago:20270808T093000
DTEND;TZID=America/Chicago:20270808T104500
DTSTAMP:20260423T014017
CREATED:20250130T213312Z
LAST-MODIFIED:20250131T005604Z
UID:10002075-1817717400-1817721900@lopbc.org
SUMMARY:Sunday AM Sunday School
DESCRIPTION:
URL:https://lopbc.org/church_event/sunday-am-sunday-school-2/2027-08-08/
LOCATION:Classrooms\, 9046 FM729\, Avinger\, TX\, 75630\, United States
CATEGORIES:Church-wide,Community,Sunday School
END:VEVENT
BEGIN:VEVENT
DTSTART;TZID=America/Chicago:20270815T093000
DTEND;TZID=America/Chicago:20270815T104500
DTSTAMP:20260423T014017
CREATED:20250130T213312Z
LAST-MODIFIED:20250131T005604Z
UID:10002076-1818322200-1818326700@lopbc.org
SUMMARY:Sunday AM Sunday School
DESCRIPTION:
URL:https://lopbc.org/church_event/sunday-am-sunday-school-2/2027-08-15/
LOCATION:Classrooms\, 9046 FM729\, Avinger\, TX\, 75630\, United States
CATEGORIES:Church-wide,Community,Sunday School
END:VEVENT
BEGIN:VEVENT
DTSTART;TZID=America/Chicago:20270822T093000
DTEND;TZID=America/Chicago:20270822T104500
DTSTAMP:20260423T014017
CREATED:20250130T213312Z
LAST-MODIFIED:20250131T005604Z
UID:10002077-1818927000-1818931500@lopbc.org
SUMMARY:Sunday AM Sunday School
DESCRIPTION:
URL:https://lopbc.org/church_event/sunday-am-sunday-school-2/2027-08-22/
LOCATION:Classrooms\, 9046 FM729\, Avinger\, TX\, 75630\, United States
CATEGORIES:Church-wide,Community,Sunday School
END:VEVENT
BEGIN:VEVENT
DTSTART;TZID=America/Chicago:20270829T093000
DTEND;TZID=America/Chicago:20270829T104500
DTSTAMP:20260423T014017
CREATED:20250130T213312Z
LAST-MODIFIED:20250131T005604Z
UID:10002078-1819531800-1819536300@lopbc.org
SUMMARY:Sunday AM Sunday School
DESCRIPTION:
URL:https://lopbc.org/church_event/sunday-am-sunday-school-2/2027-08-29/
LOCATION:Classrooms\, 9046 FM729\, Avinger\, TX\, 75630\, United States
CATEGORIES:Church-wide,Community,Sunday School
END:VEVENT
BEGIN:VEVENT
DTSTART;TZID=America/Chicago:20270905T093000
DTEND;TZID=America/Chicago:20270905T104500
DTSTAMP:20260423T014017
CREATED:20250130T213312Z
LAST-MODIFIED:20250131T005604Z
UID:10002079-1820136600-1820141100@lopbc.org
SUMMARY:Sunday AM Sunday School
DESCRIPTION:
URL:https://lopbc.org/church_event/sunday-am-sunday-school-2/2027-09-05/
LOCATION:Classrooms\, 9046 FM729\, Avinger\, TX\, 75630\, United States
CATEGORIES:Church-wide,Community,Sunday School
END:VEVENT
BEGIN:VEVENT
DTSTART;TZID=America/Chicago:20270912T093000
DTEND;TZID=America/Chicago:20270912T104500
DTSTAMP:20260423T014017
CREATED:20250130T213312Z
LAST-MODIFIED:20250131T005604Z
UID:10002080-1820741400-1820745900@lopbc.org
SUMMARY:Sunday AM Sunday School
DESCRIPTION:
URL:https://lopbc.org/church_event/sunday-am-sunday-school-2/2027-09-12/
LOCATION:Classrooms\, 9046 FM729\, Avinger\, TX\, 75630\, United States
CATEGORIES:Church-wide,Community,Sunday School
END:VEVENT
BEGIN:VEVENT
DTSTART;TZID=America/Chicago:20270919T093000
DTEND;TZID=America/Chicago:20270919T104500
DTSTAMP:20260423T014017
CREATED:20250130T213312Z
LAST-MODIFIED:20250131T005604Z
UID:10002081-1821346200-1821350700@lopbc.org
SUMMARY:Sunday AM Sunday School
DESCRIPTION:
URL:https://lopbc.org/church_event/sunday-am-sunday-school-2/2027-09-19/
LOCATION:Classrooms\, 9046 FM729\, Avinger\, TX\, 75630\, United States
CATEGORIES:Church-wide,Community,Sunday School
END:VEVENT
BEGIN:VEVENT
DTSTART;TZID=America/Chicago:20270926T093000
DTEND;TZID=America/Chicago:20270926T104500
DTSTAMP:20260423T014017
CREATED:20250130T213312Z
LAST-MODIFIED:20250131T005604Z
UID:10002082-1821951000-1821955500@lopbc.org
SUMMARY:Sunday AM Sunday School
DESCRIPTION:
URL:https://lopbc.org/church_event/sunday-am-sunday-school-2/2027-09-26/
LOCATION:Classrooms\, 9046 FM729\, Avinger\, TX\, 75630\, United States
CATEGORIES:Church-wide,Community,Sunday School
END:VEVENT
BEGIN:VEVENT
DTSTART;TZID=America/Chicago:20271003T093000
DTEND;TZID=America/Chicago:20271003T104500
DTSTAMP:20260423T014017
CREATED:20250130T213312Z
LAST-MODIFIED:20250131T005604Z
UID:10002083-1822555800-1822560300@lopbc.org
SUMMARY:Sunday AM Sunday School
DESCRIPTION:
URL:https://lopbc.org/church_event/sunday-am-sunday-school-2/2027-10-03/
LOCATION:Classrooms\, 9046 FM729\, Avinger\, TX\, 75630\, United States
CATEGORIES:Church-wide,Community,Sunday School
END:VEVENT
BEGIN:VEVENT
DTSTART;TZID=America/Chicago:20271010T093000
DTEND;TZID=America/Chicago:20271010T104500
DTSTAMP:20260423T014017
CREATED:20250130T213312Z
LAST-MODIFIED:20250131T005604Z
UID:10002084-1823160600-1823165100@lopbc.org
SUMMARY:Sunday AM Sunday School
DESCRIPTION:
URL:https://lopbc.org/church_event/sunday-am-sunday-school-2/2027-10-10/
LOCATION:Classrooms\, 9046 FM729\, Avinger\, TX\, 75630\, United States
CATEGORIES:Church-wide,Community,Sunday School
END:VEVENT
BEGIN:VEVENT
DTSTART;TZID=America/Chicago:20271017T093000
DTEND;TZID=America/Chicago:20271017T104500
DTSTAMP:20260423T014017
CREATED:20250130T213312Z
LAST-MODIFIED:20250131T005604Z
UID:10002085-1823765400-1823769900@lopbc.org
SUMMARY:Sunday AM Sunday School
DESCRIPTION:
URL:https://lopbc.org/church_event/sunday-am-sunday-school-2/2027-10-17/
LOCATION:Classrooms\, 9046 FM729\, Avinger\, TX\, 75630\, United States
CATEGORIES:Church-wide,Community,Sunday School
END:VEVENT
END:VCALENDAR