BEGIN:VCALENDAR
VERSION:2.0
PRODID:-//Lake O&#039; The Pines Baptist Church - ECPv6.15.20//NONSGML v1.0//EN
CALSCALE:GREGORIAN
METHOD:PUBLISH
X-ORIGINAL-URL:https://lopbc.org
X-WR-CALDESC:Events for Lake O&#039; The Pines Baptist Church
REFRESH-INTERVAL;VALUE=DURATION:PT1H
X-Robots-Tag:noindex
X-PUBLISHED-TTL:PT1H
BEGIN:VTIMEZONE
TZID:America/Chicago
BEGIN:DAYLIGHT
TZOFFSETFROM:-0600
TZOFFSETTO:-0500
TZNAME:CDT
DTSTART:20250309T080000
END:DAYLIGHT
BEGIN:STANDARD
TZOFFSETFROM:-0500
TZOFFSETTO:-0600
TZNAME:CST
DTSTART:20251102T070000
END:STANDARD
BEGIN:DAYLIGHT
TZOFFSETFROM:-0600
TZOFFSETTO:-0500
TZNAME:CDT
DTSTART:20260308T080000
END:DAYLIGHT
BEGIN:STANDARD
TZOFFSETFROM:-0500
TZOFFSETTO:-0600
TZNAME:CST
DTSTART:20261101T070000
END:STANDARD
BEGIN:DAYLIGHT
TZOFFSETFROM:-0600
TZOFFSETTO:-0500
TZNAME:CDT
DTSTART:20270314T080000
END:DAYLIGHT
BEGIN:STANDARD
TZOFFSETFROM:-0500
TZOFFSETTO:-0600
TZNAME:CST
DTSTART:20271107T070000
END:STANDARD
BEGIN:DAYLIGHT
TZOFFSETFROM:-0600
TZOFFSETTO:-0500
TZNAME:CDT
DTSTART:20280312T080000
END:DAYLIGHT
BEGIN:STANDARD
TZOFFSETFROM:-0500
TZOFFSETTO:-0600
TZNAME:CST
DTSTART:20281105T070000
END:STANDARD
BEGIN:DAYLIGHT
TZOFFSETFROM:-0600
TZOFFSETTO:-0500
TZNAME:CDT
DTSTART:20290311T080000
END:DAYLIGHT
BEGIN:STANDARD
TZOFFSETFROM:-0500
TZOFFSETTO:-0600
TZNAME:CST
DTSTART:20291104T070000
END:STANDARD
END:VTIMEZONE
BEGIN:VEVENT
DTSTART;TZID=America/Chicago:20261019T180000
DTEND;TZID=America/Chicago:20261019T200000
DTSTAMP:20260422T214553
CREATED:20260222T192605Z
LAST-MODIFIED:20260222T194758Z
UID:10003109-1792432800-1792440000@lopbc.org
SUMMARY:Women of Worship (WoW) Bible Study
DESCRIPTION:
URL:https://lopbc.org/church_event/women-of-worship-wow-bible-study-2/2026-10-19/
LOCATION:Fellowship Hall\, 9046 FM729\, Avinger\, TX\, 75630
CATEGORIES:Community,Women's Ministry
END:VEVENT
BEGIN:VEVENT
DTSTART;TZID=America/Chicago:20261026T180000
DTEND;TZID=America/Chicago:20261026T200000
DTSTAMP:20260422T214553
CREATED:20260222T192605Z
LAST-MODIFIED:20260222T194758Z
UID:10003110-1793037600-1793044800@lopbc.org
SUMMARY:Women of Worship (WoW) Bible Study
DESCRIPTION:
URL:https://lopbc.org/church_event/women-of-worship-wow-bible-study-2/2026-10-26/
LOCATION:Fellowship Hall\, 9046 FM729\, Avinger\, TX\, 75630
CATEGORIES:Community,Women's Ministry
END:VEVENT
BEGIN:VEVENT
DTSTART;TZID=America/Chicago:20261102T180000
DTEND;TZID=America/Chicago:20261102T200000
DTSTAMP:20260422T214553
CREATED:20260222T192605Z
LAST-MODIFIED:20260222T194758Z
UID:10003111-1793642400-1793649600@lopbc.org
SUMMARY:Women of Worship (WoW) Bible Study
DESCRIPTION:
URL:https://lopbc.org/church_event/women-of-worship-wow-bible-study-2/2026-11-02/
LOCATION:Fellowship Hall\, 9046 FM729\, Avinger\, TX\, 75630
CATEGORIES:Community,Women's Ministry
END:VEVENT
BEGIN:VEVENT
DTSTART;TZID=America/Chicago:20261107T080000
DTEND;TZID=America/Chicago:20261107T170000
DTSTAMP:20260422T214553
CREATED:20260222T213826Z
LAST-MODIFIED:20260222T213826Z
UID:10004659-1794038400-1794070800@lopbc.org
SUMMARY:WoW
DESCRIPTION:
URL:https://lopbc.org/church_event/wow/
LOCATION:TX
CATEGORIES:Women's Ministry
END:VEVENT
BEGIN:VEVENT
DTSTART;TZID=America/Chicago:20261109T180000
DTEND;TZID=America/Chicago:20261109T200000
DTSTAMP:20260422T214553
CREATED:20260222T192605Z
LAST-MODIFIED:20260222T194758Z
UID:10003918-1794247200-1794254400@lopbc.org
SUMMARY:Women of Worship (WoW) Bible Study
DESCRIPTION:
URL:https://lopbc.org/church_event/women-of-worship-wow-bible-study-2/2026-11-09/
LOCATION:Fellowship Hall\, 9046 FM729\, Avinger\, TX\, 75630
CATEGORIES:Community,Women's Ministry
END:VEVENT
BEGIN:VEVENT
DTSTART;TZID=America/Chicago:20261121T080000
DTEND;TZID=America/Chicago:20261121T090000
DTSTAMP:20260422T214553
CREATED:20240225T222018Z
LAST-MODIFIED:20250130T231441Z
UID:10000221-1795248000-1795251600@lopbc.org
SUMMARY:Women's Breakfast
DESCRIPTION:
URL:https://lopbc.org/church_event/womenss-breakfast/2026-11-21/
LOCATION:The Lakehouse Cafe\, 8883 FM729\, Avinger\, TX\, 75630
CATEGORIES:Women's Ministry
ATTACH;FMTTYPE=image/png:https://lopbc.org/wp-content/uploads/2024/02/women-bfast.png
END:VEVENT
BEGIN:VEVENT
DTSTART;TZID=America/Chicago:20261205T180000
DTEND;TZID=America/Chicago:20261205T200000
DTSTAMP:20260422T214553
CREATED:20260222T214045Z
LAST-MODIFIED:20260222T214045Z
UID:10004662-1796493600-1796500800@lopbc.org
SUMMARY:WoW Christmas Party
DESCRIPTION:
URL:https://lopbc.org/church_event/wow-christmas-party-3/
LOCATION:TX
CATEGORIES:Women's Ministry
END:VEVENT
BEGIN:VEVENT
DTSTART;TZID=America/Chicago:20261219T080000
DTEND;TZID=America/Chicago:20261219T090000
DTSTAMP:20260422T214553
CREATED:20240225T222018Z
LAST-MODIFIED:20250130T231441Z
UID:10000222-1797667200-1797670800@lopbc.org
SUMMARY:Women's Breakfast
DESCRIPTION:
URL:https://lopbc.org/church_event/womenss-breakfast/2026-12-19/
LOCATION:The Lakehouse Cafe\, 8883 FM729\, Avinger\, TX\, 75630
CATEGORIES:Women's Ministry
ATTACH;FMTTYPE=image/png:https://lopbc.org/wp-content/uploads/2024/02/women-bfast.png
END:VEVENT
BEGIN:VEVENT
DTSTART;TZID=America/Chicago:20270116T080000
DTEND;TZID=America/Chicago:20270116T090000
DTSTAMP:20260422T214553
CREATED:20240225T222018Z
LAST-MODIFIED:20250130T231441Z
UID:10000223-1800086400-1800090000@lopbc.org
SUMMARY:Women's Breakfast
DESCRIPTION:
URL:https://lopbc.org/church_event/womenss-breakfast/2027-01-16/
LOCATION:The Lakehouse Cafe\, 8883 FM729\, Avinger\, TX\, 75630
CATEGORIES:Women's Ministry
ATTACH;FMTTYPE=image/png:https://lopbc.org/wp-content/uploads/2024/02/women-bfast.png
END:VEVENT
BEGIN:VEVENT
DTSTART;TZID=America/Chicago:20270220T080000
DTEND;TZID=America/Chicago:20270220T090000
DTSTAMP:20260422T214553
CREATED:20240225T222018Z
LAST-MODIFIED:20250130T231441Z
UID:10000224-1803110400-1803114000@lopbc.org
SUMMARY:Women's Breakfast
DESCRIPTION:
URL:https://lopbc.org/church_event/womenss-breakfast/2027-02-20/
LOCATION:The Lakehouse Cafe\, 8883 FM729\, Avinger\, TX\, 75630
CATEGORIES:Women's Ministry
ATTACH;FMTTYPE=image/png:https://lopbc.org/wp-content/uploads/2024/02/women-bfast.png
END:VEVENT
BEGIN:VEVENT
DTSTART;TZID=America/Chicago:20270320T080000
DTEND;TZID=America/Chicago:20270320T090000
DTSTAMP:20260422T214553
CREATED:20240225T222018Z
LAST-MODIFIED:20250130T231441Z
UID:10000225-1805529600-1805533200@lopbc.org
SUMMARY:Women's Breakfast
DESCRIPTION:
URL:https://lopbc.org/church_event/womenss-breakfast/2027-03-20/
LOCATION:The Lakehouse Cafe\, 8883 FM729\, Avinger\, TX\, 75630
CATEGORIES:Women's Ministry
ATTACH;FMTTYPE=image/png:https://lopbc.org/wp-content/uploads/2024/02/women-bfast.png
END:VEVENT
BEGIN:VEVENT
DTSTART;TZID=America/Chicago:20270417T080000
DTEND;TZID=America/Chicago:20270417T090000
DTSTAMP:20260422T214553
CREATED:20240225T222018Z
LAST-MODIFIED:20250130T231441Z
UID:10000226-1807948800-1807952400@lopbc.org
SUMMARY:Women's Breakfast
DESCRIPTION:
URL:https://lopbc.org/church_event/womenss-breakfast/2027-04-17/
LOCATION:The Lakehouse Cafe\, 8883 FM729\, Avinger\, TX\, 75630
CATEGORIES:Women's Ministry
ATTACH;FMTTYPE=image/png:https://lopbc.org/wp-content/uploads/2024/02/women-bfast.png
END:VEVENT
BEGIN:VEVENT
DTSTART;TZID=America/Chicago:20270515T080000
DTEND;TZID=America/Chicago:20270515T090000
DTSTAMP:20260422T214553
CREATED:20240225T222018Z
LAST-MODIFIED:20250130T231441Z
UID:10000227-1810368000-1810371600@lopbc.org
SUMMARY:Women's Breakfast
DESCRIPTION:
URL:https://lopbc.org/church_event/womenss-breakfast/2027-05-15/
LOCATION:The Lakehouse Cafe\, 8883 FM729\, Avinger\, TX\, 75630
CATEGORIES:Women's Ministry
ATTACH;FMTTYPE=image/png:https://lopbc.org/wp-content/uploads/2024/02/women-bfast.png
END:VEVENT
BEGIN:VEVENT
DTSTART;TZID=America/Chicago:20270619T080000
DTEND;TZID=America/Chicago:20270619T090000
DTSTAMP:20260422T214553
CREATED:20240225T222018Z
LAST-MODIFIED:20250130T231441Z
UID:10000228-1813392000-1813395600@lopbc.org
SUMMARY:Women's Breakfast
DESCRIPTION:
URL:https://lopbc.org/church_event/womenss-breakfast/2027-06-19/
LOCATION:The Lakehouse Cafe\, 8883 FM729\, Avinger\, TX\, 75630
CATEGORIES:Women's Ministry
ATTACH;FMTTYPE=image/png:https://lopbc.org/wp-content/uploads/2024/02/women-bfast.png
END:VEVENT
BEGIN:VEVENT
DTSTART;TZID=America/Chicago:20270717T080000
DTEND;TZID=America/Chicago:20270717T090000
DTSTAMP:20260422T214553
CREATED:20240225T222018Z
LAST-MODIFIED:20250130T231441Z
UID:10000229-1815811200-1815814800@lopbc.org
SUMMARY:Women's Breakfast
DESCRIPTION:
URL:https://lopbc.org/church_event/womenss-breakfast/2027-07-17/
LOCATION:The Lakehouse Cafe\, 8883 FM729\, Avinger\, TX\, 75630
CATEGORIES:Women's Ministry
ATTACH;FMTTYPE=image/png:https://lopbc.org/wp-content/uploads/2024/02/women-bfast.png
END:VEVENT
BEGIN:VEVENT
DTSTART;TZID=America/Chicago:20270821T080000
DTEND;TZID=America/Chicago:20270821T090000
DTSTAMP:20260422T214553
CREATED:20240225T222018Z
LAST-MODIFIED:20250130T231441Z
UID:10000230-1818835200-1818838800@lopbc.org
SUMMARY:Women's Breakfast
DESCRIPTION:
URL:https://lopbc.org/church_event/womenss-breakfast/2027-08-21/
LOCATION:The Lakehouse Cafe\, 8883 FM729\, Avinger\, TX\, 75630
CATEGORIES:Women's Ministry
ATTACH;FMTTYPE=image/png:https://lopbc.org/wp-content/uploads/2024/02/women-bfast.png
END:VEVENT
BEGIN:VEVENT
DTSTART;TZID=America/Chicago:20270918T080000
DTEND;TZID=America/Chicago:20270918T090000
DTSTAMP:20260422T214553
CREATED:20240225T222018Z
LAST-MODIFIED:20250130T231441Z
UID:10000231-1821254400-1821258000@lopbc.org
SUMMARY:Women's Breakfast
DESCRIPTION:
URL:https://lopbc.org/church_event/womenss-breakfast/2027-09-18/
LOCATION:The Lakehouse Cafe\, 8883 FM729\, Avinger\, TX\, 75630
CATEGORIES:Women's Ministry
ATTACH;FMTTYPE=image/png:https://lopbc.org/wp-content/uploads/2024/02/women-bfast.png
END:VEVENT
BEGIN:VEVENT
DTSTART;TZID=America/Chicago:20271016T080000
DTEND;TZID=America/Chicago:20271016T090000
DTSTAMP:20260422T214553
CREATED:20240225T222018Z
LAST-MODIFIED:20250130T231441Z
UID:10000232-1823673600-1823677200@lopbc.org
SUMMARY:Women's Breakfast
DESCRIPTION:
URL:https://lopbc.org/church_event/womenss-breakfast/2027-10-16/
LOCATION:The Lakehouse Cafe\, 8883 FM729\, Avinger\, TX\, 75630
CATEGORIES:Women's Ministry
ATTACH;FMTTYPE=image/png:https://lopbc.org/wp-content/uploads/2024/02/women-bfast.png
END:VEVENT
BEGIN:VEVENT
DTSTART;TZID=America/Chicago:20271120T080000
DTEND;TZID=America/Chicago:20271120T090000
DTSTAMP:20260422T214553
CREATED:20240225T222018Z
LAST-MODIFIED:20250130T231441Z
UID:10000233-1826697600-1826701200@lopbc.org
SUMMARY:Women's Breakfast
DESCRIPTION:
URL:https://lopbc.org/church_event/womenss-breakfast/2027-11-20/
LOCATION:The Lakehouse Cafe\, 8883 FM729\, Avinger\, TX\, 75630
CATEGORIES:Women's Ministry
ATTACH;FMTTYPE=image/png:https://lopbc.org/wp-content/uploads/2024/02/women-bfast.png
END:VEVENT
BEGIN:VEVENT
DTSTART;TZID=America/Chicago:20271218T080000
DTEND;TZID=America/Chicago:20271218T090000
DTSTAMP:20260422T214553
CREATED:20240225T222018Z
LAST-MODIFIED:20250130T231441Z
UID:10000234-1829116800-1829120400@lopbc.org
SUMMARY:Women's Breakfast
DESCRIPTION:
URL:https://lopbc.org/church_event/womenss-breakfast/2027-12-18/
LOCATION:The Lakehouse Cafe\, 8883 FM729\, Avinger\, TX\, 75630
CATEGORIES:Women's Ministry
ATTACH;FMTTYPE=image/png:https://lopbc.org/wp-content/uploads/2024/02/women-bfast.png
END:VEVENT
BEGIN:VEVENT
DTSTART;TZID=America/Chicago:20280115T080000
DTEND;TZID=America/Chicago:20280115T090000
DTSTAMP:20260422T214553
CREATED:20240225T222018Z
LAST-MODIFIED:20250130T231441Z
UID:10000235-1831536000-1831539600@lopbc.org
SUMMARY:Women's Breakfast
DESCRIPTION:
URL:https://lopbc.org/church_event/womenss-breakfast/2028-01-15/
LOCATION:The Lakehouse Cafe\, 8883 FM729\, Avinger\, TX\, 75630
CATEGORIES:Women's Ministry
ATTACH;FMTTYPE=image/png:https://lopbc.org/wp-content/uploads/2024/02/women-bfast.png
END:VEVENT
BEGIN:VEVENT
DTSTART;TZID=America/Chicago:20280219T080000
DTEND;TZID=America/Chicago:20280219T090000
DTSTAMP:20260422T214553
CREATED:20240225T222018Z
LAST-MODIFIED:20250130T231441Z
UID:10000236-1834560000-1834563600@lopbc.org
SUMMARY:Women's Breakfast
DESCRIPTION:
URL:https://lopbc.org/church_event/womenss-breakfast/2028-02-19/
LOCATION:The Lakehouse Cafe\, 8883 FM729\, Avinger\, TX\, 75630
CATEGORIES:Women's Ministry
ATTACH;FMTTYPE=image/png:https://lopbc.org/wp-content/uploads/2024/02/women-bfast.png
END:VEVENT
BEGIN:VEVENT
DTSTART;TZID=America/Chicago:20280318T080000
DTEND;TZID=America/Chicago:20280318T090000
DTSTAMP:20260422T214553
CREATED:20240225T222018Z
LAST-MODIFIED:20250130T231441Z
UID:10000237-1836979200-1836982800@lopbc.org
SUMMARY:Women's Breakfast
DESCRIPTION:
URL:https://lopbc.org/church_event/womenss-breakfast/2028-03-18/
LOCATION:The Lakehouse Cafe\, 8883 FM729\, Avinger\, TX\, 75630
CATEGORIES:Women's Ministry
ATTACH;FMTTYPE=image/png:https://lopbc.org/wp-content/uploads/2024/02/women-bfast.png
END:VEVENT
BEGIN:VEVENT
DTSTART;TZID=America/Chicago:20280415T080000
DTEND;TZID=America/Chicago:20280415T090000
DTSTAMP:20260422T214553
CREATED:20240225T222018Z
LAST-MODIFIED:20250130T231441Z
UID:10000238-1839398400-1839402000@lopbc.org
SUMMARY:Women's Breakfast
DESCRIPTION:
URL:https://lopbc.org/church_event/womenss-breakfast/2028-04-15/
LOCATION:The Lakehouse Cafe\, 8883 FM729\, Avinger\, TX\, 75630
CATEGORIES:Women's Ministry
ATTACH;FMTTYPE=image/png:https://lopbc.org/wp-content/uploads/2024/02/women-bfast.png
END:VEVENT
BEGIN:VEVENT
DTSTART;TZID=America/Chicago:20280520T080000
DTEND;TZID=America/Chicago:20280520T090000
DTSTAMP:20260422T214553
CREATED:20240225T222018Z
LAST-MODIFIED:20250130T231441Z
UID:10000239-1842422400-1842426000@lopbc.org
SUMMARY:Women's Breakfast
DESCRIPTION:
URL:https://lopbc.org/church_event/womenss-breakfast/2028-05-20/
LOCATION:The Lakehouse Cafe\, 8883 FM729\, Avinger\, TX\, 75630
CATEGORIES:Women's Ministry
ATTACH;FMTTYPE=image/png:https://lopbc.org/wp-content/uploads/2024/02/women-bfast.png
END:VEVENT
BEGIN:VEVENT
DTSTART;TZID=America/Chicago:20280617T080000
DTEND;TZID=America/Chicago:20280617T090000
DTSTAMP:20260422T214553
CREATED:20240225T222018Z
LAST-MODIFIED:20250130T231441Z
UID:10000240-1844841600-1844845200@lopbc.org
SUMMARY:Women's Breakfast
DESCRIPTION:
URL:https://lopbc.org/church_event/womenss-breakfast/2028-06-17/
LOCATION:The Lakehouse Cafe\, 8883 FM729\, Avinger\, TX\, 75630
CATEGORIES:Women's Ministry
ATTACH;FMTTYPE=image/png:https://lopbc.org/wp-content/uploads/2024/02/women-bfast.png
END:VEVENT
BEGIN:VEVENT
DTSTART;TZID=America/Chicago:20280715T080000
DTEND;TZID=America/Chicago:20280715T090000
DTSTAMP:20260422T214553
CREATED:20240225T222018Z
LAST-MODIFIED:20250130T231441Z
UID:10000241-1847260800-1847264400@lopbc.org
SUMMARY:Women's Breakfast
DESCRIPTION:
URL:https://lopbc.org/church_event/womenss-breakfast/2028-07-15/
LOCATION:The Lakehouse Cafe\, 8883 FM729\, Avinger\, TX\, 75630
CATEGORIES:Women's Ministry
ATTACH;FMTTYPE=image/png:https://lopbc.org/wp-content/uploads/2024/02/women-bfast.png
END:VEVENT
BEGIN:VEVENT
DTSTART;TZID=America/Chicago:20280819T080000
DTEND;TZID=America/Chicago:20280819T090000
DTSTAMP:20260422T214553
CREATED:20240225T222018Z
LAST-MODIFIED:20250130T231441Z
UID:10000242-1850284800-1850288400@lopbc.org
SUMMARY:Women's Breakfast
DESCRIPTION:
URL:https://lopbc.org/church_event/womenss-breakfast/2028-08-19/
LOCATION:The Lakehouse Cafe\, 8883 FM729\, Avinger\, TX\, 75630
CATEGORIES:Women's Ministry
ATTACH;FMTTYPE=image/png:https://lopbc.org/wp-content/uploads/2024/02/women-bfast.png
END:VEVENT
BEGIN:VEVENT
DTSTART;TZID=America/Chicago:20280916T080000
DTEND;TZID=America/Chicago:20280916T090000
DTSTAMP:20260422T214553
CREATED:20240225T222018Z
LAST-MODIFIED:20250130T231441Z
UID:10000243-1852704000-1852707600@lopbc.org
SUMMARY:Women's Breakfast
DESCRIPTION:
URL:https://lopbc.org/church_event/womenss-breakfast/2028-09-16/
LOCATION:The Lakehouse Cafe\, 8883 FM729\, Avinger\, TX\, 75630
CATEGORIES:Women's Ministry
ATTACH;FMTTYPE=image/png:https://lopbc.org/wp-content/uploads/2024/02/women-bfast.png
END:VEVENT
BEGIN:VEVENT
DTSTART;TZID=America/Chicago:20281021T080000
DTEND;TZID=America/Chicago:20281021T090000
DTSTAMP:20260422T214553
CREATED:20240225T222018Z
LAST-MODIFIED:20250130T231441Z
UID:10000244-1855728000-1855731600@lopbc.org
SUMMARY:Women's Breakfast
DESCRIPTION:
URL:https://lopbc.org/church_event/womenss-breakfast/2028-10-21/
LOCATION:The Lakehouse Cafe\, 8883 FM729\, Avinger\, TX\, 75630
CATEGORIES:Women's Ministry
ATTACH;FMTTYPE=image/png:https://lopbc.org/wp-content/uploads/2024/02/women-bfast.png
END:VEVENT
END:VCALENDAR