BEGIN:VCALENDAR
VERSION:2.0
PRODID:-//Lake O&#039; The Pines Baptist Church - ECPv6.15.20//NONSGML v1.0//EN
CALSCALE:GREGORIAN
METHOD:PUBLISH
X-ORIGINAL-URL:https://lopbc.org
X-WR-CALDESC:Events for Lake O&#039; The Pines Baptist Church
REFRESH-INTERVAL;VALUE=DURATION:PT1H
X-Robots-Tag:noindex
X-PUBLISHED-TTL:PT1H
BEGIN:VTIMEZONE
TZID:America/Chicago
BEGIN:DAYLIGHT
TZOFFSETFROM:-0600
TZOFFSETTO:-0500
TZNAME:CDT
DTSTART:20260308T080000
END:DAYLIGHT
BEGIN:STANDARD
TZOFFSETFROM:-0500
TZOFFSETTO:-0600
TZNAME:CST
DTSTART:20261101T070000
END:STANDARD
BEGIN:DAYLIGHT
TZOFFSETFROM:-0600
TZOFFSETTO:-0500
TZNAME:CDT
DTSTART:20270314T080000
END:DAYLIGHT
BEGIN:STANDARD
TZOFFSETFROM:-0500
TZOFFSETTO:-0600
TZNAME:CST
DTSTART:20271107T070000
END:STANDARD
BEGIN:DAYLIGHT
TZOFFSETFROM:-0600
TZOFFSETTO:-0500
TZNAME:CDT
DTSTART:20280312T080000
END:DAYLIGHT
BEGIN:STANDARD
TZOFFSETFROM:-0500
TZOFFSETTO:-0600
TZNAME:CST
DTSTART:20281105T070000
END:STANDARD
END:VTIMEZONE
BEGIN:VEVENT
DTSTART;TZID=America/Chicago:20271003T110000
DTEND;TZID=America/Chicago:20271003T123000
DTSTAMP:20260423T221839
CREATED:20250130T213205Z
LAST-MODIFIED:20250131T161102Z
UID:10001817-1822561200-1822566600@lopbc.org
SUMMARY:Sunday AM Worship
DESCRIPTION:
URL:https://lopbc.org/church_event/sunday-am-worship/2027-10-03/
LOCATION:Sanctuary\, 9046 FM729\, Avinger\, TX\, 75630\, United States
CATEGORIES:Church-wide,Community,Worship
END:VEVENT
BEGIN:VEVENT
DTSTART;TZID=America/Chicago:20271003T180000
DTEND;TZID=America/Chicago:20271003T190000
DTSTAMP:20260423T221839
CREATED:20250130T213902Z
LAST-MODIFIED:20260222T210931Z
UID:10002352-1822586400-1822590000@lopbc.org
SUMMARY:Sunday Evening Worship
DESCRIPTION:
URL:https://lopbc.org/church_event/sunday-evening-worship/2027-10-03/
LOCATION:Sanctuary\, 9046 FM729\, Avinger\, TX\, 75630\, United States
CATEGORIES:Church-wide,Community,Worship
END:VEVENT
BEGIN:VEVENT
DTSTART;TZID=America/Chicago:20271006T183000
DTEND;TZID=America/Chicago:20271006T193000
DTSTAMP:20260423T221839
CREATED:20250130T214249Z
LAST-MODIFIED:20260222T200208Z
UID:10002617-1822847400-1822851000@lopbc.org
SUMMARY:Family Night Worship
DESCRIPTION:
URL:https://lopbc.org/church_event/wednesday-night-worship/2027-10-06/
LOCATION:Sanctuary\, 9046 FM729\, Avinger\, TX\, 75630\, United States
CATEGORIES:Church-wide,Community,Worship
END:VEVENT
BEGIN:VEVENT
DTSTART;TZID=America/Chicago:20271010T110000
DTEND;TZID=America/Chicago:20271010T123000
DTSTAMP:20260423T221839
CREATED:20250130T213205Z
LAST-MODIFIED:20250131T161102Z
UID:10001818-1823166000-1823171400@lopbc.org
SUMMARY:Sunday AM Worship
DESCRIPTION:
URL:https://lopbc.org/church_event/sunday-am-worship/2027-10-10/
LOCATION:Sanctuary\, 9046 FM729\, Avinger\, TX\, 75630\, United States
CATEGORIES:Church-wide,Community,Worship
END:VEVENT
BEGIN:VEVENT
DTSTART;TZID=America/Chicago:20271010T180000
DTEND;TZID=America/Chicago:20271010T190000
DTSTAMP:20260423T221839
CREATED:20250130T213902Z
LAST-MODIFIED:20260222T210931Z
UID:10002353-1823191200-1823194800@lopbc.org
SUMMARY:Sunday Evening Worship
DESCRIPTION:
URL:https://lopbc.org/church_event/sunday-evening-worship/2027-10-10/
LOCATION:Sanctuary\, 9046 FM729\, Avinger\, TX\, 75630\, United States
CATEGORIES:Church-wide,Community,Worship
END:VEVENT
BEGIN:VEVENT
DTSTART;TZID=America/Chicago:20271013T183000
DTEND;TZID=America/Chicago:20271013T193000
DTSTAMP:20260423T221839
CREATED:20250130T214249Z
LAST-MODIFIED:20260222T200208Z
UID:10002618-1823452200-1823455800@lopbc.org
SUMMARY:Family Night Worship
DESCRIPTION:
URL:https://lopbc.org/church_event/wednesday-night-worship/2027-10-13/
LOCATION:Sanctuary\, 9046 FM729\, Avinger\, TX\, 75630\, United States
CATEGORIES:Church-wide,Community,Worship
END:VEVENT
BEGIN:VEVENT
DTSTART;TZID=America/Chicago:20271017T110000
DTEND;TZID=America/Chicago:20271017T123000
DTSTAMP:20260423T221839
CREATED:20250130T213205Z
LAST-MODIFIED:20250131T161102Z
UID:10001819-1823770800-1823776200@lopbc.org
SUMMARY:Sunday AM Worship
DESCRIPTION:
URL:https://lopbc.org/church_event/sunday-am-worship/2027-10-17/
LOCATION:Sanctuary\, 9046 FM729\, Avinger\, TX\, 75630\, United States
CATEGORIES:Church-wide,Community,Worship
END:VEVENT
BEGIN:VEVENT
DTSTART;TZID=America/Chicago:20271017T180000
DTEND;TZID=America/Chicago:20271017T190000
DTSTAMP:20260423T221839
CREATED:20250130T213902Z
LAST-MODIFIED:20260222T210931Z
UID:10002354-1823796000-1823799600@lopbc.org
SUMMARY:Sunday Evening Worship
DESCRIPTION:
URL:https://lopbc.org/church_event/sunday-evening-worship/2027-10-17/
LOCATION:Sanctuary\, 9046 FM729\, Avinger\, TX\, 75630\, United States
CATEGORIES:Church-wide,Community,Worship
END:VEVENT
BEGIN:VEVENT
DTSTART;TZID=America/Chicago:20271020T183000
DTEND;TZID=America/Chicago:20271020T193000
DTSTAMP:20260423T221839
CREATED:20250130T214249Z
LAST-MODIFIED:20260222T200208Z
UID:10002619-1824057000-1824060600@lopbc.org
SUMMARY:Family Night Worship
DESCRIPTION:
URL:https://lopbc.org/church_event/wednesday-night-worship/2027-10-20/
LOCATION:Sanctuary\, 9046 FM729\, Avinger\, TX\, 75630\, United States
CATEGORIES:Church-wide,Community,Worship
END:VEVENT
BEGIN:VEVENT
DTSTART;TZID=America/Chicago:20271024T110000
DTEND;TZID=America/Chicago:20271024T123000
DTSTAMP:20260423T221839
CREATED:20250130T213205Z
LAST-MODIFIED:20250131T161102Z
UID:10001820-1824375600-1824381000@lopbc.org
SUMMARY:Sunday AM Worship
DESCRIPTION:
URL:https://lopbc.org/church_event/sunday-am-worship/2027-10-24/
LOCATION:Sanctuary\, 9046 FM729\, Avinger\, TX\, 75630\, United States
CATEGORIES:Church-wide,Community,Worship
END:VEVENT
BEGIN:VEVENT
DTSTART;TZID=America/Chicago:20271024T180000
DTEND;TZID=America/Chicago:20271024T190000
DTSTAMP:20260423T221839
CREATED:20250130T213902Z
LAST-MODIFIED:20260222T210931Z
UID:10002355-1824400800-1824404400@lopbc.org
SUMMARY:Sunday Evening Worship
DESCRIPTION:
URL:https://lopbc.org/church_event/sunday-evening-worship/2027-10-24/
LOCATION:Sanctuary\, 9046 FM729\, Avinger\, TX\, 75630\, United States
CATEGORIES:Church-wide,Community,Worship
END:VEVENT
BEGIN:VEVENT
DTSTART;TZID=America/Chicago:20271027T183000
DTEND;TZID=America/Chicago:20271027T193000
DTSTAMP:20260423T221839
CREATED:20250130T214249Z
LAST-MODIFIED:20260222T200208Z
UID:10002620-1824661800-1824665400@lopbc.org
SUMMARY:Family Night Worship
DESCRIPTION:
URL:https://lopbc.org/church_event/wednesday-night-worship/2027-10-27/
LOCATION:Sanctuary\, 9046 FM729\, Avinger\, TX\, 75630\, United States
CATEGORIES:Church-wide,Community,Worship
END:VEVENT
BEGIN:VEVENT
DTSTART;TZID=America/Chicago:20271031T110000
DTEND;TZID=America/Chicago:20271031T123000
DTSTAMP:20260423T221839
CREATED:20250130T213205Z
LAST-MODIFIED:20250131T161102Z
UID:10001821-1824980400-1824985800@lopbc.org
SUMMARY:Sunday AM Worship
DESCRIPTION:
URL:https://lopbc.org/church_event/sunday-am-worship/2027-10-31/
LOCATION:Sanctuary\, 9046 FM729\, Avinger\, TX\, 75630\, United States
CATEGORIES:Church-wide,Community,Worship
END:VEVENT
BEGIN:VEVENT
DTSTART;TZID=America/Chicago:20271031T180000
DTEND;TZID=America/Chicago:20271031T190000
DTSTAMP:20260423T221839
CREATED:20250130T213902Z
LAST-MODIFIED:20260222T210931Z
UID:10002356-1825005600-1825009200@lopbc.org
SUMMARY:Sunday Evening Worship
DESCRIPTION:
URL:https://lopbc.org/church_event/sunday-evening-worship/2027-10-31/
LOCATION:Sanctuary\, 9046 FM729\, Avinger\, TX\, 75630\, United States
CATEGORIES:Church-wide,Community,Worship
END:VEVENT
END:VCALENDAR