BEGIN:VCALENDAR
VERSION:2.0
PRODID:-//Lake O&#039; The Pines Baptist Church - ECPv6.15.20//NONSGML v1.0//EN
CALSCALE:GREGORIAN
METHOD:PUBLISH
X-WR-CALNAME:Lake O&#039; The Pines Baptist Church
X-ORIGINAL-URL:https://lopbc.org
X-WR-CALDESC:Events for Lake O&#039; The Pines Baptist Church
REFRESH-INTERVAL;VALUE=DURATION:PT1H
X-Robots-Tag:noindex
X-PUBLISHED-TTL:PT1H
BEGIN:VTIMEZONE
TZID:America/Chicago
BEGIN:DAYLIGHT
TZOFFSETFROM:-0600
TZOFFSETTO:-0500
TZNAME:CDT
DTSTART:20260308T080000
END:DAYLIGHT
BEGIN:STANDARD
TZOFFSETFROM:-0500
TZOFFSETTO:-0600
TZNAME:CST
DTSTART:20261101T070000
END:STANDARD
BEGIN:DAYLIGHT
TZOFFSETFROM:-0600
TZOFFSETTO:-0500
TZNAME:CDT
DTSTART:20270314T080000
END:DAYLIGHT
BEGIN:STANDARD
TZOFFSETFROM:-0500
TZOFFSETTO:-0600
TZNAME:CST
DTSTART:20271107T070000
END:STANDARD
BEGIN:DAYLIGHT
TZOFFSETFROM:-0600
TZOFFSETTO:-0500
TZNAME:CDT
DTSTART:20280312T080000
END:DAYLIGHT
BEGIN:STANDARD
TZOFFSETFROM:-0500
TZOFFSETTO:-0600
TZNAME:CST
DTSTART:20281105T070000
END:STANDARD
END:VTIMEZONE
BEGIN:VEVENT
DTSTART;TZID=America/Chicago:20270505T183000
DTEND;TZID=America/Chicago:20270505T193000
DTSTAMP:20260423T151140
CREATED:20250130T214249Z
LAST-MODIFIED:20260222T200208Z
UID:10002595-1809541800-1809545400@lopbc.org
SUMMARY:Family Night Worship
DESCRIPTION:
URL:https://lopbc.org/church_event/wednesday-night-worship/2027-05-05/
LOCATION:Sanctuary\, 9046 FM729\, Avinger\, TX\, 75630\, United States
CATEGORIES:Church-wide,Community,Worship
END:VEVENT
BEGIN:VEVENT
DTSTART;TZID=America/Chicago:20270509T110000
DTEND;TZID=America/Chicago:20270509T123000
DTSTAMP:20260423T151140
CREATED:20250130T213205Z
LAST-MODIFIED:20250131T161102Z
UID:10001796-1809860400-1809865800@lopbc.org
SUMMARY:Sunday AM Worship
DESCRIPTION:
URL:https://lopbc.org/church_event/sunday-am-worship/2027-05-09/
LOCATION:Sanctuary\, 9046 FM729\, Avinger\, TX\, 75630\, United States
CATEGORIES:Church-wide,Community,Worship
END:VEVENT
BEGIN:VEVENT
DTSTART;TZID=America/Chicago:20270509T180000
DTEND;TZID=America/Chicago:20270509T190000
DTSTAMP:20260423T151140
CREATED:20250130T213902Z
LAST-MODIFIED:20260222T210931Z
UID:10002331-1809885600-1809889200@lopbc.org
SUMMARY:Sunday Evening Worship
DESCRIPTION:
URL:https://lopbc.org/church_event/sunday-evening-worship/2027-05-09/
LOCATION:Sanctuary\, 9046 FM729\, Avinger\, TX\, 75630\, United States
CATEGORIES:Church-wide,Community,Worship
END:VEVENT
BEGIN:VEVENT
DTSTART;TZID=America/Chicago:20270512T183000
DTEND;TZID=America/Chicago:20270512T193000
DTSTAMP:20260423T151140
CREATED:20250130T214249Z
LAST-MODIFIED:20260222T200208Z
UID:10002596-1810146600-1810150200@lopbc.org
SUMMARY:Family Night Worship
DESCRIPTION:
URL:https://lopbc.org/church_event/wednesday-night-worship/2027-05-12/
LOCATION:Sanctuary\, 9046 FM729\, Avinger\, TX\, 75630\, United States
CATEGORIES:Church-wide,Community,Worship
END:VEVENT
BEGIN:VEVENT
DTSTART;TZID=America/Chicago:20270516T110000
DTEND;TZID=America/Chicago:20270516T123000
DTSTAMP:20260423T151140
CREATED:20250130T213205Z
LAST-MODIFIED:20250131T161102Z
UID:10001797-1810465200-1810470600@lopbc.org
SUMMARY:Sunday AM Worship
DESCRIPTION:
URL:https://lopbc.org/church_event/sunday-am-worship/2027-05-16/
LOCATION:Sanctuary\, 9046 FM729\, Avinger\, TX\, 75630\, United States
CATEGORIES:Church-wide,Community,Worship
END:VEVENT
BEGIN:VEVENT
DTSTART;TZID=America/Chicago:20270516T180000
DTEND;TZID=America/Chicago:20270516T190000
DTSTAMP:20260423T151140
CREATED:20250130T213902Z
LAST-MODIFIED:20260222T210931Z
UID:10002332-1810490400-1810494000@lopbc.org
SUMMARY:Sunday Evening Worship
DESCRIPTION:
URL:https://lopbc.org/church_event/sunday-evening-worship/2027-05-16/
LOCATION:Sanctuary\, 9046 FM729\, Avinger\, TX\, 75630\, United States
CATEGORIES:Church-wide,Community,Worship
END:VEVENT
BEGIN:VEVENT
DTSTART;TZID=America/Chicago:20270519T183000
DTEND;TZID=America/Chicago:20270519T193000
DTSTAMP:20260423T151140
CREATED:20250130T214249Z
LAST-MODIFIED:20260222T200208Z
UID:10002597-1810751400-1810755000@lopbc.org
SUMMARY:Family Night Worship
DESCRIPTION:
URL:https://lopbc.org/church_event/wednesday-night-worship/2027-05-19/
LOCATION:Sanctuary\, 9046 FM729\, Avinger\, TX\, 75630\, United States
CATEGORIES:Church-wide,Community,Worship
END:VEVENT
BEGIN:VEVENT
DTSTART;TZID=America/Chicago:20270523T110000
DTEND;TZID=America/Chicago:20270523T123000
DTSTAMP:20260423T151140
CREATED:20250130T213205Z
LAST-MODIFIED:20250131T161102Z
UID:10001798-1811070000-1811075400@lopbc.org
SUMMARY:Sunday AM Worship
DESCRIPTION:
URL:https://lopbc.org/church_event/sunday-am-worship/2027-05-23/
LOCATION:Sanctuary\, 9046 FM729\, Avinger\, TX\, 75630\, United States
CATEGORIES:Church-wide,Community,Worship
END:VEVENT
BEGIN:VEVENT
DTSTART;TZID=America/Chicago:20270523T180000
DTEND;TZID=America/Chicago:20270523T190000
DTSTAMP:20260423T151140
CREATED:20250130T213902Z
LAST-MODIFIED:20260222T210931Z
UID:10002333-1811095200-1811098800@lopbc.org
SUMMARY:Sunday Evening Worship
DESCRIPTION:
URL:https://lopbc.org/church_event/sunday-evening-worship/2027-05-23/
LOCATION:Sanctuary\, 9046 FM729\, Avinger\, TX\, 75630\, United States
CATEGORIES:Church-wide,Community,Worship
END:VEVENT
BEGIN:VEVENT
DTSTART;TZID=America/Chicago:20270526T183000
DTEND;TZID=America/Chicago:20270526T193000
DTSTAMP:20260423T151140
CREATED:20250130T214249Z
LAST-MODIFIED:20260222T200208Z
UID:10002598-1811356200-1811359800@lopbc.org
SUMMARY:Family Night Worship
DESCRIPTION:
URL:https://lopbc.org/church_event/wednesday-night-worship/2027-05-26/
LOCATION:Sanctuary\, 9046 FM729\, Avinger\, TX\, 75630\, United States
CATEGORIES:Church-wide,Community,Worship
END:VEVENT
BEGIN:VEVENT
DTSTART;TZID=America/Chicago:20270530T110000
DTEND;TZID=America/Chicago:20270530T123000
DTSTAMP:20260423T151140
CREATED:20250130T213205Z
LAST-MODIFIED:20250131T161102Z
UID:10001799-1811674800-1811680200@lopbc.org
SUMMARY:Sunday AM Worship
DESCRIPTION:
URL:https://lopbc.org/church_event/sunday-am-worship/2027-05-30/
LOCATION:Sanctuary\, 9046 FM729\, Avinger\, TX\, 75630\, United States
CATEGORIES:Church-wide,Community,Worship
END:VEVENT
BEGIN:VEVENT
DTSTART;TZID=America/Chicago:20270530T180000
DTEND;TZID=America/Chicago:20270530T190000
DTSTAMP:20260423T151140
CREATED:20250130T213902Z
LAST-MODIFIED:20260222T210931Z
UID:10002334-1811700000-1811703600@lopbc.org
SUMMARY:Sunday Evening Worship
DESCRIPTION:
URL:https://lopbc.org/church_event/sunday-evening-worship/2027-05-30/
LOCATION:Sanctuary\, 9046 FM729\, Avinger\, TX\, 75630\, United States
CATEGORIES:Church-wide,Community,Worship
END:VEVENT
BEGIN:VEVENT
DTSTART;TZID=America/Chicago:20270602T183000
DTEND;TZID=America/Chicago:20270602T193000
DTSTAMP:20260423T151140
CREATED:20250130T214249Z
LAST-MODIFIED:20260222T200208Z
UID:10002599-1811961000-1811964600@lopbc.org
SUMMARY:Family Night Worship
DESCRIPTION:
URL:https://lopbc.org/church_event/wednesday-night-worship/2027-06-02/
LOCATION:Sanctuary\, 9046 FM729\, Avinger\, TX\, 75630\, United States
CATEGORIES:Church-wide,Community,Worship
END:VEVENT
BEGIN:VEVENT
DTSTART;TZID=America/Chicago:20270606T110000
DTEND;TZID=America/Chicago:20270606T123000
DTSTAMP:20260423T151140
CREATED:20250130T213205Z
LAST-MODIFIED:20250131T161102Z
UID:10001800-1812279600-1812285000@lopbc.org
SUMMARY:Sunday AM Worship
DESCRIPTION:
URL:https://lopbc.org/church_event/sunday-am-worship/2027-06-06/
LOCATION:Sanctuary\, 9046 FM729\, Avinger\, TX\, 75630\, United States
CATEGORIES:Church-wide,Community,Worship
END:VEVENT
BEGIN:VEVENT
DTSTART;TZID=America/Chicago:20270606T180000
DTEND;TZID=America/Chicago:20270606T190000
DTSTAMP:20260423T151140
CREATED:20250130T213902Z
LAST-MODIFIED:20260222T210931Z
UID:10002335-1812304800-1812308400@lopbc.org
SUMMARY:Sunday Evening Worship
DESCRIPTION:
URL:https://lopbc.org/church_event/sunday-evening-worship/2027-06-06/
LOCATION:Sanctuary\, 9046 FM729\, Avinger\, TX\, 75630\, United States
CATEGORIES:Church-wide,Community,Worship
END:VEVENT
BEGIN:VEVENT
DTSTART;TZID=America/Chicago:20270609T183000
DTEND;TZID=America/Chicago:20270609T193000
DTSTAMP:20260423T151140
CREATED:20250130T214249Z
LAST-MODIFIED:20260222T200208Z
UID:10002600-1812565800-1812569400@lopbc.org
SUMMARY:Family Night Worship
DESCRIPTION:
URL:https://lopbc.org/church_event/wednesday-night-worship/2027-06-09/
LOCATION:Sanctuary\, 9046 FM729\, Avinger\, TX\, 75630\, United States
CATEGORIES:Church-wide,Community,Worship
END:VEVENT
BEGIN:VEVENT
DTSTART;TZID=America/Chicago:20270613T110000
DTEND;TZID=America/Chicago:20270613T123000
DTSTAMP:20260423T151140
CREATED:20250130T213205Z
LAST-MODIFIED:20250131T161102Z
UID:10001801-1812884400-1812889800@lopbc.org
SUMMARY:Sunday AM Worship
DESCRIPTION:
URL:https://lopbc.org/church_event/sunday-am-worship/2027-06-13/
LOCATION:Sanctuary\, 9046 FM729\, Avinger\, TX\, 75630\, United States
CATEGORIES:Church-wide,Community,Worship
END:VEVENT
BEGIN:VEVENT
DTSTART;TZID=America/Chicago:20270613T180000
DTEND;TZID=America/Chicago:20270613T190000
DTSTAMP:20260423T151140
CREATED:20250130T213902Z
LAST-MODIFIED:20260222T210931Z
UID:10002336-1812909600-1812913200@lopbc.org
SUMMARY:Sunday Evening Worship
DESCRIPTION:
URL:https://lopbc.org/church_event/sunday-evening-worship/2027-06-13/
LOCATION:Sanctuary\, 9046 FM729\, Avinger\, TX\, 75630\, United States
CATEGORIES:Church-wide,Community,Worship
END:VEVENT
BEGIN:VEVENT
DTSTART;TZID=America/Chicago:20270616T183000
DTEND;TZID=America/Chicago:20270616T193000
DTSTAMP:20260423T151140
CREATED:20250130T214249Z
LAST-MODIFIED:20260222T200208Z
UID:10002601-1813170600-1813174200@lopbc.org
SUMMARY:Family Night Worship
DESCRIPTION:
URL:https://lopbc.org/church_event/wednesday-night-worship/2027-06-16/
LOCATION:Sanctuary\, 9046 FM729\, Avinger\, TX\, 75630\, United States
CATEGORIES:Church-wide,Community,Worship
END:VEVENT
BEGIN:VEVENT
DTSTART;TZID=America/Chicago:20270620T110000
DTEND;TZID=America/Chicago:20270620T123000
DTSTAMP:20260423T151140
CREATED:20250130T213205Z
LAST-MODIFIED:20250131T161102Z
UID:10001802-1813489200-1813494600@lopbc.org
SUMMARY:Sunday AM Worship
DESCRIPTION:
URL:https://lopbc.org/church_event/sunday-am-worship/2027-06-20/
LOCATION:Sanctuary\, 9046 FM729\, Avinger\, TX\, 75630\, United States
CATEGORIES:Church-wide,Community,Worship
END:VEVENT
BEGIN:VEVENT
DTSTART;TZID=America/Chicago:20270620T180000
DTEND;TZID=America/Chicago:20270620T190000
DTSTAMP:20260423T151140
CREATED:20250130T213902Z
LAST-MODIFIED:20260222T210931Z
UID:10002337-1813514400-1813518000@lopbc.org
SUMMARY:Sunday Evening Worship
DESCRIPTION:
URL:https://lopbc.org/church_event/sunday-evening-worship/2027-06-20/
LOCATION:Sanctuary\, 9046 FM729\, Avinger\, TX\, 75630\, United States
CATEGORIES:Church-wide,Community,Worship
END:VEVENT
BEGIN:VEVENT
DTSTART;TZID=America/Chicago:20270623T183000
DTEND;TZID=America/Chicago:20270623T193000
DTSTAMP:20260423T151140
CREATED:20250130T214249Z
LAST-MODIFIED:20260222T200208Z
UID:10002602-1813775400-1813779000@lopbc.org
SUMMARY:Family Night Worship
DESCRIPTION:
URL:https://lopbc.org/church_event/wednesday-night-worship/2027-06-23/
LOCATION:Sanctuary\, 9046 FM729\, Avinger\, TX\, 75630\, United States
CATEGORIES:Church-wide,Community,Worship
END:VEVENT
BEGIN:VEVENT
DTSTART;TZID=America/Chicago:20270627T110000
DTEND;TZID=America/Chicago:20270627T123000
DTSTAMP:20260423T151140
CREATED:20250130T213205Z
LAST-MODIFIED:20250131T161102Z
UID:10001803-1814094000-1814099400@lopbc.org
SUMMARY:Sunday AM Worship
DESCRIPTION:
URL:https://lopbc.org/church_event/sunday-am-worship/2027-06-27/
LOCATION:Sanctuary\, 9046 FM729\, Avinger\, TX\, 75630\, United States
CATEGORIES:Church-wide,Community,Worship
END:VEVENT
BEGIN:VEVENT
DTSTART;TZID=America/Chicago:20270627T180000
DTEND;TZID=America/Chicago:20270627T190000
DTSTAMP:20260423T151140
CREATED:20250130T213902Z
LAST-MODIFIED:20260222T210931Z
UID:10002338-1814119200-1814122800@lopbc.org
SUMMARY:Sunday Evening Worship
DESCRIPTION:
URL:https://lopbc.org/church_event/sunday-evening-worship/2027-06-27/
LOCATION:Sanctuary\, 9046 FM729\, Avinger\, TX\, 75630\, United States
CATEGORIES:Church-wide,Community,Worship
END:VEVENT
BEGIN:VEVENT
DTSTART;TZID=America/Chicago:20270630T183000
DTEND;TZID=America/Chicago:20270630T193000
DTSTAMP:20260423T151140
CREATED:20250130T214249Z
LAST-MODIFIED:20260222T200208Z
UID:10002603-1814380200-1814383800@lopbc.org
SUMMARY:Family Night Worship
DESCRIPTION:
URL:https://lopbc.org/church_event/wednesday-night-worship/2027-06-30/
LOCATION:Sanctuary\, 9046 FM729\, Avinger\, TX\, 75630\, United States
CATEGORIES:Church-wide,Community,Worship
END:VEVENT
BEGIN:VEVENT
DTSTART;TZID=America/Chicago:20270704T110000
DTEND;TZID=America/Chicago:20270704T123000
DTSTAMP:20260423T151140
CREATED:20250130T213205Z
LAST-MODIFIED:20250131T161102Z
UID:10001804-1814698800-1814704200@lopbc.org
SUMMARY:Sunday AM Worship
DESCRIPTION:
URL:https://lopbc.org/church_event/sunday-am-worship/2027-07-04/
LOCATION:Sanctuary\, 9046 FM729\, Avinger\, TX\, 75630\, United States
CATEGORIES:Church-wide,Community,Worship
END:VEVENT
BEGIN:VEVENT
DTSTART;TZID=America/Chicago:20270704T180000
DTEND;TZID=America/Chicago:20270704T190000
DTSTAMP:20260423T151140
CREATED:20250130T213902Z
LAST-MODIFIED:20260222T210931Z
UID:10002339-1814724000-1814727600@lopbc.org
SUMMARY:Sunday Evening Worship
DESCRIPTION:
URL:https://lopbc.org/church_event/sunday-evening-worship/2027-07-04/
LOCATION:Sanctuary\, 9046 FM729\, Avinger\, TX\, 75630\, United States
CATEGORIES:Church-wide,Community,Worship
END:VEVENT
BEGIN:VEVENT
DTSTART;TZID=America/Chicago:20270707T183000
DTEND;TZID=America/Chicago:20270707T193000
DTSTAMP:20260423T151140
CREATED:20250130T214249Z
LAST-MODIFIED:20260222T200208Z
UID:10002604-1814985000-1814988600@lopbc.org
SUMMARY:Family Night Worship
DESCRIPTION:
URL:https://lopbc.org/church_event/wednesday-night-worship/2027-07-07/
LOCATION:Sanctuary\, 9046 FM729\, Avinger\, TX\, 75630\, United States
CATEGORIES:Church-wide,Community,Worship
END:VEVENT
BEGIN:VEVENT
DTSTART;TZID=America/Chicago:20270711T110000
DTEND;TZID=America/Chicago:20270711T123000
DTSTAMP:20260423T151140
CREATED:20250130T213205Z
LAST-MODIFIED:20250131T161102Z
UID:10001805-1815303600-1815309000@lopbc.org
SUMMARY:Sunday AM Worship
DESCRIPTION:
URL:https://lopbc.org/church_event/sunday-am-worship/2027-07-11/
LOCATION:Sanctuary\, 9046 FM729\, Avinger\, TX\, 75630\, United States
CATEGORIES:Church-wide,Community,Worship
END:VEVENT
BEGIN:VEVENT
DTSTART;TZID=America/Chicago:20270711T180000
DTEND;TZID=America/Chicago:20270711T190000
DTSTAMP:20260423T151140
CREATED:20250130T213902Z
LAST-MODIFIED:20260222T210931Z
UID:10002340-1815328800-1815332400@lopbc.org
SUMMARY:Sunday Evening Worship
DESCRIPTION:
URL:https://lopbc.org/church_event/sunday-evening-worship/2027-07-11/
LOCATION:Sanctuary\, 9046 FM729\, Avinger\, TX\, 75630\, United States
CATEGORIES:Church-wide,Community,Worship
END:VEVENT
END:VCALENDAR