BEGIN:VCALENDAR
VERSION:2.0
PRODID:-//Lake O&#039; The Pines Baptist Church - ECPv6.15.20//NONSGML v1.0//EN
CALSCALE:GREGORIAN
METHOD:PUBLISH
X-ORIGINAL-URL:https://lopbc.org
X-WR-CALDESC:Events for Lake O&#039; The Pines Baptist Church
REFRESH-INTERVAL;VALUE=DURATION:PT1H
X-Robots-Tag:noindex
X-PUBLISHED-TTL:PT1H
BEGIN:VTIMEZONE
TZID:America/Chicago
BEGIN:DAYLIGHT
TZOFFSETFROM:-0600
TZOFFSETTO:-0500
TZNAME:CDT
DTSTART:20250309T080000
END:DAYLIGHT
BEGIN:STANDARD
TZOFFSETFROM:-0500
TZOFFSETTO:-0600
TZNAME:CST
DTSTART:20251102T070000
END:STANDARD
BEGIN:DAYLIGHT
TZOFFSETFROM:-0600
TZOFFSETTO:-0500
TZNAME:CDT
DTSTART:20260308T080000
END:DAYLIGHT
BEGIN:STANDARD
TZOFFSETFROM:-0500
TZOFFSETTO:-0600
TZNAME:CST
DTSTART:20261101T070000
END:STANDARD
BEGIN:DAYLIGHT
TZOFFSETFROM:-0600
TZOFFSETTO:-0500
TZNAME:CDT
DTSTART:20270314T080000
END:DAYLIGHT
BEGIN:STANDARD
TZOFFSETFROM:-0500
TZOFFSETTO:-0600
TZNAME:CST
DTSTART:20271107T070000
END:STANDARD
END:VTIMEZONE
BEGIN:VEVENT
DTSTART;TZID=America/Chicago:20260524T110000
DTEND;TZID=America/Chicago:20260524T123000
DTSTAMP:20260422T214500
CREATED:20250130T213205Z
LAST-MODIFIED:20250131T161102Z
UID:10001746-1779620400-1779625800@lopbc.org
SUMMARY:Sunday AM Worship
DESCRIPTION:
URL:https://lopbc.org/church_event/sunday-am-worship/2026-05-24/
LOCATION:Sanctuary\, 9046 FM729\, Avinger\, TX\, 75630\, United States
CATEGORIES:Church-wide,Community,Worship
END:VEVENT
BEGIN:VEVENT
DTSTART;TZID=America/Chicago:20260524T180000
DTEND;TZID=America/Chicago:20260524T190000
DTSTAMP:20260422T214500
CREATED:20250130T213902Z
LAST-MODIFIED:20260222T210931Z
UID:10002281-1779645600-1779649200@lopbc.org
SUMMARY:Sunday Evening Worship
DESCRIPTION:
URL:https://lopbc.org/church_event/sunday-evening-worship/2026-05-24/
LOCATION:Sanctuary\, 9046 FM729\, Avinger\, TX\, 75630\, United States
CATEGORIES:Church-wide,Community,Worship
END:VEVENT
BEGIN:VEVENT
DTSTART;TZID=America/Chicago:20260527T183000
DTEND;TZID=America/Chicago:20260527T193000
DTSTAMP:20260422T214500
CREATED:20250130T214249Z
LAST-MODIFIED:20260222T200208Z
UID:10002546-1779906600-1779910200@lopbc.org
SUMMARY:Family Night Worship
DESCRIPTION:
URL:https://lopbc.org/church_event/wednesday-night-worship/2026-05-27/
LOCATION:Sanctuary\, 9046 FM729\, Avinger\, TX\, 75630\, United States
CATEGORIES:Church-wide,Community,Worship
END:VEVENT
BEGIN:VEVENT
DTSTART;TZID=America/Chicago:20260531T110000
DTEND;TZID=America/Chicago:20260531T123000
DTSTAMP:20260422T214500
CREATED:20250130T213205Z
LAST-MODIFIED:20250131T161102Z
UID:10001747-1780225200-1780230600@lopbc.org
SUMMARY:Sunday AM Worship
DESCRIPTION:
URL:https://lopbc.org/church_event/sunday-am-worship/2026-05-31/
LOCATION:Sanctuary\, 9046 FM729\, Avinger\, TX\, 75630\, United States
CATEGORIES:Church-wide,Community,Worship
END:VEVENT
BEGIN:VEVENT
DTSTART;TZID=America/Chicago:20260531T180000
DTEND;TZID=America/Chicago:20260531T190000
DTSTAMP:20260422T214500
CREATED:20250130T213902Z
LAST-MODIFIED:20260222T210931Z
UID:10002282-1780250400-1780254000@lopbc.org
SUMMARY:Sunday Evening Worship
DESCRIPTION:
URL:https://lopbc.org/church_event/sunday-evening-worship/2026-05-31/
LOCATION:Sanctuary\, 9046 FM729\, Avinger\, TX\, 75630\, United States
CATEGORIES:Church-wide,Community,Worship
END:VEVENT
BEGIN:VEVENT
DTSTART;TZID=America/Chicago:20260603T183000
DTEND;TZID=America/Chicago:20260603T193000
DTSTAMP:20260422T214500
CREATED:20250130T214249Z
LAST-MODIFIED:20260222T200208Z
UID:10002547-1780511400-1780515000@lopbc.org
SUMMARY:Family Night Worship
DESCRIPTION:
URL:https://lopbc.org/church_event/wednesday-night-worship/2026-06-03/
LOCATION:Sanctuary\, 9046 FM729\, Avinger\, TX\, 75630\, United States
CATEGORIES:Church-wide,Community,Worship
END:VEVENT
BEGIN:VEVENT
DTSTART;TZID=America/Chicago:20260607T110000
DTEND;TZID=America/Chicago:20260607T123000
DTSTAMP:20260422T214500
CREATED:20250130T213205Z
LAST-MODIFIED:20250131T161102Z
UID:10001748-1780830000-1780835400@lopbc.org
SUMMARY:Sunday AM Worship
DESCRIPTION:
URL:https://lopbc.org/church_event/sunday-am-worship/2026-06-07/
LOCATION:Sanctuary\, 9046 FM729\, Avinger\, TX\, 75630\, United States
CATEGORIES:Church-wide,Community,Worship
END:VEVENT
BEGIN:VEVENT
DTSTART;TZID=America/Chicago:20260607T180000
DTEND;TZID=America/Chicago:20260607T190000
DTSTAMP:20260422T214500
CREATED:20250130T213902Z
LAST-MODIFIED:20260222T210931Z
UID:10002283-1780855200-1780858800@lopbc.org
SUMMARY:Sunday Evening Worship
DESCRIPTION:
URL:https://lopbc.org/church_event/sunday-evening-worship/2026-06-07/
LOCATION:Sanctuary\, 9046 FM729\, Avinger\, TX\, 75630\, United States
CATEGORIES:Church-wide,Community,Worship
END:VEVENT
BEGIN:VEVENT
DTSTART;TZID=America/Chicago:20260610T183000
DTEND;TZID=America/Chicago:20260610T193000
DTSTAMP:20260422T214500
CREATED:20250130T214249Z
LAST-MODIFIED:20260222T200208Z
UID:10002548-1781116200-1781119800@lopbc.org
SUMMARY:Family Night Worship
DESCRIPTION:
URL:https://lopbc.org/church_event/wednesday-night-worship/2026-06-10/
LOCATION:Sanctuary\, 9046 FM729\, Avinger\, TX\, 75630\, United States
CATEGORIES:Church-wide,Community,Worship
END:VEVENT
BEGIN:VEVENT
DTSTART;TZID=America/Chicago:20260614T110000
DTEND;TZID=America/Chicago:20260614T123000
DTSTAMP:20260422T214500
CREATED:20250130T213205Z
LAST-MODIFIED:20250131T161102Z
UID:10001749-1781434800-1781440200@lopbc.org
SUMMARY:Sunday AM Worship
DESCRIPTION:
URL:https://lopbc.org/church_event/sunday-am-worship/2026-06-14/
LOCATION:Sanctuary\, 9046 FM729\, Avinger\, TX\, 75630\, United States
CATEGORIES:Church-wide,Community,Worship
END:VEVENT
BEGIN:VEVENT
DTSTART;TZID=America/Chicago:20260614T180000
DTEND;TZID=America/Chicago:20260614T190000
DTSTAMP:20260422T214500
CREATED:20250130T213902Z
LAST-MODIFIED:20260222T210931Z
UID:10002284-1781460000-1781463600@lopbc.org
SUMMARY:Sunday Evening Worship
DESCRIPTION:
URL:https://lopbc.org/church_event/sunday-evening-worship/2026-06-14/
LOCATION:Sanctuary\, 9046 FM729\, Avinger\, TX\, 75630\, United States
CATEGORIES:Church-wide,Community,Worship
END:VEVENT
BEGIN:VEVENT
DTSTART;TZID=America/Chicago:20260621T110000
DTEND;TZID=America/Chicago:20260621T123000
DTSTAMP:20260422T214500
CREATED:20250130T213205Z
LAST-MODIFIED:20250131T161102Z
UID:10001750-1782039600-1782045000@lopbc.org
SUMMARY:Sunday AM Worship
DESCRIPTION:
URL:https://lopbc.org/church_event/sunday-am-worship/2026-06-21/
LOCATION:Sanctuary\, 9046 FM729\, Avinger\, TX\, 75630\, United States
CATEGORIES:Church-wide,Community,Worship
END:VEVENT
BEGIN:VEVENT
DTSTART;TZID=America/Chicago:20260628T110000
DTEND;TZID=America/Chicago:20260628T123000
DTSTAMP:20260422T214500
CREATED:20250130T213205Z
LAST-MODIFIED:20250131T161102Z
UID:10001751-1782644400-1782649800@lopbc.org
SUMMARY:Sunday AM Worship
DESCRIPTION:
URL:https://lopbc.org/church_event/sunday-am-worship/2026-06-28/
LOCATION:Sanctuary\, 9046 FM729\, Avinger\, TX\, 75630\, United States
CATEGORIES:Church-wide,Community,Worship
END:VEVENT
BEGIN:VEVENT
DTSTART;TZID=America/Chicago:20260628T180000
DTEND;TZID=America/Chicago:20260628T190000
DTSTAMP:20260422T214500
CREATED:20250130T213902Z
LAST-MODIFIED:20260222T210931Z
UID:10002286-1782669600-1782673200@lopbc.org
SUMMARY:Sunday Evening Worship
DESCRIPTION:
URL:https://lopbc.org/church_event/sunday-evening-worship/2026-06-28/
LOCATION:Sanctuary\, 9046 FM729\, Avinger\, TX\, 75630\, United States
CATEGORIES:Church-wide,Community,Worship
END:VEVENT
BEGIN:VEVENT
DTSTART;TZID=America/Chicago:20260705T110000
DTEND;TZID=America/Chicago:20260705T123000
DTSTAMP:20260422T214500
CREATED:20250130T213205Z
LAST-MODIFIED:20250131T161102Z
UID:10001752-1783249200-1783254600@lopbc.org
SUMMARY:Sunday AM Worship
DESCRIPTION:
URL:https://lopbc.org/church_event/sunday-am-worship/2026-07-05/
LOCATION:Sanctuary\, 9046 FM729\, Avinger\, TX\, 75630\, United States
CATEGORIES:Church-wide,Community,Worship
END:VEVENT
BEGIN:VEVENT
DTSTART;TZID=America/Chicago:20260705T180000
DTEND;TZID=America/Chicago:20260705T190000
DTSTAMP:20260422T214500
CREATED:20250130T213902Z
LAST-MODIFIED:20260222T210931Z
UID:10002287-1783274400-1783278000@lopbc.org
SUMMARY:Sunday Evening Worship
DESCRIPTION:
URL:https://lopbc.org/church_event/sunday-evening-worship/2026-07-05/
LOCATION:Sanctuary\, 9046 FM729\, Avinger\, TX\, 75630\, United States
CATEGORIES:Church-wide,Community,Worship
END:VEVENT
BEGIN:VEVENT
DTSTART;TZID=America/Chicago:20260708T183000
DTEND;TZID=America/Chicago:20260708T193000
DTSTAMP:20260422T214500
CREATED:20250130T214249Z
LAST-MODIFIED:20260222T200208Z
UID:10002552-1783535400-1783539000@lopbc.org
SUMMARY:Family Night Worship
DESCRIPTION:
URL:https://lopbc.org/church_event/wednesday-night-worship/2026-07-08/
LOCATION:Sanctuary\, 9046 FM729\, Avinger\, TX\, 75630\, United States
CATEGORIES:Church-wide,Community,Worship
END:VEVENT
BEGIN:VEVENT
DTSTART;TZID=America/Chicago:20260712T110000
DTEND;TZID=America/Chicago:20260712T123000
DTSTAMP:20260422T214500
CREATED:20250130T213205Z
LAST-MODIFIED:20250131T161102Z
UID:10001753-1783854000-1783859400@lopbc.org
SUMMARY:Sunday AM Worship
DESCRIPTION:
URL:https://lopbc.org/church_event/sunday-am-worship/2026-07-12/
LOCATION:Sanctuary\, 9046 FM729\, Avinger\, TX\, 75630\, United States
CATEGORIES:Church-wide,Community,Worship
END:VEVENT
BEGIN:VEVENT
DTSTART;TZID=America/Chicago:20260712T180000
DTEND;TZID=America/Chicago:20260712T190000
DTSTAMP:20260422T214500
CREATED:20250130T213902Z
LAST-MODIFIED:20260222T210931Z
UID:10002288-1783879200-1783882800@lopbc.org
SUMMARY:Sunday Evening Worship
DESCRIPTION:
URL:https://lopbc.org/church_event/sunday-evening-worship/2026-07-12/
LOCATION:Sanctuary\, 9046 FM729\, Avinger\, TX\, 75630\, United States
CATEGORIES:Church-wide,Community,Worship
END:VEVENT
BEGIN:VEVENT
DTSTART;TZID=America/Chicago:20260715T183000
DTEND;TZID=America/Chicago:20260715T193000
DTSTAMP:20260422T214500
CREATED:20250130T214249Z
LAST-MODIFIED:20260222T200208Z
UID:10002553-1784140200-1784143800@lopbc.org
SUMMARY:Family Night Worship
DESCRIPTION:
URL:https://lopbc.org/church_event/wednesday-night-worship/2026-07-15/
LOCATION:Sanctuary\, 9046 FM729\, Avinger\, TX\, 75630\, United States
CATEGORIES:Church-wide,Community,Worship
END:VEVENT
BEGIN:VEVENT
DTSTART;TZID=America/Chicago:20260719T110000
DTEND;TZID=America/Chicago:20260719T123000
DTSTAMP:20260422T214500
CREATED:20250130T213205Z
LAST-MODIFIED:20250131T161102Z
UID:10001754-1784458800-1784464200@lopbc.org
SUMMARY:Sunday AM Worship
DESCRIPTION:
URL:https://lopbc.org/church_event/sunday-am-worship/2026-07-19/
LOCATION:Sanctuary\, 9046 FM729\, Avinger\, TX\, 75630\, United States
CATEGORIES:Church-wide,Community,Worship
END:VEVENT
BEGIN:VEVENT
DTSTART;TZID=America/Chicago:20260719T180000
DTEND;TZID=America/Chicago:20260719T190000
DTSTAMP:20260422T214500
CREATED:20250130T213902Z
LAST-MODIFIED:20260222T210931Z
UID:10002289-1784484000-1784487600@lopbc.org
SUMMARY:Sunday Evening Worship
DESCRIPTION:
URL:https://lopbc.org/church_event/sunday-evening-worship/2026-07-19/
LOCATION:Sanctuary\, 9046 FM729\, Avinger\, TX\, 75630\, United States
CATEGORIES:Church-wide,Community,Worship
END:VEVENT
BEGIN:VEVENT
DTSTART;TZID=America/Chicago:20260722T183000
DTEND;TZID=America/Chicago:20260722T193000
DTSTAMP:20260422T214500
CREATED:20250130T214249Z
LAST-MODIFIED:20260222T200208Z
UID:10002554-1784745000-1784748600@lopbc.org
SUMMARY:Family Night Worship
DESCRIPTION:
URL:https://lopbc.org/church_event/wednesday-night-worship/2026-07-22/
LOCATION:Sanctuary\, 9046 FM729\, Avinger\, TX\, 75630\, United States
CATEGORIES:Church-wide,Community,Worship
END:VEVENT
BEGIN:VEVENT
DTSTART;TZID=America/Chicago:20260726T110000
DTEND;TZID=America/Chicago:20260726T123000
DTSTAMP:20260422T214500
CREATED:20250130T213205Z
LAST-MODIFIED:20250131T161102Z
UID:10001755-1785063600-1785069000@lopbc.org
SUMMARY:Sunday AM Worship
DESCRIPTION:
URL:https://lopbc.org/church_event/sunday-am-worship/2026-07-26/
LOCATION:Sanctuary\, 9046 FM729\, Avinger\, TX\, 75630\, United States
CATEGORIES:Church-wide,Community,Worship
END:VEVENT
BEGIN:VEVENT
DTSTART;TZID=America/Chicago:20260726T180000
DTEND;TZID=America/Chicago:20260726T190000
DTSTAMP:20260422T214500
CREATED:20250130T213902Z
LAST-MODIFIED:20260222T210931Z
UID:10002290-1785088800-1785092400@lopbc.org
SUMMARY:Sunday Evening Worship
DESCRIPTION:
URL:https://lopbc.org/church_event/sunday-evening-worship/2026-07-26/
LOCATION:Sanctuary\, 9046 FM729\, Avinger\, TX\, 75630\, United States
CATEGORIES:Church-wide,Community,Worship
END:VEVENT
BEGIN:VEVENT
DTSTART;TZID=America/Chicago:20260729T183000
DTEND;TZID=America/Chicago:20260729T193000
DTSTAMP:20260422T214500
CREATED:20250130T214249Z
LAST-MODIFIED:20260222T200208Z
UID:10002555-1785349800-1785353400@lopbc.org
SUMMARY:Family Night Worship
DESCRIPTION:
URL:https://lopbc.org/church_event/wednesday-night-worship/2026-07-29/
LOCATION:Sanctuary\, 9046 FM729\, Avinger\, TX\, 75630\, United States
CATEGORIES:Church-wide,Community,Worship
END:VEVENT
BEGIN:VEVENT
DTSTART;TZID=America/Chicago:20260802T110000
DTEND;TZID=America/Chicago:20260802T123000
DTSTAMP:20260422T214500
CREATED:20250130T213205Z
LAST-MODIFIED:20250131T161102Z
UID:10001756-1785668400-1785673800@lopbc.org
SUMMARY:Sunday AM Worship
DESCRIPTION:
URL:https://lopbc.org/church_event/sunday-am-worship/2026-08-02/
LOCATION:Sanctuary\, 9046 FM729\, Avinger\, TX\, 75630\, United States
CATEGORIES:Church-wide,Community,Worship
END:VEVENT
BEGIN:VEVENT
DTSTART;TZID=America/Chicago:20260802T180000
DTEND;TZID=America/Chicago:20260802T190000
DTSTAMP:20260422T214500
CREATED:20250130T213902Z
LAST-MODIFIED:20260222T210931Z
UID:10002291-1785693600-1785697200@lopbc.org
SUMMARY:Sunday Evening Worship
DESCRIPTION:
URL:https://lopbc.org/church_event/sunday-evening-worship/2026-08-02/
LOCATION:Sanctuary\, 9046 FM729\, Avinger\, TX\, 75630\, United States
CATEGORIES:Church-wide,Community,Worship
END:VEVENT
BEGIN:VEVENT
DTSTART;TZID=America/Chicago:20260805T183000
DTEND;TZID=America/Chicago:20260805T193000
DTSTAMP:20260422T214500
CREATED:20250130T214249Z
LAST-MODIFIED:20260222T200208Z
UID:10002556-1785954600-1785958200@lopbc.org
SUMMARY:Family Night Worship
DESCRIPTION:
URL:https://lopbc.org/church_event/wednesday-night-worship/2026-08-05/
LOCATION:Sanctuary\, 9046 FM729\, Avinger\, TX\, 75630\, United States
CATEGORIES:Church-wide,Community,Worship
END:VEVENT
BEGIN:VEVENT
DTSTART;TZID=America/Chicago:20260809T110000
DTEND;TZID=America/Chicago:20260809T123000
DTSTAMP:20260422T214500
CREATED:20250130T213205Z
LAST-MODIFIED:20250131T161102Z
UID:10001757-1786273200-1786278600@lopbc.org
SUMMARY:Sunday AM Worship
DESCRIPTION:
URL:https://lopbc.org/church_event/sunday-am-worship/2026-08-09/
LOCATION:Sanctuary\, 9046 FM729\, Avinger\, TX\, 75630\, United States
CATEGORIES:Church-wide,Community,Worship
END:VEVENT
END:VCALENDAR