BEGIN:VCALENDAR
VERSION:2.0
PRODID:-//Lake O&#039; The Pines Baptist Church - ECPv6.15.20//NONSGML v1.0//EN
CALSCALE:GREGORIAN
METHOD:PUBLISH
X-ORIGINAL-URL:https://lopbc.org
X-WR-CALDESC:Events for Lake O&#039; The Pines Baptist Church
REFRESH-INTERVAL;VALUE=DURATION:PT1H
X-Robots-Tag:noindex
X-PUBLISHED-TTL:PT1H
BEGIN:VTIMEZONE
TZID:America/Chicago
BEGIN:DAYLIGHT
TZOFFSETFROM:-0600
TZOFFSETTO:-0500
TZNAME:CDT
DTSTART:20240310T080000
END:DAYLIGHT
BEGIN:STANDARD
TZOFFSETFROM:-0500
TZOFFSETTO:-0600
TZNAME:CST
DTSTART:20241103T070000
END:STANDARD
BEGIN:DAYLIGHT
TZOFFSETFROM:-0600
TZOFFSETTO:-0500
TZNAME:CDT
DTSTART:20250309T080000
END:DAYLIGHT
BEGIN:STANDARD
TZOFFSETFROM:-0500
TZOFFSETTO:-0600
TZNAME:CST
DTSTART:20251102T070000
END:STANDARD
BEGIN:DAYLIGHT
TZOFFSETFROM:-0600
TZOFFSETTO:-0500
TZNAME:CDT
DTSTART:20260308T080000
END:DAYLIGHT
BEGIN:STANDARD
TZOFFSETFROM:-0500
TZOFFSETTO:-0600
TZNAME:CST
DTSTART:20261101T070000
END:STANDARD
END:VTIMEZONE
BEGIN:VEVENT
DTSTART;TZID=America/Chicago:20251206T160000
DTEND;TZID=America/Chicago:20251206T163000
DTSTAMP:20260423T001729
CREATED:20250131T190259Z
LAST-MODIFIED:20250131T190259Z
UID:10003874-1765036800-1765038600@lopbc.org
SUMMARY:Youth Christmas Party
DESCRIPTION:
URL:https://lopbc.org/church_event/youth-christmas-party/
CATEGORIES:Church-wide,Youth Ministry
END:VEVENT
BEGIN:VEVENT
DTSTART;TZID=America/Chicago:20251217T183000
DTEND;TZID=America/Chicago:20251217T200000
DTSTAMP:20260423T001729
CREATED:20250131T191011Z
LAST-MODIFIED:20250131T191011Z
UID:10003879-1765996200-1766001600@lopbc.org
SUMMARY:Cookies\, Carols\, and Campfire Evening
DESCRIPTION:
URL:https://lopbc.org/church_event/cookies-carols-and-campfire-evening/
CATEGORIES:Children's Ministry,Church-wide,Community,Youth Ministry
END:VEVENT
BEGIN:VEVENT
DTSTART;TZID=America/Chicago:20251221T180000
DTEND;TZID=America/Chicago:20251221T190000
DTSTAMP:20260423T001729
CREATED:20250131T164706Z
LAST-MODIFIED:20250131T164706Z
UID:10003867-1766340000-1766343600@lopbc.org
SUMMARY:Christmas Play and Sunday Evening Service
DESCRIPTION:
URL:https://lopbc.org/church_event/christmas-play-and-sunday-evening-service/
LOCATION:Sanctuary\, 9046 FM729\, Avinger\, TX\, 75630\, United States
CATEGORIES:Children's Ministry,Church-wide,Community,Worship,Youth Ministry
END:VEVENT
END:VCALENDAR