BEGIN:VCALENDAR
VERSION:2.0
PRODID:-//Lake O&#039; The Pines Baptist Church - ECPv6.15.20//NONSGML v1.0//EN
CALSCALE:GREGORIAN
METHOD:PUBLISH
X-WR-CALNAME:Lake O&#039; The Pines Baptist Church
X-ORIGINAL-URL:https://lopbc.org
X-WR-CALDESC:Events for Lake O&#039; The Pines Baptist Church
REFRESH-INTERVAL;VALUE=DURATION:PT1H
X-Robots-Tag:noindex
X-PUBLISHED-TTL:PT1H
BEGIN:VTIMEZONE
TZID:America/Chicago
BEGIN:DAYLIGHT
TZOFFSETFROM:-0600
TZOFFSETTO:-0500
TZNAME:CDT
DTSTART:20230312T080000
END:DAYLIGHT
BEGIN:STANDARD
TZOFFSETFROM:-0500
TZOFFSETTO:-0600
TZNAME:CST
DTSTART:20231105T070000
END:STANDARD
BEGIN:DAYLIGHT
TZOFFSETFROM:-0600
TZOFFSETTO:-0500
TZNAME:CDT
DTSTART:20240310T080000
END:DAYLIGHT
BEGIN:STANDARD
TZOFFSETFROM:-0500
TZOFFSETTO:-0600
TZNAME:CST
DTSTART:20241103T070000
END:STANDARD
BEGIN:DAYLIGHT
TZOFFSETFROM:-0600
TZOFFSETTO:-0500
TZNAME:CDT
DTSTART:20250309T080000
END:DAYLIGHT
BEGIN:STANDARD
TZOFFSETFROM:-0500
TZOFFSETTO:-0600
TZNAME:CST
DTSTART:20251102T070000
END:STANDARD
END:VTIMEZONE
BEGIN:VEVENT
DTSTART;TZID=America/Chicago:20240407T180000
DTEND;TZID=America/Chicago:20240407T190000
DTSTAMP:20260423T035915
CREATED:20240226T154737Z
LAST-MODIFIED:20240226T154737Z
UID:10000616-1712512800-1712516400@lopbc.org
SUMMARY:Bible Drill
DESCRIPTION:Be amazed by our children’s impressive Bible knowledge and speed of verse recall.  This mock drill is an important event to help our children prepare for bible drill competition.
URL:https://lopbc.org/church_event/bible-drill/
LOCATION:Sanctuary\, 9046 FM729\, Avinger\, TX\, 75630\, United States
CATEGORIES:Bible Drill,Children's Ministry,Youth Ministry
END:VEVENT
BEGIN:VEVENT
DTSTART;TZID=America/Chicago:20240330T100000
DTEND;TZID=America/Chicago:20240330T120000
DTSTAMP:20260423T035915
CREATED:20240221T231534Z
LAST-MODIFIED:20240226T234723Z
UID:10000009-1711792800-1711800000@lopbc.org
SUMMARY:Easter Egg Hunt!
DESCRIPTION:
URL:https://lopbc.org/church_event/eater-egg-hunt/
LOCATION:Hurricane Creek Park\, Jefferson\, TX
CATEGORIES:Children's Ministry,Church-wide,Community,Youth Ministry
ATTACH;FMTTYPE=image/png:https://lopbc.org/wp-content/uploads/2024/02/easterhunt4.png
END:VEVENT
BEGIN:VEVENT
DTSTART;VALUE=DATE:20240322
DTEND;VALUE=DATE:20240330
DTSTAMP:20260423T035915
CREATED:20240226T025703Z
LAST-MODIFIED:20240226T025703Z
UID:10000613-1711065600-1711756799@lopbc.org
SUMMARY:Fill Easter Eggs
DESCRIPTION:
URL:https://lopbc.org/church_event/fill-easter-eggs/
CATEGORIES:Children's Ministry,Youth Ministry
END:VEVENT
BEGIN:VEVENT
DTSTART;TZID=America/Chicago:20240309T120000
DTEND;TZID=America/Chicago:20240309T170000
DTSTAMP:20260423T035915
CREATED:20240225T232333Z
LAST-MODIFIED:20240225T232333Z
UID:10000552-1709985600-1710003600@lopbc.org
SUMMARY:Youth Bowling
DESCRIPTION:
URL:https://lopbc.org/church_event/youth-bowling/
CATEGORIES:Youth Ministry
END:VEVENT
BEGIN:VEVENT
DTSTART;TZID=America/Chicago:20240303T180000
DTEND;TZID=America/Chicago:20240303T190000
DTSTAMP:20260423T035915
CREATED:20240225T225424Z
LAST-MODIFIED:20240225T225424Z
UID:10000430-1709488800-1709492400@lopbc.org
SUMMARY:Mock Bible Drill
DESCRIPTION:Be amazed by our children’s impressive Bible knowledge and speed of verse recall.  This mock drill is an important event to help our children prepare for bible drill competition.
URL:https://lopbc.org/church_event/mock-bible-drill/
LOCATION:Sanctuary\, 9046 FM729\, Avinger\, TX\, 75630\, United States
CATEGORIES:Bible Drill,Children's Ministry,Youth Ministry
END:VEVENT
END:VCALENDAR