BEGIN:VCALENDAR
VERSION:2.0
PRODID:-//Lake O&#039; The Pines Baptist Church - ECPv6.15.20//NONSGML v1.0//EN
CALSCALE:GREGORIAN
METHOD:PUBLISH
X-WR-CALNAME:Lake O&#039; The Pines Baptist Church
X-ORIGINAL-URL:https://lopbc.org
X-WR-CALDESC:Events for Lake O&#039; The Pines Baptist Church
REFRESH-INTERVAL;VALUE=DURATION:PT1H
X-Robots-Tag:noindex
X-PUBLISHED-TTL:PT1H
BEGIN:VTIMEZONE
TZID:America/Chicago
BEGIN:DAYLIGHT
TZOFFSETFROM:-0600
TZOFFSETTO:-0500
TZNAME:CDT
DTSTART:20260308T080000
END:DAYLIGHT
BEGIN:STANDARD
TZOFFSETFROM:-0500
TZOFFSETTO:-0600
TZNAME:CST
DTSTART:20261101T070000
END:STANDARD
BEGIN:DAYLIGHT
TZOFFSETFROM:-0600
TZOFFSETTO:-0500
TZNAME:CDT
DTSTART:20270314T080000
END:DAYLIGHT
BEGIN:STANDARD
TZOFFSETFROM:-0500
TZOFFSETTO:-0600
TZNAME:CST
DTSTART:20271107T070000
END:STANDARD
BEGIN:DAYLIGHT
TZOFFSETFROM:-0600
TZOFFSETTO:-0500
TZNAME:CDT
DTSTART:20280312T080000
END:DAYLIGHT
BEGIN:STANDARD
TZOFFSETFROM:-0500
TZOFFSETTO:-0600
TZNAME:CST
DTSTART:20281105T070000
END:STANDARD
END:VTIMEZONE
BEGIN:VEVENT
DTSTART;TZID=America/Chicago:20270421T183000
DTEND;TZID=America/Chicago:20270421T193000
DTSTAMP:20260423T185343
CREATED:20250130T214249Z
LAST-MODIFIED:20260222T200208Z
UID:10002593-1808332200-1808335800@lopbc.org
SUMMARY:Family Night Worship
DESCRIPTION:
URL:https://lopbc.org/church_event/wednesday-night-worship/2027-04-21/
LOCATION:Sanctuary\, 9046 FM729\, Avinger\, TX\, 75630\, United States
CATEGORIES:Church-wide,Community,Worship
END:VEVENT
BEGIN:VEVENT
DTSTART;TZID=America/Chicago:20270421T180000
DTEND;TZID=America/Chicago:20270421T183000
DTSTAMP:20260423T185343
CREATED:20250130T214435Z
LAST-MODIFIED:20260222T204211Z
UID:10002859-1808330400-1808332200@lopbc.org
SUMMARY:Family Night Meal
DESCRIPTION:
URL:https://lopbc.org/church_event/family-night-meal/2027-04-21/
LOCATION:Fellowship Hall\, 9046 FM729\, Avinger\, TX\, 75630
CATEGORIES:Church-wide,Community
END:VEVENT
BEGIN:VEVENT
DTSTART;TZID=America/Chicago:20270421T080000
DTEND;TZID=America/Chicago:20270421T120000
DTSTAMP:20260423T185343
CREATED:20260222T210620Z
LAST-MODIFIED:20260222T210620Z
UID:10004565-1808294400-1808308800@lopbc.org
SUMMARY:VBS 2026
DESCRIPTION:
URL:https://lopbc.org/church_event/vbs-2026/2027-04-21/
CATEGORIES:Children's Ministry
END:VEVENT
BEGIN:VEVENT
DTSTART;TZID=America/Chicago:20270420T173000
DTEND;TZID=America/Chicago:20270420T203000
DTSTAMP:20260423T185343
CREATED:20260222T201217Z
LAST-MODIFIED:20260222T201217Z
UID:10004116-1808242200-1808253000@lopbc.org
SUMMARY:Praying Hearts and Hands
DESCRIPTION:
URL:https://lopbc.org/church_event/praying-hearts-and-hands-2/2027-04-20/
CATEGORIES:Praying Hearts and Hands
END:VEVENT
BEGIN:VEVENT
DTSTART;TZID=America/Chicago:20270420T080000
DTEND;TZID=America/Chicago:20270420T120000
DTSTAMP:20260423T185343
CREATED:20260222T210620Z
LAST-MODIFIED:20260222T210620Z
UID:10004564-1808208000-1808222400@lopbc.org
SUMMARY:VBS 2026
DESCRIPTION:
URL:https://lopbc.org/church_event/vbs-2026/2027-04-20/
CATEGORIES:Children's Ministry
END:VEVENT
BEGIN:VEVENT
DTSTART;TZID=America/Chicago:20270419T080000
DTEND;TZID=America/Chicago:20270419T120000
DTSTAMP:20260423T185343
CREATED:20260222T210620Z
LAST-MODIFIED:20260222T210620Z
UID:10004563-1808121600-1808136000@lopbc.org
SUMMARY:VBS 2026
DESCRIPTION:
URL:https://lopbc.org/church_event/vbs-2026/2027-04-19/
CATEGORIES:Children's Ministry
END:VEVENT
BEGIN:VEVENT
DTSTART;TZID=America/Chicago:20270418T180000
DTEND;TZID=America/Chicago:20270418T190000
DTSTAMP:20260423T185343
CREATED:20250130T213902Z
LAST-MODIFIED:20260222T210931Z
UID:10002328-1808071200-1808074800@lopbc.org
SUMMARY:Sunday Evening Worship
DESCRIPTION:
URL:https://lopbc.org/church_event/sunday-evening-worship/2027-04-18/
LOCATION:Sanctuary\, 9046 FM729\, Avinger\, TX\, 75630\, United States
CATEGORIES:Church-wide,Community,Worship
END:VEVENT
BEGIN:VEVENT
DTSTART;TZID=America/Chicago:20270418T110000
DTEND;TZID=America/Chicago:20270418T123000
DTSTAMP:20260423T185343
CREATED:20250130T213205Z
LAST-MODIFIED:20250131T161102Z
UID:10001793-1808046000-1808051400@lopbc.org
SUMMARY:Sunday AM Worship
DESCRIPTION:
URL:https://lopbc.org/church_event/sunday-am-worship/2027-04-18/
LOCATION:Sanctuary\, 9046 FM729\, Avinger\, TX\, 75630\, United States
CATEGORIES:Church-wide,Community,Worship
END:VEVENT
BEGIN:VEVENT
DTSTART;TZID=America/Chicago:20270418T093000
DTEND;TZID=America/Chicago:20270418T104500
DTSTAMP:20260423T185343
CREATED:20250130T213312Z
LAST-MODIFIED:20250131T005604Z
UID:10002059-1808040600-1808045100@lopbc.org
SUMMARY:Sunday AM Sunday School
DESCRIPTION:
URL:https://lopbc.org/church_event/sunday-am-sunday-school-2/2027-04-18/
LOCATION:Classrooms\, 9046 FM729\, Avinger\, TX\, 75630\, United States
CATEGORIES:Church-wide,Community,Sunday School
END:VEVENT
BEGIN:VEVENT
DTSTART;TZID=America/Chicago:20270418T080000
DTEND;TZID=America/Chicago:20270418T120000
DTSTAMP:20260423T185343
CREATED:20260222T210620Z
LAST-MODIFIED:20260222T210620Z
UID:10004562-1808035200-1808049600@lopbc.org
SUMMARY:VBS 2026
DESCRIPTION:
URL:https://lopbc.org/church_event/vbs-2026/2027-04-18/
CATEGORIES:Children's Ministry
END:VEVENT
BEGIN:VEVENT
DTSTART;TZID=America/Chicago:20270417T080000
DTEND;TZID=America/Chicago:20270417T120000
DTSTAMP:20260423T185343
CREATED:20260222T210620Z
LAST-MODIFIED:20260222T210620Z
UID:10004561-1807948800-1807963200@lopbc.org
SUMMARY:VBS 2026
DESCRIPTION:
URL:https://lopbc.org/church_event/vbs-2026/2027-04-17/
CATEGORIES:Children's Ministry
END:VEVENT
BEGIN:VEVENT
DTSTART;TZID=America/Chicago:20270417T080000
DTEND;TZID=America/Chicago:20270417T090000
DTSTAMP:20260423T185343
CREATED:20240225T222018Z
LAST-MODIFIED:20250130T231441Z
UID:10000226-1807948800-1807952400@lopbc.org
SUMMARY:Women's Breakfast
DESCRIPTION:
URL:https://lopbc.org/church_event/womenss-breakfast/2027-04-17/
LOCATION:The Lakehouse Cafe\, 8883 FM729\, Avinger\, TX\, 75630
CATEGORIES:Women's Ministry
ATTACH;FMTTYPE=image/png:https://lopbc.org/wp-content/uploads/2024/02/women-bfast.png
END:VEVENT
BEGIN:VEVENT
DTSTART;TZID=America/Chicago:20270417T080000
DTEND;TZID=America/Chicago:20270417T090000
DTSTAMP:20260423T185343
CREATED:20240225T221030Z
LAST-MODIFIED:20250130T231350Z
UID:10000166-1807948800-1807952400@lopbc.org
SUMMARY:Men's Breakfast
DESCRIPTION:Fellowship with men every third Saturday at 8:00AM. Enjoy a manly feast of bacon\, eggs\, sausage\, biscuits and gravy and more!
URL:https://lopbc.org/church_event/mens-breakfast/2027-04-17/
LOCATION:Fellowship Hall\, 9046 FM729\, Avinger\, TX\, 75630
CATEGORIES:Men's Ministry
ATTACH;FMTTYPE=image/jpeg:https://lopbc.org/wp-content/uploads/2024/02/pexels-athena-2961957-scaled.jpg
END:VEVENT
BEGIN:VEVENT
DTSTART;TZID=America/Chicago:20270416T080000
DTEND;TZID=America/Chicago:20270416T120000
DTSTAMP:20260423T185343
CREATED:20260222T210620Z
LAST-MODIFIED:20260222T210620Z
UID:10004560-1807862400-1807876800@lopbc.org
SUMMARY:VBS 2026
DESCRIPTION:
URL:https://lopbc.org/church_event/vbs-2026/2027-04-16/
CATEGORIES:Children's Ministry
END:VEVENT
BEGIN:VEVENT
DTSTART;TZID=America/Chicago:20270415T080000
DTEND;TZID=America/Chicago:20270415T120000
DTSTAMP:20260423T185343
CREATED:20260222T210620Z
LAST-MODIFIED:20260222T210620Z
UID:10004559-1807776000-1807790400@lopbc.org
SUMMARY:VBS 2026
DESCRIPTION:
URL:https://lopbc.org/church_event/vbs-2026/2027-04-15/
CATEGORIES:Children's Ministry
END:VEVENT
BEGIN:VEVENT
DTSTART;TZID=America/Chicago:20270414T183000
DTEND;TZID=America/Chicago:20270414T193000
DTSTAMP:20260423T185343
CREATED:20250130T214249Z
LAST-MODIFIED:20260222T200208Z
UID:10002592-1807727400-1807731000@lopbc.org
SUMMARY:Family Night Worship
DESCRIPTION:
URL:https://lopbc.org/church_event/wednesday-night-worship/2027-04-14/
LOCATION:Sanctuary\, 9046 FM729\, Avinger\, TX\, 75630\, United States
CATEGORIES:Church-wide,Community,Worship
END:VEVENT
BEGIN:VEVENT
DTSTART;TZID=America/Chicago:20270414T180000
DTEND;TZID=America/Chicago:20270414T183000
DTSTAMP:20260423T185343
CREATED:20250130T214435Z
LAST-MODIFIED:20260222T204211Z
UID:10002858-1807725600-1807727400@lopbc.org
SUMMARY:Family Night Meal
DESCRIPTION:
URL:https://lopbc.org/church_event/family-night-meal/2027-04-14/
LOCATION:Fellowship Hall\, 9046 FM729\, Avinger\, TX\, 75630
CATEGORIES:Church-wide,Community
END:VEVENT
BEGIN:VEVENT
DTSTART;TZID=America/Chicago:20270414T080000
DTEND;TZID=America/Chicago:20270414T120000
DTSTAMP:20260423T185343
CREATED:20260222T210620Z
LAST-MODIFIED:20260222T210620Z
UID:10004558-1807689600-1807704000@lopbc.org
SUMMARY:VBS 2026
DESCRIPTION:
URL:https://lopbc.org/church_event/vbs-2026/2027-04-14/
CATEGORIES:Children's Ministry
END:VEVENT
BEGIN:VEVENT
DTSTART;TZID=America/Chicago:20270413T080000
DTEND;TZID=America/Chicago:20270413T120000
DTSTAMP:20260423T185343
CREATED:20260222T210620Z
LAST-MODIFIED:20260222T210620Z
UID:10004557-1807603200-1807617600@lopbc.org
SUMMARY:VBS 2026
DESCRIPTION:
URL:https://lopbc.org/church_event/vbs-2026/2027-04-13/
CATEGORIES:Children's Ministry
END:VEVENT
BEGIN:VEVENT
DTSTART;TZID=America/Chicago:20270412T080000
DTEND;TZID=America/Chicago:20270412T120000
DTSTAMP:20260423T185343
CREATED:20260222T210620Z
LAST-MODIFIED:20260222T210620Z
UID:10004556-1807516800-1807531200@lopbc.org
SUMMARY:VBS 2026
DESCRIPTION:
URL:https://lopbc.org/church_event/vbs-2026/2027-04-12/
CATEGORIES:Children's Ministry
END:VEVENT
BEGIN:VEVENT
DTSTART;TZID=America/Chicago:20270411T180000
DTEND;TZID=America/Chicago:20270411T190000
DTSTAMP:20260423T185343
CREATED:20250130T213902Z
LAST-MODIFIED:20260222T210931Z
UID:10002327-1807466400-1807470000@lopbc.org
SUMMARY:Sunday Evening Worship
DESCRIPTION:
URL:https://lopbc.org/church_event/sunday-evening-worship/2027-04-11/
LOCATION:Sanctuary\, 9046 FM729\, Avinger\, TX\, 75630\, United States
CATEGORIES:Church-wide,Community,Worship
END:VEVENT
BEGIN:VEVENT
DTSTART;TZID=America/Chicago:20270411T110000
DTEND;TZID=America/Chicago:20270411T123000
DTSTAMP:20260423T185343
CREATED:20250130T213205Z
LAST-MODIFIED:20250131T161102Z
UID:10001792-1807441200-1807446600@lopbc.org
SUMMARY:Sunday AM Worship
DESCRIPTION:
URL:https://lopbc.org/church_event/sunday-am-worship/2027-04-11/
LOCATION:Sanctuary\, 9046 FM729\, Avinger\, TX\, 75630\, United States
CATEGORIES:Church-wide,Community,Worship
END:VEVENT
BEGIN:VEVENT
DTSTART;TZID=America/Chicago:20270411T093000
DTEND;TZID=America/Chicago:20270411T104500
DTSTAMP:20260423T185343
CREATED:20250130T213312Z
LAST-MODIFIED:20250131T005604Z
UID:10002058-1807435800-1807440300@lopbc.org
SUMMARY:Sunday AM Sunday School
DESCRIPTION:
URL:https://lopbc.org/church_event/sunday-am-sunday-school-2/2027-04-11/
LOCATION:Classrooms\, 9046 FM729\, Avinger\, TX\, 75630\, United States
CATEGORIES:Church-wide,Community,Sunday School
END:VEVENT
BEGIN:VEVENT
DTSTART;TZID=America/Chicago:20270411T080000
DTEND;TZID=America/Chicago:20270411T120000
DTSTAMP:20260423T185343
CREATED:20260222T210620Z
LAST-MODIFIED:20260222T210620Z
UID:10004555-1807430400-1807444800@lopbc.org
SUMMARY:VBS 2026
DESCRIPTION:
URL:https://lopbc.org/church_event/vbs-2026/2027-04-11/
CATEGORIES:Children's Ministry
END:VEVENT
BEGIN:VEVENT
DTSTART;TZID=America/Chicago:20270410T080000
DTEND;TZID=America/Chicago:20270410T120000
DTSTAMP:20260423T185343
CREATED:20260222T210620Z
LAST-MODIFIED:20260222T210620Z
UID:10004554-1807344000-1807358400@lopbc.org
SUMMARY:VBS 2026
DESCRIPTION:
URL:https://lopbc.org/church_event/vbs-2026/2027-04-10/
CATEGORIES:Children's Ministry
END:VEVENT
BEGIN:VEVENT
DTSTART;TZID=America/Chicago:20270409T080000
DTEND;TZID=America/Chicago:20270409T120000
DTSTAMP:20260423T185343
CREATED:20260222T210620Z
LAST-MODIFIED:20260222T210620Z
UID:10004553-1807257600-1807272000@lopbc.org
SUMMARY:VBS 2026
DESCRIPTION:
URL:https://lopbc.org/church_event/vbs-2026/2027-04-09/
CATEGORIES:Children's Ministry
END:VEVENT
BEGIN:VEVENT
DTSTART;TZID=America/Chicago:20270408T080000
DTEND;TZID=America/Chicago:20270408T120000
DTSTAMP:20260423T185343
CREATED:20260222T210620Z
LAST-MODIFIED:20260222T210620Z
UID:10004552-1807171200-1807185600@lopbc.org
SUMMARY:VBS 2026
DESCRIPTION:
URL:https://lopbc.org/church_event/vbs-2026/2027-04-08/
CATEGORIES:Children's Ministry
END:VEVENT
BEGIN:VEVENT
DTSTART;TZID=America/Chicago:20270407T183000
DTEND;TZID=America/Chicago:20270407T193000
DTSTAMP:20260423T185343
CREATED:20250130T214249Z
LAST-MODIFIED:20260222T200208Z
UID:10002591-1807122600-1807126200@lopbc.org
SUMMARY:Family Night Worship
DESCRIPTION:
URL:https://lopbc.org/church_event/wednesday-night-worship/2027-04-07/
LOCATION:Sanctuary\, 9046 FM729\, Avinger\, TX\, 75630\, United States
CATEGORIES:Church-wide,Community,Worship
END:VEVENT
BEGIN:VEVENT
DTSTART;TZID=America/Chicago:20270407T180000
DTEND;TZID=America/Chicago:20270407T183000
DTSTAMP:20260423T185343
CREATED:20250130T214435Z
LAST-MODIFIED:20260222T204211Z
UID:10002857-1807120800-1807122600@lopbc.org
SUMMARY:Family Night Meal
DESCRIPTION:
URL:https://lopbc.org/church_event/family-night-meal/2027-04-07/
LOCATION:Fellowship Hall\, 9046 FM729\, Avinger\, TX\, 75630
CATEGORIES:Church-wide,Community
END:VEVENT
BEGIN:VEVENT
DTSTART;TZID=America/Chicago:20270407T080000
DTEND;TZID=America/Chicago:20270407T120000
DTSTAMP:20260423T185343
CREATED:20260222T210620Z
LAST-MODIFIED:20260222T210620Z
UID:10004551-1807084800-1807099200@lopbc.org
SUMMARY:VBS 2026
DESCRIPTION:
URL:https://lopbc.org/church_event/vbs-2026/2027-04-07/
CATEGORIES:Children's Ministry
END:VEVENT
END:VCALENDAR