BEGIN:VCALENDAR
VERSION:2.0
PRODID:-//Lake O&#039; The Pines Baptist Church - ECPv6.15.20//NONSGML v1.0//EN
CALSCALE:GREGORIAN
METHOD:PUBLISH
X-WR-CALNAME:Lake O&#039; The Pines Baptist Church
X-ORIGINAL-URL:https://lopbc.org
X-WR-CALDESC:Events for Lake O&#039; The Pines Baptist Church
REFRESH-INTERVAL;VALUE=DURATION:PT1H
X-Robots-Tag:noindex
X-PUBLISHED-TTL:PT1H
BEGIN:VTIMEZONE
TZID:America/Chicago
BEGIN:DAYLIGHT
TZOFFSETFROM:-0600
TZOFFSETTO:-0500
TZNAME:CDT
DTSTART:20240310T080000
END:DAYLIGHT
BEGIN:STANDARD
TZOFFSETFROM:-0500
TZOFFSETTO:-0600
TZNAME:CST
DTSTART:20241103T070000
END:STANDARD
BEGIN:DAYLIGHT
TZOFFSETFROM:-0600
TZOFFSETTO:-0500
TZNAME:CDT
DTSTART:20250309T080000
END:DAYLIGHT
BEGIN:STANDARD
TZOFFSETFROM:-0500
TZOFFSETTO:-0600
TZNAME:CST
DTSTART:20251102T070000
END:STANDARD
BEGIN:DAYLIGHT
TZOFFSETFROM:-0600
TZOFFSETTO:-0500
TZNAME:CDT
DTSTART:20260308T080000
END:DAYLIGHT
BEGIN:STANDARD
TZOFFSETFROM:-0500
TZOFFSETTO:-0600
TZNAME:CST
DTSTART:20261101T070000
END:STANDARD
END:VTIMEZONE
BEGIN:VEVENT
DTSTART;TZID=America/Chicago:20250910T180000
DTEND;TZID=America/Chicago:20250910T183000
DTSTAMP:20260423T052600
CREATED:20250130T214435Z
LAST-MODIFIED:20260222T204211Z
UID:10002775-1757527200-1757529000@lopbc.org
SUMMARY:Family Night Meal
DESCRIPTION:
URL:https://lopbc.org/church_event/family-night-meal/2025-09-10/
LOCATION:Fellowship Hall\, 9046 FM729\, Avinger\, TX\, 75630
CATEGORIES:Church-wide,Community
END:VEVENT
BEGIN:VEVENT
DTSTART;TZID=America/Chicago:20250910T183000
DTEND;TZID=America/Chicago:20250910T193000
DTSTAMP:20260423T052600
CREATED:20250130T214249Z
LAST-MODIFIED:20260222T200208Z
UID:10002509-1757529000-1757532600@lopbc.org
SUMMARY:Family Night Worship
DESCRIPTION:
URL:https://lopbc.org/church_event/wednesday-night-worship/2025-09-10/
LOCATION:Sanctuary\, 9046 FM729\, Avinger\, TX\, 75630\, United States
CATEGORIES:Church-wide,Community,Worship
END:VEVENT
BEGIN:VEVENT
DTSTART;TZID=America/Chicago:20250914T093000
DTEND;TZID=America/Chicago:20250914T104500
DTSTAMP:20260423T052600
CREATED:20250130T213312Z
LAST-MODIFIED:20250131T005604Z
UID:10001976-1757842200-1757846700@lopbc.org
SUMMARY:Sunday AM Sunday School
DESCRIPTION:
URL:https://lopbc.org/church_event/sunday-am-sunday-school-2/2025-09-14/
LOCATION:Classrooms\, 9046 FM729\, Avinger\, TX\, 75630\, United States
CATEGORIES:Church-wide,Community,Sunday School
END:VEVENT
BEGIN:VEVENT
DTSTART;TZID=America/Chicago:20250914T110000
DTEND;TZID=America/Chicago:20250914T123000
DTSTAMP:20260423T052600
CREATED:20250130T213205Z
LAST-MODIFIED:20250131T161102Z
UID:10001710-1757847600-1757853000@lopbc.org
SUMMARY:Sunday AM Worship
DESCRIPTION:
URL:https://lopbc.org/church_event/sunday-am-worship/2025-09-14/
LOCATION:Sanctuary\, 9046 FM729\, Avinger\, TX\, 75630\, United States
CATEGORIES:Church-wide,Community,Worship
END:VEVENT
BEGIN:VEVENT
DTSTART;TZID=America/Chicago:20250914T123000
DTEND;TZID=America/Chicago:20250914T140000
DTSTAMP:20260423T052600
CREATED:20250131T162210Z
LAST-MODIFIED:20250131T162210Z
UID:10003789-1757853000-1757858400@lopbc.org
SUMMARY:Bible Drill Practice
DESCRIPTION:
URL:https://lopbc.org/church_event/bible-drill-practice-2/2025-09-14/
END:VEVENT
BEGIN:VEVENT
DTSTART;TZID=America/Chicago:20250914T180000
DTEND;TZID=America/Chicago:20250914T190000
DTSTAMP:20260423T052600
CREATED:20250130T213902Z
LAST-MODIFIED:20260222T210931Z
UID:10002245-1757872800-1757876400@lopbc.org
SUMMARY:Sunday Evening Worship
DESCRIPTION:
URL:https://lopbc.org/church_event/sunday-evening-worship/2025-09-14/
LOCATION:Sanctuary\, 9046 FM729\, Avinger\, TX\, 75630\, United States
CATEGORIES:Church-wide,Community,Worship
END:VEVENT
BEGIN:VEVENT
DTSTART;TZID=America/Chicago:20250915T180000
DTEND;TZID=America/Chicago:20250915T190000
DTSTAMP:20260423T052600
CREATED:20250130T222510Z
LAST-MODIFIED:20250130T224652Z
UID:10003052-1757959200-1757962800@lopbc.org
SUMMARY:Women of Worship (WoW) Bible Study
DESCRIPTION:
URL:https://lopbc.org/church_event/women-of-worship-wow-bible-study/2025-09-15/
LOCATION:Fellowship Hall\, 9046 FM729\, Avinger\, TX\, 75630
CATEGORIES:Community,Women's Ministry
END:VEVENT
BEGIN:VEVENT
DTSTART;TZID=America/Chicago:20250917T180000
DTEND;TZID=America/Chicago:20250917T183000
DTSTAMP:20260423T052600
CREATED:20250130T214435Z
LAST-MODIFIED:20260222T204211Z
UID:10002776-1758132000-1758133800@lopbc.org
SUMMARY:Family Night Meal
DESCRIPTION:
URL:https://lopbc.org/church_event/family-night-meal/2025-09-17/
LOCATION:Fellowship Hall\, 9046 FM729\, Avinger\, TX\, 75630
CATEGORIES:Church-wide,Community
END:VEVENT
BEGIN:VEVENT
DTSTART;TZID=America/Chicago:20250917T183000
DTEND;TZID=America/Chicago:20250917T193000
DTSTAMP:20260423T052600
CREATED:20250130T214249Z
LAST-MODIFIED:20260222T200208Z
UID:10002510-1758133800-1758137400@lopbc.org
SUMMARY:Family Night Worship
DESCRIPTION:
URL:https://lopbc.org/church_event/wednesday-night-worship/2025-09-17/
LOCATION:Sanctuary\, 9046 FM729\, Avinger\, TX\, 75630\, United States
CATEGORIES:Church-wide,Community,Worship
END:VEVENT
BEGIN:VEVENT
DTSTART;TZID=America/Chicago:20250920T080000
DTEND;TZID=America/Chicago:20250920T090000
DTSTAMP:20260423T052600
CREATED:20240225T221030Z
LAST-MODIFIED:20250130T231350Z
UID:10000147-1758355200-1758358800@lopbc.org
SUMMARY:Men's Breakfast
DESCRIPTION:Fellowship with men every third Saturday at 8:00AM. Enjoy a manly feast of bacon\, eggs\, sausage\, biscuits and gravy and more!
URL:https://lopbc.org/church_event/mens-breakfast/2025-09-20/
LOCATION:Fellowship Hall\, 9046 FM729\, Avinger\, TX\, 75630
CATEGORIES:Men's Ministry
ATTACH;FMTTYPE=image/jpeg:https://lopbc.org/wp-content/uploads/2024/02/pexels-athena-2961957-scaled.jpg
END:VEVENT
BEGIN:VEVENT
DTSTART;TZID=America/Chicago:20250920T080000
DTEND;TZID=America/Chicago:20250920T090000
DTSTAMP:20260423T052600
CREATED:20240225T222018Z
LAST-MODIFIED:20250130T231441Z
UID:10000207-1758355200-1758358800@lopbc.org
SUMMARY:Women's Breakfast
DESCRIPTION:
URL:https://lopbc.org/church_event/womenss-breakfast/2025-09-20/
LOCATION:The Lakehouse Cafe\, 8883 FM729\, Avinger\, TX\, 75630
CATEGORIES:Women's Ministry
ATTACH;FMTTYPE=image/png:https://lopbc.org/wp-content/uploads/2024/02/women-bfast.png
END:VEVENT
BEGIN:VEVENT
DTSTART;TZID=America/Chicago:20250920T090000
DTEND;TZID=America/Chicago:20250920T120000
DTSTAMP:20260423T052600
CREATED:20250131T163650Z
LAST-MODIFIED:20250131T163650Z
UID:10003804-1758358800-1758369600@lopbc.org
SUMMARY:Men's Outing "The Huff Clay Shoot"
DESCRIPTION:
URL:https://lopbc.org/church_event/mens-outing-the-huff-clay-shoot/
LOCATION:Joe Huff’s Home\, 409 Dallas Loop\, Avinger\, TX\, 75630\, United States
CATEGORIES:Church-wide,Men's Ministry
END:VEVENT
BEGIN:VEVENT
DTSTART;TZID=America/Chicago:20250921T093000
DTEND;TZID=America/Chicago:20250921T104500
DTSTAMP:20260423T052600
CREATED:20250130T213312Z
LAST-MODIFIED:20250131T005604Z
UID:10001977-1758447000-1758451500@lopbc.org
SUMMARY:Sunday AM Sunday School
DESCRIPTION:
URL:https://lopbc.org/church_event/sunday-am-sunday-school-2/2025-09-21/
LOCATION:Classrooms\, 9046 FM729\, Avinger\, TX\, 75630\, United States
CATEGORIES:Church-wide,Community,Sunday School
END:VEVENT
BEGIN:VEVENT
DTSTART;TZID=America/Chicago:20250921T110000
DTEND;TZID=America/Chicago:20250921T123000
DTSTAMP:20260423T052600
CREATED:20250130T213205Z
LAST-MODIFIED:20250131T161102Z
UID:10001711-1758452400-1758457800@lopbc.org
SUMMARY:Sunday AM Worship
DESCRIPTION:
URL:https://lopbc.org/church_event/sunday-am-worship/2025-09-21/
LOCATION:Sanctuary\, 9046 FM729\, Avinger\, TX\, 75630\, United States
CATEGORIES:Church-wide,Community,Worship
END:VEVENT
BEGIN:VEVENT
DTSTART;TZID=America/Chicago:20250921T120000
DTEND;TZID=America/Chicago:20250921T123000
DTSTAMP:20260423T052600
CREATED:20250131T000436Z
LAST-MODIFIED:20250131T000436Z
UID:10003334-1758456000-1758457800@lopbc.org
SUMMARY:Lord's Supper
DESCRIPTION:
URL:https://lopbc.org/church_event/lords-supper-4/2025-09-21/
CATEGORIES:Church-wide,Community
END:VEVENT
BEGIN:VEVENT
DTSTART;TZID=America/Chicago:20250921T123000
DTEND;TZID=America/Chicago:20250921T140000
DTSTAMP:20260423T052600
CREATED:20250131T162210Z
LAST-MODIFIED:20250131T162210Z
UID:10003790-1758457800-1758463200@lopbc.org
SUMMARY:Bible Drill Practice
DESCRIPTION:
URL:https://lopbc.org/church_event/bible-drill-practice-2/2025-09-21/
END:VEVENT
BEGIN:VEVENT
DTSTART;TZID=America/Chicago:20250921T180000
DTEND;TZID=America/Chicago:20250921T190000
DTSTAMP:20260423T052600
CREATED:20250130T213902Z
LAST-MODIFIED:20260222T210931Z
UID:10002246-1758477600-1758481200@lopbc.org
SUMMARY:Sunday Evening Worship
DESCRIPTION:
URL:https://lopbc.org/church_event/sunday-evening-worship/2025-09-21/
LOCATION:Sanctuary\, 9046 FM729\, Avinger\, TX\, 75630\, United States
CATEGORIES:Church-wide,Community,Worship
END:VEVENT
BEGIN:VEVENT
DTSTART;TZID=America/Chicago:20250922T180000
DTEND;TZID=America/Chicago:20250922T190000
DTSTAMP:20260423T052600
CREATED:20250130T222510Z
LAST-MODIFIED:20250130T224652Z
UID:10003053-1758564000-1758567600@lopbc.org
SUMMARY:Women of Worship (WoW) Bible Study
DESCRIPTION:
URL:https://lopbc.org/church_event/women-of-worship-wow-bible-study/2025-09-22/
LOCATION:Fellowship Hall\, 9046 FM729\, Avinger\, TX\, 75630
CATEGORIES:Community,Women's Ministry
END:VEVENT
BEGIN:VEVENT
DTSTART;TZID=America/Chicago:20250924T180000
DTEND;TZID=America/Chicago:20250924T183000
DTSTAMP:20260423T052600
CREATED:20250130T214435Z
LAST-MODIFIED:20260222T204211Z
UID:10002777-1758736800-1758738600@lopbc.org
SUMMARY:Family Night Meal
DESCRIPTION:
URL:https://lopbc.org/church_event/family-night-meal/2025-09-24/
LOCATION:Fellowship Hall\, 9046 FM729\, Avinger\, TX\, 75630
CATEGORIES:Church-wide,Community
END:VEVENT
BEGIN:VEVENT
DTSTART;TZID=America/Chicago:20250924T183000
DTEND;TZID=America/Chicago:20250924T193000
DTSTAMP:20260423T052600
CREATED:20250130T214249Z
LAST-MODIFIED:20260222T200208Z
UID:10002511-1758738600-1758742200@lopbc.org
SUMMARY:Family Night Worship
DESCRIPTION:
URL:https://lopbc.org/church_event/wednesday-night-worship/2025-09-24/
LOCATION:Sanctuary\, 9046 FM729\, Avinger\, TX\, 75630\, United States
CATEGORIES:Church-wide,Community,Worship
END:VEVENT
BEGIN:VEVENT
DTSTART;TZID=America/Chicago:20250928T093000
DTEND;TZID=America/Chicago:20250928T104500
DTSTAMP:20260423T052600
CREATED:20250130T213312Z
LAST-MODIFIED:20250131T005604Z
UID:10001978-1759051800-1759056300@lopbc.org
SUMMARY:Sunday AM Sunday School
DESCRIPTION:
URL:https://lopbc.org/church_event/sunday-am-sunday-school-2/2025-09-28/
LOCATION:Classrooms\, 9046 FM729\, Avinger\, TX\, 75630\, United States
CATEGORIES:Church-wide,Community,Sunday School
END:VEVENT
BEGIN:VEVENT
DTSTART;TZID=America/Chicago:20250928T110000
DTEND;TZID=America/Chicago:20250928T123000
DTSTAMP:20260423T052600
CREATED:20250130T213205Z
LAST-MODIFIED:20250131T161102Z
UID:10001712-1759057200-1759062600@lopbc.org
SUMMARY:Sunday AM Worship
DESCRIPTION:
URL:https://lopbc.org/church_event/sunday-am-worship/2025-09-28/
LOCATION:Sanctuary\, 9046 FM729\, Avinger\, TX\, 75630\, United States
CATEGORIES:Church-wide,Community,Worship
END:VEVENT
BEGIN:VEVENT
DTSTART;TZID=America/Chicago:20250928T123000
DTEND;TZID=America/Chicago:20250928T140000
DTSTAMP:20260423T052600
CREATED:20250131T162210Z
LAST-MODIFIED:20250131T162210Z
UID:10003791-1759062600-1759068000@lopbc.org
SUMMARY:Bible Drill Practice
DESCRIPTION:
URL:https://lopbc.org/church_event/bible-drill-practice-2/2025-09-28/
END:VEVENT
BEGIN:VEVENT
DTSTART;TZID=America/Chicago:20250928T180000
DTEND;TZID=America/Chicago:20250928T190000
DTSTAMP:20260423T052600
CREATED:20250130T213902Z
LAST-MODIFIED:20260222T210931Z
UID:10002247-1759082400-1759086000@lopbc.org
SUMMARY:Sunday Evening Worship
DESCRIPTION:
URL:https://lopbc.org/church_event/sunday-evening-worship/2025-09-28/
LOCATION:Sanctuary\, 9046 FM729\, Avinger\, TX\, 75630\, United States
CATEGORIES:Church-wide,Community,Worship
END:VEVENT
BEGIN:VEVENT
DTSTART;TZID=America/Chicago:20250929T180000
DTEND;TZID=America/Chicago:20250929T190000
DTSTAMP:20260423T052600
CREATED:20250130T222510Z
LAST-MODIFIED:20250130T224652Z
UID:10003054-1759168800-1759172400@lopbc.org
SUMMARY:Women of Worship (WoW) Bible Study
DESCRIPTION:
URL:https://lopbc.org/church_event/women-of-worship-wow-bible-study/2025-09-29/
LOCATION:Fellowship Hall\, 9046 FM729\, Avinger\, TX\, 75630
CATEGORIES:Community,Women's Ministry
END:VEVENT
BEGIN:VEVENT
DTSTART;TZID=America/Chicago:20251001T180000
DTEND;TZID=America/Chicago:20251001T183000
DTSTAMP:20260423T052600
CREATED:20250130T214435Z
LAST-MODIFIED:20260222T204211Z
UID:10002778-1759341600-1759343400@lopbc.org
SUMMARY:Family Night Meal
DESCRIPTION:
URL:https://lopbc.org/church_event/family-night-meal/2025-10-01/
LOCATION:Fellowship Hall\, 9046 FM729\, Avinger\, TX\, 75630
CATEGORIES:Church-wide,Community
END:VEVENT
BEGIN:VEVENT
DTSTART;TZID=America/Chicago:20251001T183000
DTEND;TZID=America/Chicago:20251001T193000
DTSTAMP:20260423T052600
CREATED:20250130T214249Z
LAST-MODIFIED:20260222T200208Z
UID:10002512-1759343400-1759347000@lopbc.org
SUMMARY:Family Night Worship
DESCRIPTION:
URL:https://lopbc.org/church_event/wednesday-night-worship/2025-10-01/
LOCATION:Sanctuary\, 9046 FM729\, Avinger\, TX\, 75630\, United States
CATEGORIES:Church-wide,Community,Worship
END:VEVENT
BEGIN:VEVENT
DTSTART;TZID=America/Chicago:20251003T183000
DTEND;TZID=America/Chicago:20251003T210000
DTSTAMP:20260423T052600
CREATED:20250820T094726Z
LAST-MODIFIED:20250820T094726Z
UID:10003884-1759516200-1759525200@lopbc.org
SUMMARY:Love & Respect Marriage Seminar
DESCRIPTION:The Love & Respect Marriage Seminar \n@ Lake of the Pines Baptist Church \n$20.00/Couple \nFriday\, October 3 \n6:30pm – 9:00pm \n& \nSaturday\, October\, 4 \n9:30am – 4:30pm \nChildcare will be provided with Pre-registration by Wednesday Sept. 24 \nalong w/dinner @ 5:30 PM Friday Night  \n& Lunch provided on Saturday \nCourse workbook included with registration \n  \n“My husband and I were on the verge of divorce until we attended the Love and Respect Marriage Seminar at our church.  This opened our eyes so much.  Our marriage took a complete turnaround!  When we thought there was no hope in marriage\, we found hope and strength!” \n  \nRegister online @ lopbcchurch@aol.com or  \ncall the church for more information 903-755-2793
URL:https://lopbc.org/church_event/love-respect-marriage-seminar/2025-10-03/
LOCATION:Fellowship Hall\, 9046 FM729\, Avinger\, TX\, 75630
CATEGORIES:Church-wide,Community
ATTACH;FMTTYPE=image/png:https://lopbc.org/wp-content/uploads/2025/08/love-and-respect.png
END:VEVENT
BEGIN:VEVENT
DTSTART;TZID=America/Chicago:20251004T093000
DTEND;TZID=America/Chicago:20251004T163000
DTSTAMP:20260423T052600
CREATED:20250820T094726Z
LAST-MODIFIED:20250820T094726Z
UID:10003885-1759570200-1759595400@lopbc.org
SUMMARY:Love & Respect Marriage Seminar
DESCRIPTION:The Love & Respect Marriage Seminar \n@ Lake of the Pines Baptist Church \n$20.00/Couple \nFriday\, October 3 \n6:30pm – 9:00pm \n& \nSaturday\, October\, 4 \n9:30am – 4:30pm \nChildcare will be provided with Pre-registration by Wednesday Sept. 24 \nalong w/dinner @ 5:30 PM Friday Night  \n& Lunch provided on Saturday \nCourse workbook included with registration \n  \n“My husband and I were on the verge of divorce until we attended the Love and Respect Marriage Seminar at our church.  This opened our eyes so much.  Our marriage took a complete turnaround!  When we thought there was no hope in marriage\, we found hope and strength!” \n  \nRegister online @ lopbcchurch@aol.com or  \ncall the church for more information 903-755-2793
URL:https://lopbc.org/church_event/love-respect-marriage-seminar/2025-10-04/
LOCATION:Fellowship Hall\, 9046 FM729\, Avinger\, TX\, 75630
CATEGORIES:Church-wide,Community
ATTACH;FMTTYPE=image/png:https://lopbc.org/wp-content/uploads/2025/08/love-and-respect.png
END:VEVENT
BEGIN:VEVENT
DTSTART;TZID=America/Chicago:20251005T080000
DTEND;TZID=America/Chicago:20251005T170000
DTSTAMP:20260423T052600
CREATED:20240225T224843Z
LAST-MODIFIED:20240226T024820Z
UID:10000389-1759651200-1759683600@lopbc.org
SUMMARY:Bean Day!
DESCRIPTION:It’s Benevolence Day! Bring your spare change to donate to support our benevolence fund.
URL:https://lopbc.org/church_event/bean-day/2025-10-05/
LOCATION:Sanctuary\, 9046 FM729\, Avinger\, TX\, 75630\, United States
CATEGORIES:Benevolence
ATTACH;FMTTYPE=image/png:https://lopbc.org/wp-content/uploads/2024/02/bean-day.png
END:VEVENT
END:VCALENDAR