BEGIN:VCALENDAR
VERSION:2.0
PRODID:-//Lake O&#039; The Pines Baptist Church - ECPv6.15.20//NONSGML v1.0//EN
CALSCALE:GREGORIAN
METHOD:PUBLISH
X-WR-CALNAME:Lake O&#039; The Pines Baptist Church
X-ORIGINAL-URL:https://lopbc.org
X-WR-CALDESC:Events for Lake O&#039; The Pines Baptist Church
REFRESH-INTERVAL;VALUE=DURATION:PT1H
X-Robots-Tag:noindex
X-PUBLISHED-TTL:PT1H
BEGIN:VTIMEZONE
TZID:America/Chicago
BEGIN:DAYLIGHT
TZOFFSETFROM:-0600
TZOFFSETTO:-0500
TZNAME:CDT
DTSTART:20250309T080000
END:DAYLIGHT
BEGIN:STANDARD
TZOFFSETFROM:-0500
TZOFFSETTO:-0600
TZNAME:CST
DTSTART:20251102T070000
END:STANDARD
BEGIN:DAYLIGHT
TZOFFSETFROM:-0600
TZOFFSETTO:-0500
TZNAME:CDT
DTSTART:20260308T080000
END:DAYLIGHT
BEGIN:STANDARD
TZOFFSETFROM:-0500
TZOFFSETTO:-0600
TZNAME:CST
DTSTART:20261101T070000
END:STANDARD
BEGIN:DAYLIGHT
TZOFFSETFROM:-0600
TZOFFSETTO:-0500
TZNAME:CDT
DTSTART:20270314T080000
END:DAYLIGHT
BEGIN:STANDARD
TZOFFSETFROM:-0500
TZOFFSETTO:-0600
TZNAME:CST
DTSTART:20271107T070000
END:STANDARD
END:VTIMEZONE
BEGIN:VEVENT
DTSTART;VALUE=DATE:20260510
DTEND;VALUE=DATE:20260511
DTSTAMP:20260423T002306
CREATED:20260222T210107Z
LAST-MODIFIED:20260222T210107Z
UID:10004249-1778371200-1778457599@lopbc.org
SUMMARY:Mother's Day
DESCRIPTION:
URL:https://lopbc.org/church_event/mothers-day-3/
CATEGORIES:Church-wide,Community
END:VEVENT
BEGIN:VEVENT
DTSTART;TZID=America/Chicago:20260510T093000
DTEND;TZID=America/Chicago:20260510T104500
DTSTAMP:20260423T002306
CREATED:20250130T213312Z
LAST-MODIFIED:20250131T005604Z
UID:10002010-1778405400-1778409900@lopbc.org
SUMMARY:Sunday AM Sunday School
DESCRIPTION:
URL:https://lopbc.org/church_event/sunday-am-sunday-school-2/2026-05-10/
LOCATION:Classrooms\, 9046 FM729\, Avinger\, TX\, 75630\, United States
CATEGORIES:Church-wide,Community,Sunday School
END:VEVENT
BEGIN:VEVENT
DTSTART;TZID=America/Chicago:20260510T110000
DTEND;TZID=America/Chicago:20260510T123000
DTSTAMP:20260423T002306
CREATED:20250130T213205Z
LAST-MODIFIED:20250131T161102Z
UID:10001744-1778410800-1778416200@lopbc.org
SUMMARY:Sunday AM Worship
DESCRIPTION:
URL:https://lopbc.org/church_event/sunday-am-worship/2026-05-10/
LOCATION:Sanctuary\, 9046 FM729\, Avinger\, TX\, 75630\, United States
CATEGORIES:Church-wide,Community,Worship
END:VEVENT
BEGIN:VEVENT
DTSTART;TZID=America/Chicago:20260510T120000
DTEND;TZID=America/Chicago:20260510T130000
DTSTAMP:20260423T002306
CREATED:20260222T210030Z
LAST-MODIFIED:20260222T212902Z
UID:10004248-1778414400-1778418000@lopbc.org
SUMMARY:Church-wide Lunch
DESCRIPTION:
URL:https://lopbc.org/church_event/church-wide-lunch/2026-05-10/
LOCATION:Fellowship Hall\, 9046 FM729\, Avinger\, TX\, 75630
CATEGORIES:Church-wide,Community
END:VEVENT
BEGIN:VEVENT
DTSTART;TZID=America/Chicago:20260510T180000
DTEND;TZID=America/Chicago:20260510T190000
DTSTAMP:20260423T002306
CREATED:20250130T213902Z
LAST-MODIFIED:20260222T210931Z
UID:10002279-1778436000-1778439600@lopbc.org
SUMMARY:Sunday Evening Worship
DESCRIPTION:
URL:https://lopbc.org/church_event/sunday-evening-worship/2026-05-10/
LOCATION:Sanctuary\, 9046 FM729\, Avinger\, TX\, 75630\, United States
CATEGORIES:Church-wide,Community,Worship
END:VEVENT
BEGIN:VEVENT
DTSTART;TZID=America/Chicago:20260511T180000
DTEND;TZID=America/Chicago:20260511T200000
DTSTAMP:20260423T002306
CREATED:20260222T193712Z
LAST-MODIFIED:20260222T193953Z
UID:10003913-1778522400-1778529600@lopbc.org
SUMMARY:WoW Women of Worship Meeting
DESCRIPTION:Women of Worship (WOW) is the Lake O’ The Pines Baptist Church Women’s Ministry. We meet the second Monday of each month 6:00 – 8:00 PM. We have wonderful praise and worship music\, a short program and of course we enjoy sharing favorite dishes or snacks. Childcare is provided up to 12 years old. We would love for you to join us!
URL:https://lopbc.org/church_event/wow-women-of-worship-meeting-2/2026-05-11/
LOCATION:Fellowship Hall\, 9046 FM729\, Avinger\, TX\, 75630
ATTACH;FMTTYPE=image/png:https://lopbc.org/wp-content/uploads/2025/08/wow-2025-1200x800-1.png
END:VEVENT
BEGIN:VEVENT
DTSTART;TZID=America/Chicago:20260513T180000
DTEND;TZID=America/Chicago:20260513T183000
DTSTAMP:20260423T002306
CREATED:20250130T214435Z
LAST-MODIFIED:20260222T204211Z
UID:10002810-1778695200-1778697000@lopbc.org
SUMMARY:Family Night Meal
DESCRIPTION:
URL:https://lopbc.org/church_event/family-night-meal/2026-05-13/
LOCATION:Fellowship Hall\, 9046 FM729\, Avinger\, TX\, 75630
CATEGORIES:Church-wide,Community
END:VEVENT
BEGIN:VEVENT
DTSTART;TZID=America/Chicago:20260513T183000
DTEND;TZID=America/Chicago:20260513T193000
DTSTAMP:20260423T002306
CREATED:20250130T214249Z
LAST-MODIFIED:20260222T200208Z
UID:10002544-1778697000-1778700600@lopbc.org
SUMMARY:Family Night Worship
DESCRIPTION:
URL:https://lopbc.org/church_event/wednesday-night-worship/2026-05-13/
LOCATION:Sanctuary\, 9046 FM729\, Avinger\, TX\, 75630\, United States
CATEGORIES:Church-wide,Community,Worship
END:VEVENT
BEGIN:VEVENT
DTSTART;TZID=America/Chicago:20260516T080000
DTEND;TZID=America/Chicago:20260516T090000
DTSTAMP:20260423T002306
CREATED:20240225T221030Z
LAST-MODIFIED:20250130T231350Z
UID:10000155-1778918400-1778922000@lopbc.org
SUMMARY:Men's Breakfast
DESCRIPTION:Fellowship with men every third Saturday at 8:00AM. Enjoy a manly feast of bacon\, eggs\, sausage\, biscuits and gravy and more!
URL:https://lopbc.org/church_event/mens-breakfast/2026-05-16/
LOCATION:Fellowship Hall\, 9046 FM729\, Avinger\, TX\, 75630
CATEGORIES:Men's Ministry
ATTACH;FMTTYPE=image/jpeg:https://lopbc.org/wp-content/uploads/2024/02/pexels-athena-2961957-scaled.jpg
END:VEVENT
BEGIN:VEVENT
DTSTART;TZID=America/Chicago:20260516T080000
DTEND;TZID=America/Chicago:20260516T090000
DTSTAMP:20260423T002306
CREATED:20240225T222018Z
LAST-MODIFIED:20250130T231441Z
UID:10000215-1778918400-1778922000@lopbc.org
SUMMARY:Women's Breakfast
DESCRIPTION:
URL:https://lopbc.org/church_event/womenss-breakfast/2026-05-16/
LOCATION:The Lakehouse Cafe\, 8883 FM729\, Avinger\, TX\, 75630
CATEGORIES:Women's Ministry
ATTACH;FMTTYPE=image/png:https://lopbc.org/wp-content/uploads/2024/02/women-bfast.png
END:VEVENT
BEGIN:VEVENT
DTSTART;TZID=America/Chicago:20260517T093000
DTEND;TZID=America/Chicago:20260517T104500
DTSTAMP:20260423T002306
CREATED:20250130T213312Z
LAST-MODIFIED:20250131T005604Z
UID:10002011-1779010200-1779014700@lopbc.org
SUMMARY:Sunday AM Sunday School
DESCRIPTION:
URL:https://lopbc.org/church_event/sunday-am-sunday-school-2/2026-05-17/
LOCATION:Classrooms\, 9046 FM729\, Avinger\, TX\, 75630\, United States
CATEGORIES:Church-wide,Community,Sunday School
END:VEVENT
BEGIN:VEVENT
DTSTART;TZID=America/Chicago:20260517T110000
DTEND;TZID=America/Chicago:20260517T123000
DTSTAMP:20260423T002306
CREATED:20250130T213205Z
LAST-MODIFIED:20250131T161102Z
UID:10001745-1779015600-1779021000@lopbc.org
SUMMARY:Sunday AM Worship
DESCRIPTION:
URL:https://lopbc.org/church_event/sunday-am-worship/2026-05-17/
LOCATION:Sanctuary\, 9046 FM729\, Avinger\, TX\, 75630\, United States
CATEGORIES:Church-wide,Community,Worship
END:VEVENT
BEGIN:VEVENT
DTSTART;TZID=America/Chicago:20260517T160000
DTEND;TZID=America/Chicago:20260517T170000
DTSTAMP:20260423T002306
CREATED:20260222T191405Z
LAST-MODIFIED:20260222T191701Z
UID:10003895-1779033600-1779037200@lopbc.org
SUMMARY:Team War Room Council
DESCRIPTION:
URL:https://lopbc.org/church_event/team-war-room-council-2/2026-05-17/
LOCATION:Sanctuary\, 9046 FM729\, Avinger\, TX\, 75630\, United States
CATEGORIES:Committees
END:VEVENT
BEGIN:VEVENT
DTSTART;TZID=America/Chicago:20260517T180000
DTEND;TZID=America/Chicago:20260517T190000
DTSTAMP:20260423T002306
CREATED:20250130T213902Z
LAST-MODIFIED:20260222T210931Z
UID:10002280-1779040800-1779044400@lopbc.org
SUMMARY:Sunday Evening Worship
DESCRIPTION:
URL:https://lopbc.org/church_event/sunday-evening-worship/2026-05-17/
LOCATION:Sanctuary\, 9046 FM729\, Avinger\, TX\, 75630\, United States
CATEGORIES:Church-wide,Community,Worship
END:VEVENT
BEGIN:VEVENT
DTSTART;TZID=America/Chicago:20260519T173000
DTEND;TZID=America/Chicago:20260519T203000
DTSTAMP:20260423T002306
CREATED:20260222T201217Z
LAST-MODIFIED:20260222T201217Z
UID:10004105-1779211800-1779222600@lopbc.org
SUMMARY:Praying Hearts and Hands
DESCRIPTION:
URL:https://lopbc.org/church_event/praying-hearts-and-hands-2/2026-05-19/
CATEGORIES:Praying Hearts and Hands
END:VEVENT
BEGIN:VEVENT
DTSTART;TZID=America/Chicago:20260520T180000
DTEND;TZID=America/Chicago:20260520T183000
DTSTAMP:20260423T002306
CREATED:20250130T214435Z
LAST-MODIFIED:20260222T204211Z
UID:10002811-1779300000-1779301800@lopbc.org
SUMMARY:Family Night Meal
DESCRIPTION:
URL:https://lopbc.org/church_event/family-night-meal/2026-05-20/
LOCATION:Fellowship Hall\, 9046 FM729\, Avinger\, TX\, 75630
CATEGORIES:Church-wide,Community
END:VEVENT
BEGIN:VEVENT
DTSTART;TZID=America/Chicago:20260520T183000
DTEND;TZID=America/Chicago:20260520T193000
DTSTAMP:20260423T002306
CREATED:20250130T214249Z
LAST-MODIFIED:20260222T200208Z
UID:10002545-1779301800-1779305400@lopbc.org
SUMMARY:Family Night Worship
DESCRIPTION:
URL:https://lopbc.org/church_event/wednesday-night-worship/2026-05-20/
LOCATION:Sanctuary\, 9046 FM729\, Avinger\, TX\, 75630\, United States
CATEGORIES:Church-wide,Community,Worship
END:VEVENT
BEGIN:VEVENT
DTSTART;TZID=America/Chicago:20260523T080000
DTEND;TZID=America/Chicago:20260523T110000
DTSTAMP:20260423T002306
CREATED:20260222T210200Z
LAST-MODIFIED:20260222T210200Z
UID:10004250-1779523200-1779534000@lopbc.org
SUMMARY:Men's Day Out
DESCRIPTION:
URL:https://lopbc.org/church_event/mens-day-out/
LOCATION:Joe Huff’s Home\, 409 Dallas Loop\, Avinger\, TX\, 75630\, United States
CATEGORIES:Men's Ministry
END:VEVENT
BEGIN:VEVENT
DTSTART;TZID=America/Chicago:20260524T093000
DTEND;TZID=America/Chicago:20260524T104500
DTSTAMP:20260423T002306
CREATED:20250130T213312Z
LAST-MODIFIED:20250131T005604Z
UID:10002012-1779615000-1779619500@lopbc.org
SUMMARY:Sunday AM Sunday School
DESCRIPTION:
URL:https://lopbc.org/church_event/sunday-am-sunday-school-2/2026-05-24/
LOCATION:Classrooms\, 9046 FM729\, Avinger\, TX\, 75630\, United States
CATEGORIES:Church-wide,Community,Sunday School
END:VEVENT
BEGIN:VEVENT
DTSTART;TZID=America/Chicago:20260524T110000
DTEND;TZID=America/Chicago:20260524T123000
DTSTAMP:20260423T002306
CREATED:20250130T213205Z
LAST-MODIFIED:20250131T161102Z
UID:10001746-1779620400-1779625800@lopbc.org
SUMMARY:Sunday AM Worship
DESCRIPTION:
URL:https://lopbc.org/church_event/sunday-am-worship/2026-05-24/
LOCATION:Sanctuary\, 9046 FM729\, Avinger\, TX\, 75630\, United States
CATEGORIES:Church-wide,Community,Worship
END:VEVENT
BEGIN:VEVENT
DTSTART;TZID=America/Chicago:20260524T180000
DTEND;TZID=America/Chicago:20260524T190000
DTSTAMP:20260423T002306
CREATED:20250130T213902Z
LAST-MODIFIED:20260222T210931Z
UID:10002281-1779645600-1779649200@lopbc.org
SUMMARY:Sunday Evening Worship
DESCRIPTION:
URL:https://lopbc.org/church_event/sunday-evening-worship/2026-05-24/
LOCATION:Sanctuary\, 9046 FM729\, Avinger\, TX\, 75630\, United States
CATEGORIES:Church-wide,Community,Worship
END:VEVENT
BEGIN:VEVENT
DTSTART;VALUE=DATE:20260525
DTEND;VALUE=DATE:20260526
DTSTAMP:20260423T002306
CREATED:20260222T210229Z
LAST-MODIFIED:20260222T210229Z
UID:10004251-1779667200-1779753599@lopbc.org
SUMMARY:Memorial Day
DESCRIPTION:
URL:https://lopbc.org/church_event/memorial-day-2/
CATEGORIES:Church-wide,Community
END:VEVENT
BEGIN:VEVENT
DTSTART;TZID=America/Chicago:20260527T180000
DTEND;TZID=America/Chicago:20260527T183000
DTSTAMP:20260423T002306
CREATED:20250130T214435Z
LAST-MODIFIED:20260222T204211Z
UID:10002812-1779904800-1779906600@lopbc.org
SUMMARY:Family Night Meal
DESCRIPTION:
URL:https://lopbc.org/church_event/family-night-meal/2026-05-27/
LOCATION:Fellowship Hall\, 9046 FM729\, Avinger\, TX\, 75630
CATEGORIES:Church-wide,Community
END:VEVENT
BEGIN:VEVENT
DTSTART;TZID=America/Chicago:20260527T183000
DTEND;TZID=America/Chicago:20260527T193000
DTSTAMP:20260423T002306
CREATED:20250130T214249Z
LAST-MODIFIED:20260222T200208Z
UID:10002546-1779906600-1779910200@lopbc.org
SUMMARY:Family Night Worship
DESCRIPTION:
URL:https://lopbc.org/church_event/wednesday-night-worship/2026-05-27/
LOCATION:Sanctuary\, 9046 FM729\, Avinger\, TX\, 75630\, United States
CATEGORIES:Church-wide,Community,Worship
END:VEVENT
BEGIN:VEVENT
DTSTART;TZID=America/Chicago:20260531T093000
DTEND;TZID=America/Chicago:20260531T104500
DTSTAMP:20260423T002306
CREATED:20250130T213312Z
LAST-MODIFIED:20250131T005604Z
UID:10002013-1780219800-1780224300@lopbc.org
SUMMARY:Sunday AM Sunday School
DESCRIPTION:
URL:https://lopbc.org/church_event/sunday-am-sunday-school-2/2026-05-31/
LOCATION:Classrooms\, 9046 FM729\, Avinger\, TX\, 75630\, United States
CATEGORIES:Church-wide,Community,Sunday School
END:VEVENT
BEGIN:VEVENT
DTSTART;TZID=America/Chicago:20260531T110000
DTEND;TZID=America/Chicago:20260531T123000
DTSTAMP:20260423T002306
CREATED:20250130T213205Z
LAST-MODIFIED:20250131T161102Z
UID:10001747-1780225200-1780230600@lopbc.org
SUMMARY:Sunday AM Worship
DESCRIPTION:
URL:https://lopbc.org/church_event/sunday-am-worship/2026-05-31/
LOCATION:Sanctuary\, 9046 FM729\, Avinger\, TX\, 75630\, United States
CATEGORIES:Church-wide,Community,Worship
END:VEVENT
BEGIN:VEVENT
DTSTART;TZID=America/Chicago:20260531T160000
DTEND;TZID=America/Chicago:20260531T170000
DTSTAMP:20260423T002306
CREATED:20260222T205938Z
LAST-MODIFIED:20260222T210324Z
UID:10004252-1780243200-1780246800@lopbc.org
SUMMARY:VBS Meeting
DESCRIPTION:
URL:https://lopbc.org/church_event/vbs-meeting-4/2026-05-31/
LOCATION:Sanctuary\, 9046 FM729\, Avinger\, TX\, 75630\, United States
CATEGORIES:Children's Ministry,VBS
END:VEVENT
BEGIN:VEVENT
DTSTART;TZID=America/Chicago:20260531T180000
DTEND;TZID=America/Chicago:20260531T190000
DTSTAMP:20260423T002306
CREATED:20240226T170541Z
LAST-MODIFIED:20260222T203757Z
UID:10004177-1780250400-1780254000@lopbc.org
SUMMARY:5th Sunday Singing
DESCRIPTION:
URL:https://lopbc.org/church_event/5th-sunday-singing/2026-05-31/
LOCATION:Sanctuary\, 9046 FM729\, Avinger\, TX\, 75630\, United States
CATEGORIES:Church-wide,Community
END:VEVENT
BEGIN:VEVENT
DTSTART;TZID=America/Chicago:20260531T180000
DTEND;TZID=America/Chicago:20260531T190000
DTSTAMP:20260423T002306
CREATED:20250130T213902Z
LAST-MODIFIED:20260222T210931Z
UID:10002282-1780250400-1780254000@lopbc.org
SUMMARY:Sunday Evening Worship
DESCRIPTION:
URL:https://lopbc.org/church_event/sunday-evening-worship/2026-05-31/
LOCATION:Sanctuary\, 9046 FM729\, Avinger\, TX\, 75630\, United States
CATEGORIES:Church-wide,Community,Worship
END:VEVENT
BEGIN:VEVENT
DTSTART;TZID=America/Chicago:20260602T173000
DTEND;TZID=America/Chicago:20260602T183000
DTSTAMP:20260423T002306
CREATED:20250130T211824Z
LAST-MODIFIED:20250130T211824Z
UID:10001365-1780421400-1780425000@lopbc.org
SUMMARY:Deacon Meeting
DESCRIPTION:
URL:https://lopbc.org/church_event/deacon-meeting-2/2026-06-02/
CATEGORIES:Deacon
END:VEVENT
END:VCALENDAR