BEGIN:VCALENDAR
VERSION:2.0
PRODID:-//Lake O&#039; The Pines Baptist Church - ECPv6.15.20//NONSGML v1.0//EN
CALSCALE:GREGORIAN
METHOD:PUBLISH
X-WR-CALNAME:Lake O&#039; The Pines Baptist Church
X-ORIGINAL-URL:https://lopbc.org
X-WR-CALDESC:Events for Lake O&#039; The Pines Baptist Church
REFRESH-INTERVAL;VALUE=DURATION:PT1H
X-Robots-Tag:noindex
X-PUBLISHED-TTL:PT1H
BEGIN:VTIMEZONE
TZID:America/Chicago
BEGIN:DAYLIGHT
TZOFFSETFROM:-0600
TZOFFSETTO:-0500
TZNAME:CDT
DTSTART:20250309T080000
END:DAYLIGHT
BEGIN:STANDARD
TZOFFSETFROM:-0500
TZOFFSETTO:-0600
TZNAME:CST
DTSTART:20251102T070000
END:STANDARD
BEGIN:DAYLIGHT
TZOFFSETFROM:-0600
TZOFFSETTO:-0500
TZNAME:CDT
DTSTART:20260308T080000
END:DAYLIGHT
BEGIN:STANDARD
TZOFFSETFROM:-0500
TZOFFSETTO:-0600
TZNAME:CST
DTSTART:20261101T070000
END:STANDARD
BEGIN:DAYLIGHT
TZOFFSETFROM:-0600
TZOFFSETTO:-0500
TZNAME:CDT
DTSTART:20270314T080000
END:DAYLIGHT
BEGIN:STANDARD
TZOFFSETFROM:-0500
TZOFFSETTO:-0600
TZNAME:CST
DTSTART:20271107T070000
END:STANDARD
END:VTIMEZONE
BEGIN:VEVENT
DTSTART;TZID=America/Chicago:20260817T080000
DTEND;TZID=America/Chicago:20260817T120000
DTSTAMP:20260423T030658
CREATED:20260222T210620Z
LAST-MODIFIED:20260222T210620Z
UID:10004318-1786953600-1786968000@lopbc.org
SUMMARY:VBS 2026
DESCRIPTION:
URL:https://lopbc.org/church_event/vbs-2026/2026-08-17/
CATEGORIES:Children's Ministry
END:VEVENT
BEGIN:VEVENT
DTSTART;TZID=America/Chicago:20260818T080000
DTEND;TZID=America/Chicago:20260818T120000
DTSTAMP:20260423T030658
CREATED:20260222T210620Z
LAST-MODIFIED:20260222T210620Z
UID:10004319-1787040000-1787054400@lopbc.org
SUMMARY:VBS 2026
DESCRIPTION:
URL:https://lopbc.org/church_event/vbs-2026/2026-08-18/
CATEGORIES:Children's Ministry
END:VEVENT
BEGIN:VEVENT
DTSTART;TZID=America/Chicago:20260818T173000
DTEND;TZID=America/Chicago:20260818T203000
DTSTAMP:20260423T030658
CREATED:20260222T201217Z
LAST-MODIFIED:20260222T201217Z
UID:10004108-1787074200-1787085000@lopbc.org
SUMMARY:Praying Hearts and Hands
DESCRIPTION:
URL:https://lopbc.org/church_event/praying-hearts-and-hands-2/2026-08-18/
CATEGORIES:Praying Hearts and Hands
END:VEVENT
BEGIN:VEVENT
DTSTART;TZID=America/Chicago:20260819T080000
DTEND;TZID=America/Chicago:20260819T120000
DTSTAMP:20260423T030658
CREATED:20260222T210620Z
LAST-MODIFIED:20260222T210620Z
UID:10004320-1787126400-1787140800@lopbc.org
SUMMARY:VBS 2026
DESCRIPTION:
URL:https://lopbc.org/church_event/vbs-2026/2026-08-19/
CATEGORIES:Children's Ministry
END:VEVENT
BEGIN:VEVENT
DTSTART;TZID=America/Chicago:20260819T180000
DTEND;TZID=America/Chicago:20260819T183000
DTSTAMP:20260423T030658
CREATED:20250130T214435Z
LAST-MODIFIED:20260222T204211Z
UID:10002824-1787162400-1787164200@lopbc.org
SUMMARY:Family Night Meal
DESCRIPTION:
URL:https://lopbc.org/church_event/family-night-meal/2026-08-19/
LOCATION:Fellowship Hall\, 9046 FM729\, Avinger\, TX\, 75630
CATEGORIES:Church-wide,Community
END:VEVENT
BEGIN:VEVENT
DTSTART;TZID=America/Chicago:20260819T183000
DTEND;TZID=America/Chicago:20260819T193000
DTSTAMP:20260423T030658
CREATED:20250130T214249Z
LAST-MODIFIED:20260222T200208Z
UID:10002558-1787164200-1787167800@lopbc.org
SUMMARY:Family Night Worship
DESCRIPTION:
URL:https://lopbc.org/church_event/wednesday-night-worship/2026-08-19/
LOCATION:Sanctuary\, 9046 FM729\, Avinger\, TX\, 75630\, United States
CATEGORIES:Church-wide,Community,Worship
END:VEVENT
BEGIN:VEVENT
DTSTART;TZID=America/Chicago:20260820T080000
DTEND;TZID=America/Chicago:20260820T120000
DTSTAMP:20260423T030658
CREATED:20260222T210620Z
LAST-MODIFIED:20260222T210620Z
UID:10004321-1787212800-1787227200@lopbc.org
SUMMARY:VBS 2026
DESCRIPTION:
URL:https://lopbc.org/church_event/vbs-2026/2026-08-20/
CATEGORIES:Children's Ministry
END:VEVENT
BEGIN:VEVENT
DTSTART;VALUE=DATE:20260821
DTEND;VALUE=DATE:20260824
DTSTAMP:20260423T030658
CREATED:20260222T213139Z
LAST-MODIFIED:20260222T213139Z
UID:10004641-1787270400-1787529599@lopbc.org
SUMMARY:WoW Retreat
DESCRIPTION:
URL:https://lopbc.org/church_event/wow-retreat-2/
CATEGORIES:Women's Ministry
END:VEVENT
BEGIN:VEVENT
DTSTART;TZID=America/Chicago:20260821T080000
DTEND;TZID=America/Chicago:20260821T120000
DTSTAMP:20260423T030658
CREATED:20260222T210620Z
LAST-MODIFIED:20260222T210620Z
UID:10004322-1787299200-1787313600@lopbc.org
SUMMARY:VBS 2026
DESCRIPTION:
URL:https://lopbc.org/church_event/vbs-2026/2026-08-21/
CATEGORIES:Children's Ministry
END:VEVENT
BEGIN:VEVENT
DTSTART;TZID=America/Chicago:20260822T080000
DTEND;TZID=America/Chicago:20260822T120000
DTSTAMP:20260423T030658
CREATED:20260222T210620Z
LAST-MODIFIED:20260222T210620Z
UID:10004323-1787385600-1787400000@lopbc.org
SUMMARY:VBS 2026
DESCRIPTION:
URL:https://lopbc.org/church_event/vbs-2026/2026-08-22/
CATEGORIES:Children's Ministry
END:VEVENT
BEGIN:VEVENT
DTSTART;TZID=America/Chicago:20260823T080000
DTEND;TZID=America/Chicago:20260823T120000
DTSTAMP:20260423T030658
CREATED:20260222T210620Z
LAST-MODIFIED:20260222T210620Z
UID:10004324-1787472000-1787486400@lopbc.org
SUMMARY:VBS 2026
DESCRIPTION:
URL:https://lopbc.org/church_event/vbs-2026/2026-08-23/
CATEGORIES:Children's Ministry
END:VEVENT
BEGIN:VEVENT
DTSTART;TZID=America/Chicago:20260823T093000
DTEND;TZID=America/Chicago:20260823T104500
DTSTAMP:20260423T030658
CREATED:20250130T213312Z
LAST-MODIFIED:20250131T005604Z
UID:10002025-1787477400-1787481900@lopbc.org
SUMMARY:Sunday AM Sunday School
DESCRIPTION:
URL:https://lopbc.org/church_event/sunday-am-sunday-school-2/2026-08-23/
LOCATION:Classrooms\, 9046 FM729\, Avinger\, TX\, 75630\, United States
CATEGORIES:Church-wide,Community,Sunday School
END:VEVENT
BEGIN:VEVENT
DTSTART;TZID=America/Chicago:20260823T110000
DTEND;TZID=America/Chicago:20260823T123000
DTSTAMP:20260423T030658
CREATED:20250130T213205Z
LAST-MODIFIED:20250131T161102Z
UID:10001759-1787482800-1787488200@lopbc.org
SUMMARY:Sunday AM Worship
DESCRIPTION:
URL:https://lopbc.org/church_event/sunday-am-worship/2026-08-23/
LOCATION:Sanctuary\, 9046 FM729\, Avinger\, TX\, 75630\, United States
CATEGORIES:Church-wide,Community,Worship
END:VEVENT
BEGIN:VEVENT
DTSTART;TZID=America/Chicago:20260823T180000
DTEND;TZID=America/Chicago:20260823T190000
DTSTAMP:20260423T030658
CREATED:20250130T213902Z
LAST-MODIFIED:20260222T210931Z
UID:10002294-1787508000-1787511600@lopbc.org
SUMMARY:Sunday Evening Worship
DESCRIPTION:
URL:https://lopbc.org/church_event/sunday-evening-worship/2026-08-23/
LOCATION:Sanctuary\, 9046 FM729\, Avinger\, TX\, 75630\, United States
CATEGORIES:Church-wide,Community,Worship
END:VEVENT
BEGIN:VEVENT
DTSTART;TZID=America/Chicago:20260824T080000
DTEND;TZID=America/Chicago:20260824T120000
DTSTAMP:20260423T030658
CREATED:20260222T210620Z
LAST-MODIFIED:20260222T210620Z
UID:10004325-1787558400-1787572800@lopbc.org
SUMMARY:VBS 2026
DESCRIPTION:
URL:https://lopbc.org/church_event/vbs-2026/2026-08-24/
CATEGORIES:Children's Ministry
END:VEVENT
BEGIN:VEVENT
DTSTART;TZID=America/Chicago:20260825T080000
DTEND;TZID=America/Chicago:20260825T120000
DTSTAMP:20260423T030658
CREATED:20260222T210620Z
LAST-MODIFIED:20260222T210620Z
UID:10004326-1787644800-1787659200@lopbc.org
SUMMARY:VBS 2026
DESCRIPTION:
URL:https://lopbc.org/church_event/vbs-2026/2026-08-25/
CATEGORIES:Children's Ministry
END:VEVENT
BEGIN:VEVENT
DTSTART;TZID=America/Chicago:20260826T080000
DTEND;TZID=America/Chicago:20260826T120000
DTSTAMP:20260423T030658
CREATED:20260222T210620Z
LAST-MODIFIED:20260222T210620Z
UID:10004327-1787731200-1787745600@lopbc.org
SUMMARY:VBS 2026
DESCRIPTION:
URL:https://lopbc.org/church_event/vbs-2026/2026-08-26/
CATEGORIES:Children's Ministry
END:VEVENT
BEGIN:VEVENT
DTSTART;TZID=America/Chicago:20260826T180000
DTEND;TZID=America/Chicago:20260826T183000
DTSTAMP:20260423T030658
CREATED:20250130T214435Z
LAST-MODIFIED:20260222T204211Z
UID:10002825-1787767200-1787769000@lopbc.org
SUMMARY:Family Night Meal
DESCRIPTION:
URL:https://lopbc.org/church_event/family-night-meal/2026-08-26/
LOCATION:Fellowship Hall\, 9046 FM729\, Avinger\, TX\, 75630
CATEGORIES:Church-wide,Community
END:VEVENT
BEGIN:VEVENT
DTSTART;TZID=America/Chicago:20260826T183000
DTEND;TZID=America/Chicago:20260826T193000
DTSTAMP:20260423T030658
CREATED:20250130T214249Z
LAST-MODIFIED:20260222T200208Z
UID:10002559-1787769000-1787772600@lopbc.org
SUMMARY:Family Night Worship
DESCRIPTION:
URL:https://lopbc.org/church_event/wednesday-night-worship/2026-08-26/
LOCATION:Sanctuary\, 9046 FM729\, Avinger\, TX\, 75630\, United States
CATEGORIES:Church-wide,Community,Worship
END:VEVENT
BEGIN:VEVENT
DTSTART;TZID=America/Chicago:20260827T080000
DTEND;TZID=America/Chicago:20260827T120000
DTSTAMP:20260423T030658
CREATED:20260222T210620Z
LAST-MODIFIED:20260222T210620Z
UID:10004328-1787817600-1787832000@lopbc.org
SUMMARY:VBS 2026
DESCRIPTION:
URL:https://lopbc.org/church_event/vbs-2026/2026-08-27/
CATEGORIES:Children's Ministry
END:VEVENT
BEGIN:VEVENT
DTSTART;TZID=America/Chicago:20260828T080000
DTEND;TZID=America/Chicago:20260828T120000
DTSTAMP:20260423T030658
CREATED:20260222T210620Z
LAST-MODIFIED:20260222T210620Z
UID:10004329-1787904000-1787918400@lopbc.org
SUMMARY:VBS 2026
DESCRIPTION:
URL:https://lopbc.org/church_event/vbs-2026/2026-08-28/
CATEGORIES:Children's Ministry
END:VEVENT
BEGIN:VEVENT
DTSTART;TZID=America/Chicago:20260829T080000
DTEND;TZID=America/Chicago:20260829T120000
DTSTAMP:20260423T030658
CREATED:20260222T210620Z
LAST-MODIFIED:20260222T210620Z
UID:10004330-1787990400-1788004800@lopbc.org
SUMMARY:VBS 2026
DESCRIPTION:
URL:https://lopbc.org/church_event/vbs-2026/2026-08-29/
CATEGORIES:Children's Ministry
END:VEVENT
BEGIN:VEVENT
DTSTART;TZID=America/Chicago:20260830T080000
DTEND;TZID=America/Chicago:20260830T120000
DTSTAMP:20260423T030658
CREATED:20260222T210620Z
LAST-MODIFIED:20260222T210620Z
UID:10004331-1788076800-1788091200@lopbc.org
SUMMARY:VBS 2026
DESCRIPTION:
URL:https://lopbc.org/church_event/vbs-2026/2026-08-30/
CATEGORIES:Children's Ministry
END:VEVENT
BEGIN:VEVENT
DTSTART;TZID=America/Chicago:20260830T093000
DTEND;TZID=America/Chicago:20260830T104500
DTSTAMP:20260423T030658
CREATED:20250130T213312Z
LAST-MODIFIED:20250131T005604Z
UID:10002026-1788082200-1788086700@lopbc.org
SUMMARY:Sunday AM Sunday School
DESCRIPTION:
URL:https://lopbc.org/church_event/sunday-am-sunday-school-2/2026-08-30/
LOCATION:Classrooms\, 9046 FM729\, Avinger\, TX\, 75630\, United States
CATEGORIES:Church-wide,Community,Sunday School
END:VEVENT
BEGIN:VEVENT
DTSTART;TZID=America/Chicago:20260830T110000
DTEND;TZID=America/Chicago:20260830T123000
DTSTAMP:20260423T030658
CREATED:20250130T213205Z
LAST-MODIFIED:20250131T161102Z
UID:10001760-1788087600-1788093000@lopbc.org
SUMMARY:Sunday AM Worship
DESCRIPTION:
URL:https://lopbc.org/church_event/sunday-am-worship/2026-08-30/
LOCATION:Sanctuary\, 9046 FM729\, Avinger\, TX\, 75630\, United States
CATEGORIES:Church-wide,Community,Worship
END:VEVENT
BEGIN:VEVENT
DTSTART;TZID=America/Chicago:20260830T180000
DTEND;TZID=America/Chicago:20260830T190000
DTSTAMP:20260423T030658
CREATED:20240226T170541Z
LAST-MODIFIED:20260222T203757Z
UID:10004178-1788112800-1788116400@lopbc.org
SUMMARY:5th Sunday Singing
DESCRIPTION:
URL:https://lopbc.org/church_event/5th-sunday-singing/2026-08-30/
LOCATION:Sanctuary\, 9046 FM729\, Avinger\, TX\, 75630\, United States
CATEGORIES:Church-wide,Community
END:VEVENT
BEGIN:VEVENT
DTSTART;TZID=America/Chicago:20260830T180000
DTEND;TZID=America/Chicago:20260830T190000
DTSTAMP:20260423T030658
CREATED:20250130T213902Z
LAST-MODIFIED:20260222T210931Z
UID:10002295-1788112800-1788116400@lopbc.org
SUMMARY:Sunday Evening Worship
DESCRIPTION:
URL:https://lopbc.org/church_event/sunday-evening-worship/2026-08-30/
LOCATION:Sanctuary\, 9046 FM729\, Avinger\, TX\, 75630\, United States
CATEGORIES:Church-wide,Community,Worship
END:VEVENT
BEGIN:VEVENT
DTSTART;TZID=America/Chicago:20260831T080000
DTEND;TZID=America/Chicago:20260831T120000
DTSTAMP:20260423T030658
CREATED:20260222T210620Z
LAST-MODIFIED:20260222T210620Z
UID:10004332-1788163200-1788177600@lopbc.org
SUMMARY:VBS 2026
DESCRIPTION:
URL:https://lopbc.org/church_event/vbs-2026/2026-08-31/
CATEGORIES:Children's Ministry
END:VEVENT
BEGIN:VEVENT
DTSTART;TZID=America/Chicago:20260901T080000
DTEND;TZID=America/Chicago:20260901T120000
DTSTAMP:20260423T030658
CREATED:20260222T210620Z
LAST-MODIFIED:20260222T210620Z
UID:10004333-1788249600-1788264000@lopbc.org
SUMMARY:VBS 2026
DESCRIPTION:
URL:https://lopbc.org/church_event/vbs-2026/2026-09-01/
CATEGORIES:Children's Ministry
END:VEVENT
BEGIN:VEVENT
DTSTART;TZID=America/Chicago:20260901T173000
DTEND;TZID=America/Chicago:20260901T183000
DTSTAMP:20260423T030658
CREATED:20250130T211824Z
LAST-MODIFIED:20250130T211824Z
UID:10001368-1788283800-1788287400@lopbc.org
SUMMARY:Deacon Meeting
DESCRIPTION:
URL:https://lopbc.org/church_event/deacon-meeting-2/2026-09-01/
CATEGORIES:Deacon
END:VEVENT
END:VCALENDAR