BEGIN:VCALENDAR
VERSION:2.0
PRODID:-//Lake O&#039; The Pines Baptist Church - ECPv6.15.20//NONSGML v1.0//EN
CALSCALE:GREGORIAN
METHOD:PUBLISH
X-WR-CALNAME:Lake O&#039; The Pines Baptist Church
X-ORIGINAL-URL:https://lopbc.org
X-WR-CALDESC:Events for Lake O&#039; The Pines Baptist Church
REFRESH-INTERVAL;VALUE=DURATION:PT1H
X-Robots-Tag:noindex
X-PUBLISHED-TTL:PT1H
BEGIN:VTIMEZONE
TZID:America/Chicago
BEGIN:DAYLIGHT
TZOFFSETFROM:-0600
TZOFFSETTO:-0500
TZNAME:CDT
DTSTART:20260308T080000
END:DAYLIGHT
BEGIN:STANDARD
TZOFFSETFROM:-0500
TZOFFSETTO:-0600
TZNAME:CST
DTSTART:20261101T070000
END:STANDARD
BEGIN:DAYLIGHT
TZOFFSETFROM:-0600
TZOFFSETTO:-0500
TZNAME:CDT
DTSTART:20270314T080000
END:DAYLIGHT
BEGIN:STANDARD
TZOFFSETFROM:-0500
TZOFFSETTO:-0600
TZNAME:CST
DTSTART:20271107T070000
END:STANDARD
BEGIN:DAYLIGHT
TZOFFSETFROM:-0600
TZOFFSETTO:-0500
TZNAME:CDT
DTSTART:20280312T080000
END:DAYLIGHT
BEGIN:STANDARD
TZOFFSETFROM:-0500
TZOFFSETTO:-0600
TZNAME:CST
DTSTART:20281105T070000
END:STANDARD
END:VTIMEZONE
BEGIN:VEVENT
DTSTART;TZID=America/Chicago:20270210T080000
DTEND;TZID=America/Chicago:20270210T120000
DTSTAMP:20260423T141617
CREATED:20260222T210620Z
LAST-MODIFIED:20260222T210620Z
UID:10004495-1802246400-1802260800@lopbc.org
SUMMARY:VBS 2026
DESCRIPTION:
URL:https://lopbc.org/church_event/vbs-2026/2027-02-10/
CATEGORIES:Children's Ministry
END:VEVENT
BEGIN:VEVENT
DTSTART;TZID=America/Chicago:20270210T180000
DTEND;TZID=America/Chicago:20270210T183000
DTSTAMP:20260423T141617
CREATED:20250130T214435Z
LAST-MODIFIED:20260222T204211Z
UID:10002849-1802282400-1802284200@lopbc.org
SUMMARY:Family Night Meal
DESCRIPTION:
URL:https://lopbc.org/church_event/family-night-meal/2027-02-10/
LOCATION:Fellowship Hall\, 9046 FM729\, Avinger\, TX\, 75630
CATEGORIES:Church-wide,Community
END:VEVENT
BEGIN:VEVENT
DTSTART;TZID=America/Chicago:20270210T183000
DTEND;TZID=America/Chicago:20270210T193000
DTSTAMP:20260423T141617
CREATED:20250130T214249Z
LAST-MODIFIED:20260222T200208Z
UID:10002583-1802284200-1802287800@lopbc.org
SUMMARY:Family Night Worship
DESCRIPTION:
URL:https://lopbc.org/church_event/wednesday-night-worship/2027-02-10/
LOCATION:Sanctuary\, 9046 FM729\, Avinger\, TX\, 75630\, United States
CATEGORIES:Church-wide,Community,Worship
END:VEVENT
BEGIN:VEVENT
DTSTART;TZID=America/Chicago:20270211T080000
DTEND;TZID=America/Chicago:20270211T120000
DTSTAMP:20260423T141617
CREATED:20260222T210620Z
LAST-MODIFIED:20260222T210620Z
UID:10004496-1802332800-1802347200@lopbc.org
SUMMARY:VBS 2026
DESCRIPTION:
URL:https://lopbc.org/church_event/vbs-2026/2027-02-11/
CATEGORIES:Children's Ministry
END:VEVENT
BEGIN:VEVENT
DTSTART;TZID=America/Chicago:20270212T080000
DTEND;TZID=America/Chicago:20270212T120000
DTSTAMP:20260423T141617
CREATED:20260222T210620Z
LAST-MODIFIED:20260222T210620Z
UID:10004497-1802419200-1802433600@lopbc.org
SUMMARY:VBS 2026
DESCRIPTION:
URL:https://lopbc.org/church_event/vbs-2026/2027-02-12/
CATEGORIES:Children's Ministry
END:VEVENT
BEGIN:VEVENT
DTSTART;TZID=America/Chicago:20270213T080000
DTEND;TZID=America/Chicago:20270213T120000
DTSTAMP:20260423T141617
CREATED:20260222T210620Z
LAST-MODIFIED:20260222T210620Z
UID:10004498-1802505600-1802520000@lopbc.org
SUMMARY:VBS 2026
DESCRIPTION:
URL:https://lopbc.org/church_event/vbs-2026/2027-02-13/
CATEGORIES:Children's Ministry
END:VEVENT
BEGIN:VEVENT
DTSTART;TZID=America/Chicago:20270214T080000
DTEND;TZID=America/Chicago:20270214T120000
DTSTAMP:20260423T141617
CREATED:20260222T210620Z
LAST-MODIFIED:20260222T210620Z
UID:10004499-1802592000-1802606400@lopbc.org
SUMMARY:VBS 2026
DESCRIPTION:
URL:https://lopbc.org/church_event/vbs-2026/2027-02-14/
CATEGORIES:Children's Ministry
END:VEVENT
BEGIN:VEVENT
DTSTART;TZID=America/Chicago:20270214T093000
DTEND;TZID=America/Chicago:20270214T104500
DTSTAMP:20260423T141617
CREATED:20250130T213312Z
LAST-MODIFIED:20250131T005604Z
UID:10002050-1802597400-1802601900@lopbc.org
SUMMARY:Sunday AM Sunday School
DESCRIPTION:
URL:https://lopbc.org/church_event/sunday-am-sunday-school-2/2027-02-14/
LOCATION:Classrooms\, 9046 FM729\, Avinger\, TX\, 75630\, United States
CATEGORIES:Church-wide,Community,Sunday School
END:VEVENT
BEGIN:VEVENT
DTSTART;TZID=America/Chicago:20270214T110000
DTEND;TZID=America/Chicago:20270214T123000
DTSTAMP:20260423T141617
CREATED:20250130T213205Z
LAST-MODIFIED:20250131T161102Z
UID:10001784-1802602800-1802608200@lopbc.org
SUMMARY:Sunday AM Worship
DESCRIPTION:
URL:https://lopbc.org/church_event/sunday-am-worship/2027-02-14/
LOCATION:Sanctuary\, 9046 FM729\, Avinger\, TX\, 75630\, United States
CATEGORIES:Church-wide,Community,Worship
END:VEVENT
BEGIN:VEVENT
DTSTART;TZID=America/Chicago:20270214T180000
DTEND;TZID=America/Chicago:20270214T190000
DTSTAMP:20260423T141617
CREATED:20250130T213902Z
LAST-MODIFIED:20260222T210931Z
UID:10002319-1802628000-1802631600@lopbc.org
SUMMARY:Sunday Evening Worship
DESCRIPTION:
URL:https://lopbc.org/church_event/sunday-evening-worship/2027-02-14/
LOCATION:Sanctuary\, 9046 FM729\, Avinger\, TX\, 75630\, United States
CATEGORIES:Church-wide,Community,Worship
END:VEVENT
BEGIN:VEVENT
DTSTART;TZID=America/Chicago:20270215T080000
DTEND;TZID=America/Chicago:20270215T120000
DTSTAMP:20260423T141617
CREATED:20260222T210620Z
LAST-MODIFIED:20260222T210620Z
UID:10004500-1802678400-1802692800@lopbc.org
SUMMARY:VBS 2026
DESCRIPTION:
URL:https://lopbc.org/church_event/vbs-2026/2027-02-15/
CATEGORIES:Children's Ministry
END:VEVENT
BEGIN:VEVENT
DTSTART;TZID=America/Chicago:20270216T080000
DTEND;TZID=America/Chicago:20270216T120000
DTSTAMP:20260423T141617
CREATED:20260222T210620Z
LAST-MODIFIED:20260222T210620Z
UID:10004501-1802764800-1802779200@lopbc.org
SUMMARY:VBS 2026
DESCRIPTION:
URL:https://lopbc.org/church_event/vbs-2026/2027-02-16/
CATEGORIES:Children's Ministry
END:VEVENT
BEGIN:VEVENT
DTSTART;TZID=America/Chicago:20270216T173000
DTEND;TZID=America/Chicago:20270216T203000
DTSTAMP:20260423T141617
CREATED:20260222T201217Z
LAST-MODIFIED:20260222T201217Z
UID:10004114-1802799000-1802809800@lopbc.org
SUMMARY:Praying Hearts and Hands
DESCRIPTION:
URL:https://lopbc.org/church_event/praying-hearts-and-hands-2/2027-02-16/
CATEGORIES:Praying Hearts and Hands
END:VEVENT
BEGIN:VEVENT
DTSTART;TZID=America/Chicago:20270217T080000
DTEND;TZID=America/Chicago:20270217T120000
DTSTAMP:20260423T141617
CREATED:20260222T210620Z
LAST-MODIFIED:20260222T210620Z
UID:10004502-1802851200-1802865600@lopbc.org
SUMMARY:VBS 2026
DESCRIPTION:
URL:https://lopbc.org/church_event/vbs-2026/2027-02-17/
CATEGORIES:Children's Ministry
END:VEVENT
BEGIN:VEVENT
DTSTART;TZID=America/Chicago:20270217T180000
DTEND;TZID=America/Chicago:20270217T183000
DTSTAMP:20260423T141617
CREATED:20250130T214435Z
LAST-MODIFIED:20260222T204211Z
UID:10002850-1802887200-1802889000@lopbc.org
SUMMARY:Family Night Meal
DESCRIPTION:
URL:https://lopbc.org/church_event/family-night-meal/2027-02-17/
LOCATION:Fellowship Hall\, 9046 FM729\, Avinger\, TX\, 75630
CATEGORIES:Church-wide,Community
END:VEVENT
BEGIN:VEVENT
DTSTART;TZID=America/Chicago:20270217T183000
DTEND;TZID=America/Chicago:20270217T193000
DTSTAMP:20260423T141617
CREATED:20250130T214249Z
LAST-MODIFIED:20260222T200208Z
UID:10002584-1802889000-1802892600@lopbc.org
SUMMARY:Family Night Worship
DESCRIPTION:
URL:https://lopbc.org/church_event/wednesday-night-worship/2027-02-17/
LOCATION:Sanctuary\, 9046 FM729\, Avinger\, TX\, 75630\, United States
CATEGORIES:Church-wide,Community,Worship
END:VEVENT
BEGIN:VEVENT
DTSTART;TZID=America/Chicago:20270218T080000
DTEND;TZID=America/Chicago:20270218T120000
DTSTAMP:20260423T141617
CREATED:20260222T210620Z
LAST-MODIFIED:20260222T210620Z
UID:10004503-1802937600-1802952000@lopbc.org
SUMMARY:VBS 2026
DESCRIPTION:
URL:https://lopbc.org/church_event/vbs-2026/2027-02-18/
CATEGORIES:Children's Ministry
END:VEVENT
BEGIN:VEVENT
DTSTART;TZID=America/Chicago:20270219T080000
DTEND;TZID=America/Chicago:20270219T120000
DTSTAMP:20260423T141617
CREATED:20260222T210620Z
LAST-MODIFIED:20260222T210620Z
UID:10004504-1803024000-1803038400@lopbc.org
SUMMARY:VBS 2026
DESCRIPTION:
URL:https://lopbc.org/church_event/vbs-2026/2027-02-19/
CATEGORIES:Children's Ministry
END:VEVENT
BEGIN:VEVENT
DTSTART;TZID=America/Chicago:20270220T080000
DTEND;TZID=America/Chicago:20270220T090000
DTSTAMP:20260423T141617
CREATED:20240225T221030Z
LAST-MODIFIED:20250130T231350Z
UID:10000164-1803110400-1803114000@lopbc.org
SUMMARY:Men's Breakfast
DESCRIPTION:Fellowship with men every third Saturday at 8:00AM. Enjoy a manly feast of bacon\, eggs\, sausage\, biscuits and gravy and more!
URL:https://lopbc.org/church_event/mens-breakfast/2027-02-20/
LOCATION:Fellowship Hall\, 9046 FM729\, Avinger\, TX\, 75630
CATEGORIES:Men's Ministry
ATTACH;FMTTYPE=image/jpeg:https://lopbc.org/wp-content/uploads/2024/02/pexels-athena-2961957-scaled.jpg
END:VEVENT
BEGIN:VEVENT
DTSTART;TZID=America/Chicago:20270220T080000
DTEND;TZID=America/Chicago:20270220T090000
DTSTAMP:20260423T141617
CREATED:20240225T222018Z
LAST-MODIFIED:20250130T231441Z
UID:10000224-1803110400-1803114000@lopbc.org
SUMMARY:Women's Breakfast
DESCRIPTION:
URL:https://lopbc.org/church_event/womenss-breakfast/2027-02-20/
LOCATION:The Lakehouse Cafe\, 8883 FM729\, Avinger\, TX\, 75630
CATEGORIES:Women's Ministry
ATTACH;FMTTYPE=image/png:https://lopbc.org/wp-content/uploads/2024/02/women-bfast.png
END:VEVENT
BEGIN:VEVENT
DTSTART;TZID=America/Chicago:20270220T080000
DTEND;TZID=America/Chicago:20270220T120000
DTSTAMP:20260423T141617
CREATED:20260222T210620Z
LAST-MODIFIED:20260222T210620Z
UID:10004505-1803110400-1803124800@lopbc.org
SUMMARY:VBS 2026
DESCRIPTION:
URL:https://lopbc.org/church_event/vbs-2026/2027-02-20/
CATEGORIES:Children's Ministry
END:VEVENT
BEGIN:VEVENT
DTSTART;TZID=America/Chicago:20270221T080000
DTEND;TZID=America/Chicago:20270221T120000
DTSTAMP:20260423T141617
CREATED:20260222T210620Z
LAST-MODIFIED:20260222T210620Z
UID:10004506-1803196800-1803211200@lopbc.org
SUMMARY:VBS 2026
DESCRIPTION:
URL:https://lopbc.org/church_event/vbs-2026/2027-02-21/
CATEGORIES:Children's Ministry
END:VEVENT
BEGIN:VEVENT
DTSTART;TZID=America/Chicago:20270221T093000
DTEND;TZID=America/Chicago:20270221T104500
DTSTAMP:20260423T141617
CREATED:20250130T213312Z
LAST-MODIFIED:20250131T005604Z
UID:10002051-1803202200-1803206700@lopbc.org
SUMMARY:Sunday AM Sunday School
DESCRIPTION:
URL:https://lopbc.org/church_event/sunday-am-sunday-school-2/2027-02-21/
LOCATION:Classrooms\, 9046 FM729\, Avinger\, TX\, 75630\, United States
CATEGORIES:Church-wide,Community,Sunday School
END:VEVENT
BEGIN:VEVENT
DTSTART;TZID=America/Chicago:20270221T110000
DTEND;TZID=America/Chicago:20270221T123000
DTSTAMP:20260423T141617
CREATED:20250130T213205Z
LAST-MODIFIED:20250131T161102Z
UID:10001785-1803207600-1803213000@lopbc.org
SUMMARY:Sunday AM Worship
DESCRIPTION:
URL:https://lopbc.org/church_event/sunday-am-worship/2027-02-21/
LOCATION:Sanctuary\, 9046 FM729\, Avinger\, TX\, 75630\, United States
CATEGORIES:Church-wide,Community,Worship
END:VEVENT
BEGIN:VEVENT
DTSTART;TZID=America/Chicago:20270221T180000
DTEND;TZID=America/Chicago:20270221T190000
DTSTAMP:20260423T141617
CREATED:20250130T213902Z
LAST-MODIFIED:20260222T210931Z
UID:10002320-1803232800-1803236400@lopbc.org
SUMMARY:Sunday Evening Worship
DESCRIPTION:
URL:https://lopbc.org/church_event/sunday-evening-worship/2027-02-21/
LOCATION:Sanctuary\, 9046 FM729\, Avinger\, TX\, 75630\, United States
CATEGORIES:Church-wide,Community,Worship
END:VEVENT
BEGIN:VEVENT
DTSTART;TZID=America/Chicago:20270222T080000
DTEND;TZID=America/Chicago:20270222T120000
DTSTAMP:20260423T141617
CREATED:20260222T210620Z
LAST-MODIFIED:20260222T210620Z
UID:10004507-1803283200-1803297600@lopbc.org
SUMMARY:VBS 2026
DESCRIPTION:
URL:https://lopbc.org/church_event/vbs-2026/2027-02-22/
CATEGORIES:Children's Ministry
END:VEVENT
BEGIN:VEVENT
DTSTART;TZID=America/Chicago:20270223T080000
DTEND;TZID=America/Chicago:20270223T120000
DTSTAMP:20260423T141617
CREATED:20260222T210620Z
LAST-MODIFIED:20260222T210620Z
UID:10004508-1803369600-1803384000@lopbc.org
SUMMARY:VBS 2026
DESCRIPTION:
URL:https://lopbc.org/church_event/vbs-2026/2027-02-23/
CATEGORIES:Children's Ministry
END:VEVENT
BEGIN:VEVENT
DTSTART;TZID=America/Chicago:20270224T080000
DTEND;TZID=America/Chicago:20270224T120000
DTSTAMP:20260423T141617
CREATED:20260222T210620Z
LAST-MODIFIED:20260222T210620Z
UID:10004509-1803456000-1803470400@lopbc.org
SUMMARY:VBS 2026
DESCRIPTION:
URL:https://lopbc.org/church_event/vbs-2026/2027-02-24/
CATEGORIES:Children's Ministry
END:VEVENT
BEGIN:VEVENT
DTSTART;TZID=America/Chicago:20270224T180000
DTEND;TZID=America/Chicago:20270224T183000
DTSTAMP:20260423T141617
CREATED:20250130T214435Z
LAST-MODIFIED:20260222T204211Z
UID:10002851-1803492000-1803493800@lopbc.org
SUMMARY:Family Night Meal
DESCRIPTION:
URL:https://lopbc.org/church_event/family-night-meal/2027-02-24/
LOCATION:Fellowship Hall\, 9046 FM729\, Avinger\, TX\, 75630
CATEGORIES:Church-wide,Community
END:VEVENT
BEGIN:VEVENT
DTSTART;TZID=America/Chicago:20270224T183000
DTEND;TZID=America/Chicago:20270224T193000
DTSTAMP:20260423T141617
CREATED:20250130T214249Z
LAST-MODIFIED:20260222T200208Z
UID:10002585-1803493800-1803497400@lopbc.org
SUMMARY:Family Night Worship
DESCRIPTION:
URL:https://lopbc.org/church_event/wednesday-night-worship/2027-02-24/
LOCATION:Sanctuary\, 9046 FM729\, Avinger\, TX\, 75630\, United States
CATEGORIES:Church-wide,Community,Worship
END:VEVENT
END:VCALENDAR