BEGIN:VCALENDAR
VERSION:2.0
PRODID:-//Lake O&#039; The Pines Baptist Church - ECPv6.15.20//NONSGML v1.0//EN
CALSCALE:GREGORIAN
METHOD:PUBLISH
X-ORIGINAL-URL:https://lopbc.org
X-WR-CALDESC:Events for Lake O&#039; The Pines Baptist Church
REFRESH-INTERVAL;VALUE=DURATION:PT1H
X-Robots-Tag:noindex
X-PUBLISHED-TTL:PT1H
BEGIN:VTIMEZONE
TZID:America/Chicago
BEGIN:DAYLIGHT
TZOFFSETFROM:-0600
TZOFFSETTO:-0500
TZNAME:CDT
DTSTART:20240310T080000
END:DAYLIGHT
BEGIN:STANDARD
TZOFFSETFROM:-0500
TZOFFSETTO:-0600
TZNAME:CST
DTSTART:20241103T070000
END:STANDARD
BEGIN:DAYLIGHT
TZOFFSETFROM:-0600
TZOFFSETTO:-0500
TZNAME:CDT
DTSTART:20250309T080000
END:DAYLIGHT
BEGIN:STANDARD
TZOFFSETFROM:-0500
TZOFFSETTO:-0600
TZNAME:CST
DTSTART:20251102T070000
END:STANDARD
BEGIN:DAYLIGHT
TZOFFSETFROM:-0600
TZOFFSETTO:-0500
TZNAME:CDT
DTSTART:20260308T080000
END:DAYLIGHT
BEGIN:STANDARD
TZOFFSETFROM:-0500
TZOFFSETTO:-0600
TZNAME:CST
DTSTART:20261101T070000
END:STANDARD
END:VTIMEZONE
BEGIN:VEVENT
DTSTART;VALUE=DATE:20250725
DTEND;VALUE=DATE:20250729
DTSTAMP:20260423T063447
CREATED:20250131T155658Z
LAST-MODIFIED:20250131T155658Z
UID:10003774-1753401600-1753747199@lopbc.org
SUMMARY:Children's Camp
DESCRIPTION:
URL:https://lopbc.org/church_event/childrens-camp-2/
CATEGORIES:Children's Ministry,Church-wide,Community
END:VEVENT
BEGIN:VEVENT
DTSTART;TZID=America/Chicago:20250727T093000
DTEND;TZID=America/Chicago:20250727T104500
DTSTAMP:20260423T063447
CREATED:20250130T213312Z
LAST-MODIFIED:20250131T005604Z
UID:10001969-1753608600-1753613100@lopbc.org
SUMMARY:Sunday AM Sunday School
DESCRIPTION:
URL:https://lopbc.org/church_event/sunday-am-sunday-school-2/2025-07-27/
LOCATION:Classrooms\, 9046 FM729\, Avinger\, TX\, 75630\, United States
CATEGORIES:Church-wide,Community,Sunday School
END:VEVENT
BEGIN:VEVENT
DTSTART;TZID=America/Chicago:20250727T110000
DTEND;TZID=America/Chicago:20250727T123000
DTSTAMP:20260423T063447
CREATED:20250130T213205Z
LAST-MODIFIED:20250131T161102Z
UID:10001703-1753614000-1753619400@lopbc.org
SUMMARY:Sunday AM Worship
DESCRIPTION:
URL:https://lopbc.org/church_event/sunday-am-worship/2025-07-27/
LOCATION:Sanctuary\, 9046 FM729\, Avinger\, TX\, 75630\, United States
CATEGORIES:Church-wide,Community,Worship
END:VEVENT
BEGIN:VEVENT
DTSTART;TZID=America/Chicago:20250727T180000
DTEND;TZID=America/Chicago:20250727T190000
DTSTAMP:20260423T063447
CREATED:20250130T213902Z
LAST-MODIFIED:20260222T210931Z
UID:10002238-1753639200-1753642800@lopbc.org
SUMMARY:Sunday Evening Worship
DESCRIPTION:
URL:https://lopbc.org/church_event/sunday-evening-worship/2025-07-27/
LOCATION:Sanctuary\, 9046 FM729\, Avinger\, TX\, 75630\, United States
CATEGORIES:Church-wide,Community,Worship
END:VEVENT
BEGIN:VEVENT
DTSTART;TZID=America/Chicago:20250728T080000
DTEND;TZID=America/Chicago:20250728T100000
DTSTAMP:20260423T063447
CREATED:20250131T160057Z
LAST-MODIFIED:20250131T160057Z
UID:10003776-1753689600-1753696800@lopbc.org
SUMMARY:Children's Camp Return
DESCRIPTION:
URL:https://lopbc.org/church_event/childrens-camp-return/
CATEGORIES:Children's Ministry,Church-wide
END:VEVENT
BEGIN:VEVENT
DTSTART;TZID=America/Chicago:20250728T180000
DTEND;TZID=America/Chicago:20250728T190000
DTSTAMP:20260423T063447
CREATED:20250130T222510Z
LAST-MODIFIED:20250130T224652Z
UID:10003045-1753725600-1753729200@lopbc.org
SUMMARY:Women of Worship (WoW) Bible Study
DESCRIPTION:
URL:https://lopbc.org/church_event/women-of-worship-wow-bible-study/2025-07-28/
LOCATION:Fellowship Hall\, 9046 FM729\, Avinger\, TX\, 75630
CATEGORIES:Community,Women's Ministry
END:VEVENT
BEGIN:VEVENT
DTSTART;TZID=America/Chicago:20250730T180000
DTEND;TZID=America/Chicago:20250730T183000
DTSTAMP:20260423T063447
CREATED:20250130T214435Z
LAST-MODIFIED:20260222T204211Z
UID:10002769-1753898400-1753900200@lopbc.org
SUMMARY:Family Night Meal
DESCRIPTION:
URL:https://lopbc.org/church_event/family-night-meal/2025-07-30/
LOCATION:Fellowship Hall\, 9046 FM729\, Avinger\, TX\, 75630
CATEGORIES:Church-wide,Community
END:VEVENT
BEGIN:VEVENT
DTSTART;TZID=America/Chicago:20250730T183000
DTEND;TZID=America/Chicago:20250730T193000
DTSTAMP:20260423T063447
CREATED:20250130T214249Z
LAST-MODIFIED:20260222T200208Z
UID:10002503-1753900200-1753903800@lopbc.org
SUMMARY:Family Night Worship
DESCRIPTION:
URL:https://lopbc.org/church_event/wednesday-night-worship/2025-07-30/
LOCATION:Sanctuary\, 9046 FM729\, Avinger\, TX\, 75630\, United States
CATEGORIES:Church-wide,Community,Worship
END:VEVENT
BEGIN:VEVENT
DTSTART;TZID=America/Chicago:20250803T080000
DTEND;TZID=America/Chicago:20250803T083000
DTSTAMP:20260423T063447
CREATED:20250131T160216Z
LAST-MODIFIED:20250131T160216Z
UID:10003777-1754208000-1754209800@lopbc.org
SUMMARY:Budget Form Release
DESCRIPTION:
URL:https://lopbc.org/church_event/budget-form-release/
CATEGORIES:Church-wide,Committees
END:VEVENT
BEGIN:VEVENT
DTSTART;TZID=America/Chicago:20250803T080000
DTEND;TZID=America/Chicago:20250803T170000
DTSTAMP:20260423T063447
CREATED:20240225T224843Z
LAST-MODIFIED:20240226T024820Z
UID:10000387-1754208000-1754240400@lopbc.org
SUMMARY:Bean Day!
DESCRIPTION:It’s Benevolence Day! Bring your spare change to donate to support our benevolence fund.
URL:https://lopbc.org/church_event/bean-day/2025-08-03/
LOCATION:Sanctuary\, 9046 FM729\, Avinger\, TX\, 75630\, United States
CATEGORIES:Benevolence
ATTACH;FMTTYPE=image/png:https://lopbc.org/wp-content/uploads/2024/02/bean-day.png
END:VEVENT
BEGIN:VEVENT
DTSTART;TZID=America/Chicago:20250803T093000
DTEND;TZID=America/Chicago:20250803T104500
DTSTAMP:20260423T063447
CREATED:20250130T213312Z
LAST-MODIFIED:20250131T005604Z
UID:10001970-1754213400-1754217900@lopbc.org
SUMMARY:Sunday AM Sunday School
DESCRIPTION:
URL:https://lopbc.org/church_event/sunday-am-sunday-school-2/2025-08-03/
LOCATION:Classrooms\, 9046 FM729\, Avinger\, TX\, 75630\, United States
CATEGORIES:Church-wide,Community,Sunday School
END:VEVENT
BEGIN:VEVENT
DTSTART;TZID=America/Chicago:20250803T110000
DTEND;TZID=America/Chicago:20250803T123000
DTSTAMP:20260423T063447
CREATED:20250130T213205Z
LAST-MODIFIED:20250131T161102Z
UID:10001704-1754218800-1754224200@lopbc.org
SUMMARY:Sunday AM Worship
DESCRIPTION:
URL:https://lopbc.org/church_event/sunday-am-worship/2025-08-03/
LOCATION:Sanctuary\, 9046 FM729\, Avinger\, TX\, 75630\, United States
CATEGORIES:Church-wide,Community,Worship
END:VEVENT
BEGIN:VEVENT
DTSTART;TZID=America/Chicago:20250803T160000
DTEND;TZID=America/Chicago:20250803T170000
DTSTAMP:20260423T063447
CREATED:20250130T221823Z
LAST-MODIFIED:20250130T221823Z
UID:10003018-1754236800-1754240400@lopbc.org
SUMMARY:Team War Room Council
DESCRIPTION:
URL:https://lopbc.org/church_event/team-war-room-council/2025-08-03/
LOCATION:Sanctuary\, 9046 FM729\, Avinger\, TX\, 75630\, United States
CATEGORIES:Committees
END:VEVENT
BEGIN:VEVENT
DTSTART;TZID=America/Chicago:20250803T180000
DTEND;TZID=America/Chicago:20250803T190000
DTSTAMP:20260423T063447
CREATED:20250130T213902Z
LAST-MODIFIED:20260222T210931Z
UID:10002239-1754244000-1754247600@lopbc.org
SUMMARY:Sunday Evening Worship
DESCRIPTION:
URL:https://lopbc.org/church_event/sunday-evening-worship/2025-08-03/
LOCATION:Sanctuary\, 9046 FM729\, Avinger\, TX\, 75630\, United States
CATEGORIES:Church-wide,Community,Worship
END:VEVENT
BEGIN:VEVENT
DTSTART;TZID=America/Chicago:20250804T180000
DTEND;TZID=America/Chicago:20250804T190000
DTSTAMP:20260423T063447
CREATED:20250130T222510Z
LAST-MODIFIED:20250130T224652Z
UID:10003046-1754330400-1754334000@lopbc.org
SUMMARY:Women of Worship (WoW) Bible Study
DESCRIPTION:
URL:https://lopbc.org/church_event/women-of-worship-wow-bible-study/2025-08-04/
LOCATION:Fellowship Hall\, 9046 FM729\, Avinger\, TX\, 75630
CATEGORIES:Community,Women's Ministry
END:VEVENT
BEGIN:VEVENT
DTSTART;TZID=America/Chicago:20250805T173000
DTEND;TZID=America/Chicago:20250805T183000
DTSTAMP:20260423T063447
CREATED:20250130T211824Z
LAST-MODIFIED:20250130T211824Z
UID:10001355-1754415000-1754418600@lopbc.org
SUMMARY:Deacon Meeting
DESCRIPTION:
URL:https://lopbc.org/church_event/deacon-meeting-2/2025-08-05/
CATEGORIES:Deacon
END:VEVENT
BEGIN:VEVENT
DTSTART;TZID=America/Chicago:20250805T183000
DTEND;TZID=America/Chicago:20250805T193000
DTSTAMP:20260423T063447
CREATED:20240925T131838Z
LAST-MODIFIED:20240925T133039Z
UID:10001206-1754418600-1754422200@lopbc.org
SUMMARY:Man Camp
DESCRIPTION:Come enjoy a meat-filled meal and fellowship with the men of the church. Occurs every 1st Tuesday.
URL:https://lopbc.org/church_event/man-camp/2025-08-05/
LOCATION:Fellowship Hall\, 9046 FM729\, Avinger\, TX\, 75630
CATEGORIES:Community,Men's Ministry
END:VEVENT
BEGIN:VEVENT
DTSTART;TZID=America/Chicago:20250806T180000
DTEND;TZID=America/Chicago:20250806T183000
DTSTAMP:20260423T063447
CREATED:20250130T214435Z
LAST-MODIFIED:20260222T204211Z
UID:10002770-1754503200-1754505000@lopbc.org
SUMMARY:Family Night Meal
DESCRIPTION:
URL:https://lopbc.org/church_event/family-night-meal/2025-08-06/
LOCATION:Fellowship Hall\, 9046 FM729\, Avinger\, TX\, 75630
CATEGORIES:Church-wide,Community
END:VEVENT
BEGIN:VEVENT
DTSTART;TZID=America/Chicago:20250806T183000
DTEND;TZID=America/Chicago:20250806T193000
DTSTAMP:20260423T063447
CREATED:20250130T214249Z
LAST-MODIFIED:20260222T200208Z
UID:10002504-1754505000-1754508600@lopbc.org
SUMMARY:Family Night Worship
DESCRIPTION:
URL:https://lopbc.org/church_event/wednesday-night-worship/2025-08-06/
LOCATION:Sanctuary\, 9046 FM729\, Avinger\, TX\, 75630\, United States
CATEGORIES:Church-wide,Community,Worship
END:VEVENT
BEGIN:VEVENT
DTSTART;TZID=America/Chicago:20250810T093000
DTEND;TZID=America/Chicago:20250810T104500
DTSTAMP:20260423T063447
CREATED:20250130T213312Z
LAST-MODIFIED:20250131T005604Z
UID:10001971-1754818200-1754822700@lopbc.org
SUMMARY:Sunday AM Sunday School
DESCRIPTION:
URL:https://lopbc.org/church_event/sunday-am-sunday-school-2/2025-08-10/
LOCATION:Classrooms\, 9046 FM729\, Avinger\, TX\, 75630\, United States
CATEGORIES:Church-wide,Community,Sunday School
END:VEVENT
BEGIN:VEVENT
DTSTART;TZID=America/Chicago:20250810T110000
DTEND;TZID=America/Chicago:20250810T123000
DTSTAMP:20260423T063447
CREATED:20250130T213205Z
LAST-MODIFIED:20250131T161102Z
UID:10001705-1754823600-1754829000@lopbc.org
SUMMARY:Sunday AM Worship
DESCRIPTION:
URL:https://lopbc.org/church_event/sunday-am-worship/2025-08-10/
LOCATION:Sanctuary\, 9046 FM729\, Avinger\, TX\, 75630\, United States
CATEGORIES:Church-wide,Community,Worship
END:VEVENT
BEGIN:VEVENT
DTSTART;TZID=America/Chicago:20250810T120000
DTEND;TZID=America/Chicago:20250810T123000
DTSTAMP:20260423T063447
CREATED:20250131T160343Z
LAST-MODIFIED:20250131T160343Z
UID:10003778-1754827200-1754829000@lopbc.org
SUMMARY:Sunday School Graduation Day
DESCRIPTION:
URL:https://lopbc.org/church_event/sunday-school-graduation-day/
CATEGORIES:Children's Ministry,Church-wide,Community,Youth Ministry
END:VEVENT
BEGIN:VEVENT
DTSTART;TZID=America/Chicago:20250810T123000
DTEND;TZID=America/Chicago:20250810T133000
DTSTAMP:20260423T063447
CREATED:20250131T001245Z
LAST-MODIFIED:20250131T001245Z
UID:10003337-1754829000-1754832600@lopbc.org
SUMMARY:Church-wide Potluck Meal
DESCRIPTION:
URL:https://lopbc.org/church_event/church-wide-potluck-meal/2025-08-10/
LOCATION:Fellowship Hall\, 9046 FM729\, Avinger\, TX\, 75630
END:VEVENT
BEGIN:VEVENT
DTSTART;TZID=America/Chicago:20250810T180000
DTEND;TZID=America/Chicago:20250810T190000
DTSTAMP:20260423T063447
CREATED:20250130T213902Z
LAST-MODIFIED:20260222T210931Z
UID:10002240-1754848800-1754852400@lopbc.org
SUMMARY:Sunday Evening Worship
DESCRIPTION:
URL:https://lopbc.org/church_event/sunday-evening-worship/2025-08-10/
LOCATION:Sanctuary\, 9046 FM729\, Avinger\, TX\, 75630\, United States
CATEGORIES:Church-wide,Community,Worship
END:VEVENT
BEGIN:VEVENT
DTSTART;TZID=America/Chicago:20250813T180000
DTEND;TZID=America/Chicago:20250813T183000
DTSTAMP:20260423T063447
CREATED:20250130T214435Z
LAST-MODIFIED:20260222T204211Z
UID:10002771-1755108000-1755109800@lopbc.org
SUMMARY:Family Night Meal
DESCRIPTION:
URL:https://lopbc.org/church_event/family-night-meal/2025-08-13/
LOCATION:Fellowship Hall\, 9046 FM729\, Avinger\, TX\, 75630
CATEGORIES:Church-wide,Community
END:VEVENT
BEGIN:VEVENT
DTSTART;TZID=America/Chicago:20250813T183000
DTEND;TZID=America/Chicago:20250813T193000
DTSTAMP:20260423T063447
CREATED:20250130T214249Z
LAST-MODIFIED:20260222T200208Z
UID:10002505-1755109800-1755113400@lopbc.org
SUMMARY:Family Night Worship
DESCRIPTION:
URL:https://lopbc.org/church_event/wednesday-night-worship/2025-08-13/
LOCATION:Sanctuary\, 9046 FM729\, Avinger\, TX\, 75630\, United States
CATEGORIES:Church-wide,Community,Worship
END:VEVENT
BEGIN:VEVENT
DTSTART;TZID=America/Chicago:20250816T080000
DTEND;TZID=America/Chicago:20250816T090000
DTSTAMP:20260423T063447
CREATED:20240225T221030Z
LAST-MODIFIED:20250130T231350Z
UID:10000146-1755331200-1755334800@lopbc.org
SUMMARY:Men's Breakfast
DESCRIPTION:Fellowship with men every third Saturday at 8:00AM. Enjoy a manly feast of bacon\, eggs\, sausage\, biscuits and gravy and more!
URL:https://lopbc.org/church_event/mens-breakfast/2025-08-16/
LOCATION:Fellowship Hall\, 9046 FM729\, Avinger\, TX\, 75630
CATEGORIES:Men's Ministry
ATTACH;FMTTYPE=image/jpeg:https://lopbc.org/wp-content/uploads/2024/02/pexels-athena-2961957-scaled.jpg
END:VEVENT
BEGIN:VEVENT
DTSTART;TZID=America/Chicago:20250816T080000
DTEND;TZID=America/Chicago:20250816T090000
DTSTAMP:20260423T063447
CREATED:20240225T222018Z
LAST-MODIFIED:20250130T231441Z
UID:10000206-1755331200-1755334800@lopbc.org
SUMMARY:Women's Breakfast
DESCRIPTION:
URL:https://lopbc.org/church_event/womenss-breakfast/2025-08-16/
LOCATION:The Lakehouse Cafe\, 8883 FM729\, Avinger\, TX\, 75630
CATEGORIES:Women's Ministry
ATTACH;FMTTYPE=image/png:https://lopbc.org/wp-content/uploads/2024/02/women-bfast.png
END:VEVENT
BEGIN:VEVENT
DTSTART;TZID=America/Chicago:20250816T090000
DTEND;TZID=America/Chicago:20250816T120000
DTSTAMP:20260423T063447
CREATED:20250130T235928Z
LAST-MODIFIED:20250130T235928Z
UID:10003328-1755334800-1755345600@lopbc.org
SUMMARY:Men's Work Day
DESCRIPTION:
URL:https://lopbc.org/church_event/mens-work-day/2025-08-16/
CATEGORIES:Men's Ministry
END:VEVENT
BEGIN:VEVENT
DTSTART;TZID=America/Chicago:20250816T120000
DTEND;TZID=America/Chicago:20250816T123000
DTSTAMP:20260423T063447
CREATED:20250131T011637Z
LAST-MODIFIED:20250131T184455Z
UID:10003779-1755345600-1755347400@lopbc.org
SUMMARY:Youth Outing
DESCRIPTION:
URL:https://lopbc.org/church_event/youth-outing/2025-08-16/
CATEGORIES:Church-wide,Youth Ministry
END:VEVENT
END:VCALENDAR