BEGIN:VCALENDAR
VERSION:2.0
PRODID:-//Lake O&#039; The Pines Baptist Church - ECPv6.15.20//NONSGML v1.0//EN
CALSCALE:GREGORIAN
METHOD:PUBLISH
X-ORIGINAL-URL:https://lopbc.org
X-WR-CALDESC:Events for Lake O&#039; The Pines Baptist Church
REFRESH-INTERVAL;VALUE=DURATION:PT1H
X-Robots-Tag:noindex
X-PUBLISHED-TTL:PT1H
BEGIN:VTIMEZONE
TZID:America/Chicago
BEGIN:DAYLIGHT
TZOFFSETFROM:-0600
TZOFFSETTO:-0500
TZNAME:CDT
DTSTART:20250309T080000
END:DAYLIGHT
BEGIN:STANDARD
TZOFFSETFROM:-0500
TZOFFSETTO:-0600
TZNAME:CST
DTSTART:20251102T070000
END:STANDARD
BEGIN:DAYLIGHT
TZOFFSETFROM:-0600
TZOFFSETTO:-0500
TZNAME:CDT
DTSTART:20260308T080000
END:DAYLIGHT
BEGIN:STANDARD
TZOFFSETFROM:-0500
TZOFFSETTO:-0600
TZNAME:CST
DTSTART:20261101T070000
END:STANDARD
BEGIN:DAYLIGHT
TZOFFSETFROM:-0600
TZOFFSETTO:-0500
TZNAME:CDT
DTSTART:20270314T080000
END:DAYLIGHT
BEGIN:STANDARD
TZOFFSETFROM:-0500
TZOFFSETTO:-0600
TZNAME:CST
DTSTART:20271107T070000
END:STANDARD
END:VTIMEZONE
BEGIN:VEVENT
DTSTART;TZID=America/Chicago:20261108T080000
DTEND;TZID=America/Chicago:20261108T120000
DTSTAMP:20260423T063453
CREATED:20260222T210620Z
LAST-MODIFIED:20260222T210620Z
UID:10004401-1794124800-1794139200@lopbc.org
SUMMARY:VBS 2026
DESCRIPTION:
URL:https://lopbc.org/church_event/vbs-2026/2026-11-08/
CATEGORIES:Children's Ministry
END:VEVENT
BEGIN:VEVENT
DTSTART;TZID=America/Chicago:20261108T093000
DTEND;TZID=America/Chicago:20261108T104500
DTSTAMP:20260423T063453
CREATED:20250130T213312Z
LAST-MODIFIED:20250131T005604Z
UID:10002036-1794130200-1794134700@lopbc.org
SUMMARY:Sunday AM Sunday School
DESCRIPTION:
URL:https://lopbc.org/church_event/sunday-am-sunday-school-2/2026-11-08/
LOCATION:Classrooms\, 9046 FM729\, Avinger\, TX\, 75630\, United States
CATEGORIES:Church-wide,Community,Sunday School
END:VEVENT
BEGIN:VEVENT
DTSTART;TZID=America/Chicago:20261108T110000
DTEND;TZID=America/Chicago:20261108T123000
DTSTAMP:20260423T063453
CREATED:20250130T213205Z
LAST-MODIFIED:20250131T161102Z
UID:10001770-1794135600-1794141000@lopbc.org
SUMMARY:Sunday AM Worship
DESCRIPTION:
URL:https://lopbc.org/church_event/sunday-am-worship/2026-11-08/
LOCATION:Sanctuary\, 9046 FM729\, Avinger\, TX\, 75630\, United States
CATEGORIES:Church-wide,Community,Worship
END:VEVENT
BEGIN:VEVENT
DTSTART;TZID=America/Chicago:20261108T160000
DTEND;TZID=America/Chicago:20261108T170000
DTSTAMP:20260423T063453
CREATED:20260222T213435Z
LAST-MODIFIED:20260222T213435Z
UID:10004650-1794153600-1794157200@lopbc.org
SUMMARY:Christmas Play Rehearsal
DESCRIPTION:
URL:https://lopbc.org/church_event/christmas-play-rehearsal/2026-11-08/
CATEGORIES:Children's Ministry
END:VEVENT
BEGIN:VEVENT
DTSTART;TZID=America/Chicago:20261108T180000
DTEND;TZID=America/Chicago:20261108T190000
DTSTAMP:20260423T063453
CREATED:20250130T213902Z
LAST-MODIFIED:20260222T210931Z
UID:10002305-1794160800-1794164400@lopbc.org
SUMMARY:Sunday Evening Worship
DESCRIPTION:
URL:https://lopbc.org/church_event/sunday-evening-worship/2026-11-08/
LOCATION:Sanctuary\, 9046 FM729\, Avinger\, TX\, 75630\, United States
CATEGORIES:Church-wide,Community,Worship
END:VEVENT
BEGIN:VEVENT
DTSTART;TZID=America/Chicago:20261109T080000
DTEND;TZID=America/Chicago:20261109T120000
DTSTAMP:20260423T063453
CREATED:20260222T210620Z
LAST-MODIFIED:20260222T210620Z
UID:10004402-1794211200-1794225600@lopbc.org
SUMMARY:VBS 2026
DESCRIPTION:
URL:https://lopbc.org/church_event/vbs-2026/2026-11-09/
CATEGORIES:Children's Ministry
END:VEVENT
BEGIN:VEVENT
DTSTART;TZID=America/Chicago:20261109T180000
DTEND;TZID=America/Chicago:20261109T200000
DTSTAMP:20260423T063453
CREATED:20260222T192605Z
LAST-MODIFIED:20260222T194758Z
UID:10003918-1794247200-1794254400@lopbc.org
SUMMARY:Women of Worship (WoW) Bible Study
DESCRIPTION:
URL:https://lopbc.org/church_event/women-of-worship-wow-bible-study-2/2026-11-09/
LOCATION:Fellowship Hall\, 9046 FM729\, Avinger\, TX\, 75630
CATEGORIES:Community,Women's Ministry
END:VEVENT
BEGIN:VEVENT
DTSTART;TZID=America/Chicago:20261110T080000
DTEND;TZID=America/Chicago:20261110T120000
DTSTAMP:20260423T063453
CREATED:20260222T210620Z
LAST-MODIFIED:20260222T210620Z
UID:10004403-1794297600-1794312000@lopbc.org
SUMMARY:VBS 2026
DESCRIPTION:
URL:https://lopbc.org/church_event/vbs-2026/2026-11-10/
CATEGORIES:Children's Ministry
END:VEVENT
BEGIN:VEVENT
DTSTART;TZID=America/Chicago:20261111T080000
DTEND;TZID=America/Chicago:20261111T120000
DTSTAMP:20260423T063453
CREATED:20260222T210620Z
LAST-MODIFIED:20260222T210620Z
UID:10004404-1794384000-1794398400@lopbc.org
SUMMARY:VBS 2026
DESCRIPTION:
URL:https://lopbc.org/church_event/vbs-2026/2026-11-11/
CATEGORIES:Children's Ministry
END:VEVENT
BEGIN:VEVENT
DTSTART;TZID=America/Chicago:20261111T180000
DTEND;TZID=America/Chicago:20261111T183000
DTSTAMP:20260423T063453
CREATED:20250130T214435Z
LAST-MODIFIED:20260222T204211Z
UID:10002836-1794420000-1794421800@lopbc.org
SUMMARY:Family Night Meal
DESCRIPTION:
URL:https://lopbc.org/church_event/family-night-meal/2026-11-11/
LOCATION:Fellowship Hall\, 9046 FM729\, Avinger\, TX\, 75630
CATEGORIES:Church-wide,Community
END:VEVENT
BEGIN:VEVENT
DTSTART;TZID=America/Chicago:20261111T183000
DTEND;TZID=America/Chicago:20261111T193000
DTSTAMP:20260423T063453
CREATED:20250130T214249Z
LAST-MODIFIED:20260222T200208Z
UID:10002570-1794421800-1794425400@lopbc.org
SUMMARY:Family Night Worship
DESCRIPTION:
URL:https://lopbc.org/church_event/wednesday-night-worship/2026-11-11/
LOCATION:Sanctuary\, 9046 FM729\, Avinger\, TX\, 75630\, United States
CATEGORIES:Church-wide,Community,Worship
END:VEVENT
BEGIN:VEVENT
DTSTART;TZID=America/Chicago:20261112T080000
DTEND;TZID=America/Chicago:20261112T120000
DTSTAMP:20260423T063453
CREATED:20260222T210620Z
LAST-MODIFIED:20260222T210620Z
UID:10004405-1794470400-1794484800@lopbc.org
SUMMARY:VBS 2026
DESCRIPTION:
URL:https://lopbc.org/church_event/vbs-2026/2026-11-12/
CATEGORIES:Children's Ministry
END:VEVENT
BEGIN:VEVENT
DTSTART;TZID=America/Chicago:20261113T080000
DTEND;TZID=America/Chicago:20261113T120000
DTSTAMP:20260423T063453
CREATED:20260222T210620Z
LAST-MODIFIED:20260222T210620Z
UID:10004406-1794556800-1794571200@lopbc.org
SUMMARY:VBS 2026
DESCRIPTION:
URL:https://lopbc.org/church_event/vbs-2026/2026-11-13/
CATEGORIES:Children's Ministry
END:VEVENT
BEGIN:VEVENT
DTSTART;TZID=America/Chicago:20261114T080000
DTEND;TZID=America/Chicago:20261114T120000
DTSTAMP:20260423T063453
CREATED:20260222T210620Z
LAST-MODIFIED:20260222T210620Z
UID:10004407-1794643200-1794657600@lopbc.org
SUMMARY:VBS 2026
DESCRIPTION:
URL:https://lopbc.org/church_event/vbs-2026/2026-11-14/
CATEGORIES:Children's Ministry
END:VEVENT
BEGIN:VEVENT
DTSTART;TZID=America/Chicago:20261115T080000
DTEND;TZID=America/Chicago:20261115T120000
DTSTAMP:20260423T063453
CREATED:20260222T210620Z
LAST-MODIFIED:20260222T210620Z
UID:10004408-1794729600-1794744000@lopbc.org
SUMMARY:VBS 2026
DESCRIPTION:
URL:https://lopbc.org/church_event/vbs-2026/2026-11-15/
CATEGORIES:Children's Ministry
END:VEVENT
BEGIN:VEVENT
DTSTART;TZID=America/Chicago:20261115T093000
DTEND;TZID=America/Chicago:20261115T104500
DTSTAMP:20260423T063453
CREATED:20250130T213312Z
LAST-MODIFIED:20250131T005604Z
UID:10002037-1794735000-1794739500@lopbc.org
SUMMARY:Sunday AM Sunday School
DESCRIPTION:
URL:https://lopbc.org/church_event/sunday-am-sunday-school-2/2026-11-15/
LOCATION:Classrooms\, 9046 FM729\, Avinger\, TX\, 75630\, United States
CATEGORIES:Church-wide,Community,Sunday School
END:VEVENT
BEGIN:VEVENT
DTSTART;TZID=America/Chicago:20261115T110000
DTEND;TZID=America/Chicago:20261115T123000
DTSTAMP:20260423T063453
CREATED:20250130T213205Z
LAST-MODIFIED:20250131T161102Z
UID:10001771-1794740400-1794745800@lopbc.org
SUMMARY:Sunday AM Worship
DESCRIPTION:
URL:https://lopbc.org/church_event/sunday-am-worship/2026-11-15/
LOCATION:Sanctuary\, 9046 FM729\, Avinger\, TX\, 75630\, United States
CATEGORIES:Church-wide,Community,Worship
END:VEVENT
BEGIN:VEVENT
DTSTART;TZID=America/Chicago:20261115T120000
DTEND;TZID=America/Chicago:20261115T130000
DTSTAMP:20260423T063453
CREATED:20260222T213920Z
LAST-MODIFIED:20260222T213920Z
UID:10004660-1794744000-1794747600@lopbc.org
SUMMARY:Church-wide Thanksgiving Lunch
DESCRIPTION:
URL:https://lopbc.org/church_event/church-wide-thanksgiving-lunch/
LOCATION:Fellowship Hall\, 9046 FM729\, Avinger\, TX\, 75630
CATEGORIES:Church-wide
END:VEVENT
BEGIN:VEVENT
DTSTART;TZID=America/Chicago:20261115T160000
DTEND;TZID=America/Chicago:20261115T170000
DTSTAMP:20260423T063453
CREATED:20260222T213435Z
LAST-MODIFIED:20260222T213435Z
UID:10004651-1794758400-1794762000@lopbc.org
SUMMARY:Christmas Play Rehearsal
DESCRIPTION:
URL:https://lopbc.org/church_event/christmas-play-rehearsal/2026-11-15/
CATEGORIES:Children's Ministry
END:VEVENT
BEGIN:VEVENT
DTSTART;TZID=America/Chicago:20261115T180000
DTEND;TZID=America/Chicago:20261115T190000
DTSTAMP:20260423T063453
CREATED:20250130T213902Z
LAST-MODIFIED:20260222T210931Z
UID:10002306-1794765600-1794769200@lopbc.org
SUMMARY:Sunday Evening Worship
DESCRIPTION:
URL:https://lopbc.org/church_event/sunday-evening-worship/2026-11-15/
LOCATION:Sanctuary\, 9046 FM729\, Avinger\, TX\, 75630\, United States
CATEGORIES:Church-wide,Community,Worship
END:VEVENT
BEGIN:VEVENT
DTSTART;TZID=America/Chicago:20261116T080000
DTEND;TZID=America/Chicago:20261116T120000
DTSTAMP:20260423T063453
CREATED:20260222T210620Z
LAST-MODIFIED:20260222T210620Z
UID:10004409-1794816000-1794830400@lopbc.org
SUMMARY:VBS 2026
DESCRIPTION:
URL:https://lopbc.org/church_event/vbs-2026/2026-11-16/
CATEGORIES:Children's Ministry
END:VEVENT
BEGIN:VEVENT
DTSTART;TZID=America/Chicago:20261117T080000
DTEND;TZID=America/Chicago:20261117T120000
DTSTAMP:20260423T063453
CREATED:20260222T210620Z
LAST-MODIFIED:20260222T210620Z
UID:10004410-1794902400-1794916800@lopbc.org
SUMMARY:VBS 2026
DESCRIPTION:
URL:https://lopbc.org/church_event/vbs-2026/2026-11-17/
CATEGORIES:Children's Ministry
END:VEVENT
BEGIN:VEVENT
DTSTART;TZID=America/Chicago:20261117T173000
DTEND;TZID=America/Chicago:20261117T203000
DTSTAMP:20260423T063453
CREATED:20260222T201217Z
LAST-MODIFIED:20260222T201217Z
UID:10004111-1794936600-1794947400@lopbc.org
SUMMARY:Praying Hearts and Hands
DESCRIPTION:
URL:https://lopbc.org/church_event/praying-hearts-and-hands-2/2026-11-17/
CATEGORIES:Praying Hearts and Hands
END:VEVENT
BEGIN:VEVENT
DTSTART;TZID=America/Chicago:20261118T080000
DTEND;TZID=America/Chicago:20261118T120000
DTSTAMP:20260423T063453
CREATED:20260222T210620Z
LAST-MODIFIED:20260222T210620Z
UID:10004411-1794988800-1795003200@lopbc.org
SUMMARY:VBS 2026
DESCRIPTION:
URL:https://lopbc.org/church_event/vbs-2026/2026-11-18/
CATEGORIES:Children's Ministry
END:VEVENT
BEGIN:VEVENT
DTSTART;TZID=America/Chicago:20261118T180000
DTEND;TZID=America/Chicago:20261118T183000
DTSTAMP:20260423T063453
CREATED:20250130T214435Z
LAST-MODIFIED:20260222T204211Z
UID:10002837-1795024800-1795026600@lopbc.org
SUMMARY:Family Night Meal
DESCRIPTION:
URL:https://lopbc.org/church_event/family-night-meal/2026-11-18/
LOCATION:Fellowship Hall\, 9046 FM729\, Avinger\, TX\, 75630
CATEGORIES:Church-wide,Community
END:VEVENT
BEGIN:VEVENT
DTSTART;TZID=America/Chicago:20261118T183000
DTEND;TZID=America/Chicago:20261118T193000
DTSTAMP:20260423T063453
CREATED:20250130T214249Z
LAST-MODIFIED:20260222T200208Z
UID:10002571-1795026600-1795030200@lopbc.org
SUMMARY:Family Night Worship
DESCRIPTION:
URL:https://lopbc.org/church_event/wednesday-night-worship/2026-11-18/
LOCATION:Sanctuary\, 9046 FM729\, Avinger\, TX\, 75630\, United States
CATEGORIES:Church-wide,Community,Worship
END:VEVENT
BEGIN:VEVENT
DTSTART;TZID=America/Chicago:20261119T080000
DTEND;TZID=America/Chicago:20261119T120000
DTSTAMP:20260423T063453
CREATED:20260222T210620Z
LAST-MODIFIED:20260222T210620Z
UID:10004412-1795075200-1795089600@lopbc.org
SUMMARY:VBS 2026
DESCRIPTION:
URL:https://lopbc.org/church_event/vbs-2026/2026-11-19/
CATEGORIES:Children's Ministry
END:VEVENT
BEGIN:VEVENT
DTSTART;TZID=America/Chicago:20261120T080000
DTEND;TZID=America/Chicago:20261120T120000
DTSTAMP:20260423T063453
CREATED:20260222T210620Z
LAST-MODIFIED:20260222T210620Z
UID:10004413-1795161600-1795176000@lopbc.org
SUMMARY:VBS 2026
DESCRIPTION:
URL:https://lopbc.org/church_event/vbs-2026/2026-11-20/
CATEGORIES:Children's Ministry
END:VEVENT
BEGIN:VEVENT
DTSTART;TZID=America/Chicago:20261121T080000
DTEND;TZID=America/Chicago:20261121T090000
DTSTAMP:20260423T063453
CREATED:20240225T221030Z
LAST-MODIFIED:20250130T231350Z
UID:10000161-1795248000-1795251600@lopbc.org
SUMMARY:Men's Breakfast
DESCRIPTION:Fellowship with men every third Saturday at 8:00AM. Enjoy a manly feast of bacon\, eggs\, sausage\, biscuits and gravy and more!
URL:https://lopbc.org/church_event/mens-breakfast/2026-11-21/
LOCATION:Fellowship Hall\, 9046 FM729\, Avinger\, TX\, 75630
CATEGORIES:Men's Ministry
ATTACH;FMTTYPE=image/jpeg:https://lopbc.org/wp-content/uploads/2024/02/pexels-athena-2961957-scaled.jpg
END:VEVENT
BEGIN:VEVENT
DTSTART;TZID=America/Chicago:20261121T080000
DTEND;TZID=America/Chicago:20261121T090000
DTSTAMP:20260423T063453
CREATED:20240225T222018Z
LAST-MODIFIED:20250130T231441Z
UID:10000221-1795248000-1795251600@lopbc.org
SUMMARY:Women's Breakfast
DESCRIPTION:
URL:https://lopbc.org/church_event/womenss-breakfast/2026-11-21/
LOCATION:The Lakehouse Cafe\, 8883 FM729\, Avinger\, TX\, 75630
CATEGORIES:Women's Ministry
ATTACH;FMTTYPE=image/png:https://lopbc.org/wp-content/uploads/2024/02/women-bfast.png
END:VEVENT
END:VCALENDAR