BEGIN:VCALENDAR
VERSION:2.0
PRODID:-//Lake O&#039; The Pines Baptist Church - ECPv6.15.20//NONSGML v1.0//EN
CALSCALE:GREGORIAN
METHOD:PUBLISH
X-ORIGINAL-URL:https://lopbc.org
X-WR-CALDESC:Events for Lake O&#039; The Pines Baptist Church
REFRESH-INTERVAL;VALUE=DURATION:PT1H
X-Robots-Tag:noindex
X-PUBLISHED-TTL:PT1H
BEGIN:VTIMEZONE
TZID:America/Chicago
BEGIN:DAYLIGHT
TZOFFSETFROM:-0600
TZOFFSETTO:-0500
TZNAME:CDT
DTSTART:20260308T080000
END:DAYLIGHT
BEGIN:STANDARD
TZOFFSETFROM:-0500
TZOFFSETTO:-0600
TZNAME:CST
DTSTART:20261101T070000
END:STANDARD
BEGIN:DAYLIGHT
TZOFFSETFROM:-0600
TZOFFSETTO:-0500
TZNAME:CDT
DTSTART:20270314T080000
END:DAYLIGHT
BEGIN:STANDARD
TZOFFSETFROM:-0500
TZOFFSETTO:-0600
TZNAME:CST
DTSTART:20271107T070000
END:STANDARD
BEGIN:DAYLIGHT
TZOFFSETFROM:-0600
TZOFFSETTO:-0500
TZNAME:CDT
DTSTART:20280312T080000
END:DAYLIGHT
BEGIN:STANDARD
TZOFFSETFROM:-0500
TZOFFSETTO:-0600
TZNAME:CST
DTSTART:20281105T070000
END:STANDARD
END:VTIMEZONE
BEGIN:VEVENT
DTSTART;TZID=America/Chicago:20270517T080000
DTEND;TZID=America/Chicago:20270517T120000
DTSTAMP:20260423T185323
CREATED:20260222T210620Z
LAST-MODIFIED:20260222T210620Z
UID:10004591-1810540800-1810555200@lopbc.org
SUMMARY:VBS 2026
DESCRIPTION:
URL:https://lopbc.org/church_event/vbs-2026/2027-05-17/
CATEGORIES:Children's Ministry
END:VEVENT
BEGIN:VEVENT
DTSTART;TZID=America/Chicago:20270518T080000
DTEND;TZID=America/Chicago:20270518T120000
DTSTAMP:20260423T185323
CREATED:20260222T210620Z
LAST-MODIFIED:20260222T210620Z
UID:10004592-1810627200-1810641600@lopbc.org
SUMMARY:VBS 2026
DESCRIPTION:
URL:https://lopbc.org/church_event/vbs-2026/2027-05-18/
CATEGORIES:Children's Ministry
END:VEVENT
BEGIN:VEVENT
DTSTART;TZID=America/Chicago:20270518T173000
DTEND;TZID=America/Chicago:20270518T203000
DTSTAMP:20260423T185323
CREATED:20260222T201217Z
LAST-MODIFIED:20260222T201217Z
UID:10004117-1810661400-1810672200@lopbc.org
SUMMARY:Praying Hearts and Hands
DESCRIPTION:
URL:https://lopbc.org/church_event/praying-hearts-and-hands-2/2027-05-18/
CATEGORIES:Praying Hearts and Hands
END:VEVENT
BEGIN:VEVENT
DTSTART;TZID=America/Chicago:20270519T080000
DTEND;TZID=America/Chicago:20270519T120000
DTSTAMP:20260423T185323
CREATED:20260222T210620Z
LAST-MODIFIED:20260222T210620Z
UID:10004593-1810713600-1810728000@lopbc.org
SUMMARY:VBS 2026
DESCRIPTION:
URL:https://lopbc.org/church_event/vbs-2026/2027-05-19/
CATEGORIES:Children's Ministry
END:VEVENT
BEGIN:VEVENT
DTSTART;TZID=America/Chicago:20270519T180000
DTEND;TZID=America/Chicago:20270519T183000
DTSTAMP:20260423T185323
CREATED:20250130T214435Z
LAST-MODIFIED:20260222T204211Z
UID:10002863-1810749600-1810751400@lopbc.org
SUMMARY:Family Night Meal
DESCRIPTION:
URL:https://lopbc.org/church_event/family-night-meal/2027-05-19/
LOCATION:Fellowship Hall\, 9046 FM729\, Avinger\, TX\, 75630
CATEGORIES:Church-wide,Community
END:VEVENT
BEGIN:VEVENT
DTSTART;TZID=America/Chicago:20270519T183000
DTEND;TZID=America/Chicago:20270519T193000
DTSTAMP:20260423T185323
CREATED:20250130T214249Z
LAST-MODIFIED:20260222T200208Z
UID:10002597-1810751400-1810755000@lopbc.org
SUMMARY:Family Night Worship
DESCRIPTION:
URL:https://lopbc.org/church_event/wednesday-night-worship/2027-05-19/
LOCATION:Sanctuary\, 9046 FM729\, Avinger\, TX\, 75630\, United States
CATEGORIES:Church-wide,Community,Worship
END:VEVENT
BEGIN:VEVENT
DTSTART;TZID=America/Chicago:20270520T080000
DTEND;TZID=America/Chicago:20270520T120000
DTSTAMP:20260423T185323
CREATED:20260222T210620Z
LAST-MODIFIED:20260222T210620Z
UID:10004594-1810800000-1810814400@lopbc.org
SUMMARY:VBS 2026
DESCRIPTION:
URL:https://lopbc.org/church_event/vbs-2026/2027-05-20/
CATEGORIES:Children's Ministry
END:VEVENT
BEGIN:VEVENT
DTSTART;TZID=America/Chicago:20270521T080000
DTEND;TZID=America/Chicago:20270521T120000
DTSTAMP:20260423T185323
CREATED:20260222T210620Z
LAST-MODIFIED:20260222T210620Z
UID:10004595-1810886400-1810900800@lopbc.org
SUMMARY:VBS 2026
DESCRIPTION:
URL:https://lopbc.org/church_event/vbs-2026/2027-05-21/
CATEGORIES:Children's Ministry
END:VEVENT
BEGIN:VEVENT
DTSTART;TZID=America/Chicago:20270522T080000
DTEND;TZID=America/Chicago:20270522T120000
DTSTAMP:20260423T185323
CREATED:20260222T210620Z
LAST-MODIFIED:20260222T210620Z
UID:10004596-1810972800-1810987200@lopbc.org
SUMMARY:VBS 2026
DESCRIPTION:
URL:https://lopbc.org/church_event/vbs-2026/2027-05-22/
CATEGORIES:Children's Ministry
END:VEVENT
BEGIN:VEVENT
DTSTART;TZID=America/Chicago:20270523T080000
DTEND;TZID=America/Chicago:20270523T120000
DTSTAMP:20260423T185323
CREATED:20260222T210620Z
LAST-MODIFIED:20260222T210620Z
UID:10004597-1811059200-1811073600@lopbc.org
SUMMARY:VBS 2026
DESCRIPTION:
URL:https://lopbc.org/church_event/vbs-2026/2027-05-23/
CATEGORIES:Children's Ministry
END:VEVENT
BEGIN:VEVENT
DTSTART;TZID=America/Chicago:20270523T093000
DTEND;TZID=America/Chicago:20270523T104500
DTSTAMP:20260423T185323
CREATED:20250130T213312Z
LAST-MODIFIED:20250131T005604Z
UID:10002064-1811064600-1811069100@lopbc.org
SUMMARY:Sunday AM Sunday School
DESCRIPTION:
URL:https://lopbc.org/church_event/sunday-am-sunday-school-2/2027-05-23/
LOCATION:Classrooms\, 9046 FM729\, Avinger\, TX\, 75630\, United States
CATEGORIES:Church-wide,Community,Sunday School
END:VEVENT
BEGIN:VEVENT
DTSTART;TZID=America/Chicago:20270523T110000
DTEND;TZID=America/Chicago:20270523T123000
DTSTAMP:20260423T185323
CREATED:20250130T213205Z
LAST-MODIFIED:20250131T161102Z
UID:10001798-1811070000-1811075400@lopbc.org
SUMMARY:Sunday AM Worship
DESCRIPTION:
URL:https://lopbc.org/church_event/sunday-am-worship/2027-05-23/
LOCATION:Sanctuary\, 9046 FM729\, Avinger\, TX\, 75630\, United States
CATEGORIES:Church-wide,Community,Worship
END:VEVENT
BEGIN:VEVENT
DTSTART;TZID=America/Chicago:20270523T180000
DTEND;TZID=America/Chicago:20270523T190000
DTSTAMP:20260423T185323
CREATED:20250130T213902Z
LAST-MODIFIED:20260222T210931Z
UID:10002333-1811095200-1811098800@lopbc.org
SUMMARY:Sunday Evening Worship
DESCRIPTION:
URL:https://lopbc.org/church_event/sunday-evening-worship/2027-05-23/
LOCATION:Sanctuary\, 9046 FM729\, Avinger\, TX\, 75630\, United States
CATEGORIES:Church-wide,Community,Worship
END:VEVENT
BEGIN:VEVENT
DTSTART;TZID=America/Chicago:20270524T080000
DTEND;TZID=America/Chicago:20270524T120000
DTSTAMP:20260423T185323
CREATED:20260222T210620Z
LAST-MODIFIED:20260222T210620Z
UID:10004598-1811145600-1811160000@lopbc.org
SUMMARY:VBS 2026
DESCRIPTION:
URL:https://lopbc.org/church_event/vbs-2026/2027-05-24/
CATEGORIES:Children's Ministry
END:VEVENT
BEGIN:VEVENT
DTSTART;TZID=America/Chicago:20270525T080000
DTEND;TZID=America/Chicago:20270525T120000
DTSTAMP:20260423T185323
CREATED:20260222T210620Z
LAST-MODIFIED:20260222T210620Z
UID:10004599-1811232000-1811246400@lopbc.org
SUMMARY:VBS 2026
DESCRIPTION:
URL:https://lopbc.org/church_event/vbs-2026/2027-05-25/
CATEGORIES:Children's Ministry
END:VEVENT
BEGIN:VEVENT
DTSTART;TZID=America/Chicago:20270526T080000
DTEND;TZID=America/Chicago:20270526T120000
DTSTAMP:20260423T185323
CREATED:20260222T210620Z
LAST-MODIFIED:20260222T210620Z
UID:10004600-1811318400-1811332800@lopbc.org
SUMMARY:VBS 2026
DESCRIPTION:
URL:https://lopbc.org/church_event/vbs-2026/2027-05-26/
CATEGORIES:Children's Ministry
END:VEVENT
BEGIN:VEVENT
DTSTART;TZID=America/Chicago:20270526T180000
DTEND;TZID=America/Chicago:20270526T183000
DTSTAMP:20260423T185323
CREATED:20250130T214435Z
LAST-MODIFIED:20260222T204211Z
UID:10002864-1811354400-1811356200@lopbc.org
SUMMARY:Family Night Meal
DESCRIPTION:
URL:https://lopbc.org/church_event/family-night-meal/2027-05-26/
LOCATION:Fellowship Hall\, 9046 FM729\, Avinger\, TX\, 75630
CATEGORIES:Church-wide,Community
END:VEVENT
BEGIN:VEVENT
DTSTART;TZID=America/Chicago:20270526T183000
DTEND;TZID=America/Chicago:20270526T193000
DTSTAMP:20260423T185323
CREATED:20250130T214249Z
LAST-MODIFIED:20260222T200208Z
UID:10002598-1811356200-1811359800@lopbc.org
SUMMARY:Family Night Worship
DESCRIPTION:
URL:https://lopbc.org/church_event/wednesday-night-worship/2027-05-26/
LOCATION:Sanctuary\, 9046 FM729\, Avinger\, TX\, 75630\, United States
CATEGORIES:Church-wide,Community,Worship
END:VEVENT
BEGIN:VEVENT
DTSTART;TZID=America/Chicago:20270527T080000
DTEND;TZID=America/Chicago:20270527T120000
DTSTAMP:20260423T185323
CREATED:20260222T210620Z
LAST-MODIFIED:20260222T210620Z
UID:10004601-1811404800-1811419200@lopbc.org
SUMMARY:VBS 2026
DESCRIPTION:
URL:https://lopbc.org/church_event/vbs-2026/2027-05-27/
CATEGORIES:Children's Ministry
END:VEVENT
BEGIN:VEVENT
DTSTART;TZID=America/Chicago:20270528T080000
DTEND;TZID=America/Chicago:20270528T120000
DTSTAMP:20260423T185323
CREATED:20260222T210620Z
LAST-MODIFIED:20260222T210620Z
UID:10004602-1811491200-1811505600@lopbc.org
SUMMARY:VBS 2026
DESCRIPTION:
URL:https://lopbc.org/church_event/vbs-2026/2027-05-28/
CATEGORIES:Children's Ministry
END:VEVENT
BEGIN:VEVENT
DTSTART;TZID=America/Chicago:20270529T080000
DTEND;TZID=America/Chicago:20270529T120000
DTSTAMP:20260423T185323
CREATED:20260222T210620Z
LAST-MODIFIED:20260222T210620Z
UID:10004603-1811577600-1811592000@lopbc.org
SUMMARY:VBS 2026
DESCRIPTION:
URL:https://lopbc.org/church_event/vbs-2026/2027-05-29/
CATEGORIES:Children's Ministry
END:VEVENT
BEGIN:VEVENT
DTSTART;TZID=America/Chicago:20270530T080000
DTEND;TZID=America/Chicago:20270530T120000
DTSTAMP:20260423T185323
CREATED:20260222T210620Z
LAST-MODIFIED:20260222T210620Z
UID:10004604-1811664000-1811678400@lopbc.org
SUMMARY:VBS 2026
DESCRIPTION:
URL:https://lopbc.org/church_event/vbs-2026/2027-05-30/
CATEGORIES:Children's Ministry
END:VEVENT
BEGIN:VEVENT
DTSTART;TZID=America/Chicago:20270530T093000
DTEND;TZID=America/Chicago:20270530T104500
DTSTAMP:20260423T185323
CREATED:20250130T213312Z
LAST-MODIFIED:20250131T005604Z
UID:10002065-1811669400-1811673900@lopbc.org
SUMMARY:Sunday AM Sunday School
DESCRIPTION:
URL:https://lopbc.org/church_event/sunday-am-sunday-school-2/2027-05-30/
LOCATION:Classrooms\, 9046 FM729\, Avinger\, TX\, 75630\, United States
CATEGORIES:Church-wide,Community,Sunday School
END:VEVENT
BEGIN:VEVENT
DTSTART;TZID=America/Chicago:20270530T110000
DTEND;TZID=America/Chicago:20270530T123000
DTSTAMP:20260423T185323
CREATED:20250130T213205Z
LAST-MODIFIED:20250131T161102Z
UID:10001799-1811674800-1811680200@lopbc.org
SUMMARY:Sunday AM Worship
DESCRIPTION:
URL:https://lopbc.org/church_event/sunday-am-worship/2027-05-30/
LOCATION:Sanctuary\, 9046 FM729\, Avinger\, TX\, 75630\, United States
CATEGORIES:Church-wide,Community,Worship
END:VEVENT
BEGIN:VEVENT
DTSTART;TZID=America/Chicago:20270530T180000
DTEND;TZID=America/Chicago:20270530T190000
DTSTAMP:20260423T185324
CREATED:20250130T213902Z
LAST-MODIFIED:20260222T210931Z
UID:10002334-1811700000-1811703600@lopbc.org
SUMMARY:Sunday Evening Worship
DESCRIPTION:
URL:https://lopbc.org/church_event/sunday-evening-worship/2027-05-30/
LOCATION:Sanctuary\, 9046 FM729\, Avinger\, TX\, 75630\, United States
CATEGORIES:Church-wide,Community,Worship
END:VEVENT
BEGIN:VEVENT
DTSTART;TZID=America/Chicago:20270531T080000
DTEND;TZID=America/Chicago:20270531T120000
DTSTAMP:20260423T185324
CREATED:20260222T210620Z
LAST-MODIFIED:20260222T210620Z
UID:10004605-1811750400-1811764800@lopbc.org
SUMMARY:VBS 2026
DESCRIPTION:
URL:https://lopbc.org/church_event/vbs-2026/2027-05-31/
CATEGORIES:Children's Ministry
END:VEVENT
BEGIN:VEVENT
DTSTART;TZID=America/Chicago:20270601T080000
DTEND;TZID=America/Chicago:20270601T120000
DTSTAMP:20260423T185324
CREATED:20260222T210620Z
LAST-MODIFIED:20260222T210620Z
UID:10004606-1811836800-1811851200@lopbc.org
SUMMARY:VBS 2026
DESCRIPTION:
URL:https://lopbc.org/church_event/vbs-2026/2027-06-01/
CATEGORIES:Children's Ministry
END:VEVENT
BEGIN:VEVENT
DTSTART;TZID=America/Chicago:20270601T173000
DTEND;TZID=America/Chicago:20270601T183000
DTSTAMP:20260423T185324
CREATED:20250130T211824Z
LAST-MODIFIED:20250130T211824Z
UID:10001377-1811871000-1811874600@lopbc.org
SUMMARY:Deacon Meeting
DESCRIPTION:
URL:https://lopbc.org/church_event/deacon-meeting-2/2027-06-01/
CATEGORIES:Deacon
END:VEVENT
BEGIN:VEVENT
DTSTART;TZID=America/Chicago:20270601T173000
DTEND;TZID=America/Chicago:20270601T193000
DTSTAMP:20260423T185324
CREATED:20260222T201048Z
LAST-MODIFIED:20260222T201048Z
UID:10004058-1811871000-1811878200@lopbc.org
SUMMARY:Praying Hearts and Hands
DESCRIPTION:
URL:https://lopbc.org/church_event/praying-hearts-and-hands/2027-06-01/
END:VEVENT
BEGIN:VEVENT
DTSTART;TZID=America/Chicago:20270601T183000
DTEND;TZID=America/Chicago:20270601T193000
DTSTAMP:20260423T185324
CREATED:20240925T131838Z
LAST-MODIFIED:20240925T133039Z
UID:10001228-1811874600-1811878200@lopbc.org
SUMMARY:Man Camp
DESCRIPTION:Come enjoy a meat-filled meal and fellowship with the men of the church. Occurs every 1st Tuesday.
URL:https://lopbc.org/church_event/man-camp/2027-06-01/
LOCATION:Fellowship Hall\, 9046 FM729\, Avinger\, TX\, 75630
CATEGORIES:Community,Men's Ministry
END:VEVENT
END:VCALENDAR