BEGIN:VCALENDAR
VERSION:2.0
PRODID:-//Lake O&#039; The Pines Baptist Church - ECPv6.15.20//NONSGML v1.0//EN
CALSCALE:GREGORIAN
METHOD:PUBLISH
X-ORIGINAL-URL:https://lopbc.org
X-WR-CALDESC:Events for Lake O&#039; The Pines Baptist Church
REFRESH-INTERVAL;VALUE=DURATION:PT1H
X-Robots-Tag:noindex
X-PUBLISHED-TTL:PT1H
BEGIN:VTIMEZONE
TZID:America/Chicago
BEGIN:DAYLIGHT
TZOFFSETFROM:-0600
TZOFFSETTO:-0500
TZNAME:CDT
DTSTART:20260308T080000
END:DAYLIGHT
BEGIN:STANDARD
TZOFFSETFROM:-0500
TZOFFSETTO:-0600
TZNAME:CST
DTSTART:20261101T070000
END:STANDARD
BEGIN:DAYLIGHT
TZOFFSETFROM:-0600
TZOFFSETTO:-0500
TZNAME:CDT
DTSTART:20270314T080000
END:DAYLIGHT
BEGIN:STANDARD
TZOFFSETFROM:-0500
TZOFFSETTO:-0600
TZNAME:CST
DTSTART:20271107T070000
END:STANDARD
BEGIN:DAYLIGHT
TZOFFSETFROM:-0600
TZOFFSETTO:-0500
TZNAME:CDT
DTSTART:20280312T080000
END:DAYLIGHT
BEGIN:STANDARD
TZOFFSETFROM:-0500
TZOFFSETTO:-0600
TZNAME:CST
DTSTART:20281105T070000
END:STANDARD
END:VTIMEZONE
BEGIN:VEVENT
DTSTART;TZID=America/Chicago:20270604T080000
DTEND;TZID=America/Chicago:20270604T120000
DTSTAMP:20260423T185350
CREATED:20260222T210620Z
LAST-MODIFIED:20260222T210620Z
UID:10004609-1812096000-1812110400@lopbc.org
SUMMARY:VBS 2026
DESCRIPTION:
URL:https://lopbc.org/church_event/vbs-2026/2027-06-04/
CATEGORIES:Children's Ministry
END:VEVENT
BEGIN:VEVENT
DTSTART;TZID=America/Chicago:20270605T080000
DTEND;TZID=America/Chicago:20270605T120000
DTSTAMP:20260423T185350
CREATED:20260222T210620Z
LAST-MODIFIED:20260222T210620Z
UID:10004610-1812182400-1812196800@lopbc.org
SUMMARY:VBS 2026
DESCRIPTION:
URL:https://lopbc.org/church_event/vbs-2026/2027-06-05/
CATEGORIES:Children's Ministry
END:VEVENT
BEGIN:VEVENT
DTSTART;TZID=America/Chicago:20270606T080000
DTEND;TZID=America/Chicago:20270606T120000
DTSTAMP:20260423T185350
CREATED:20260222T210620Z
LAST-MODIFIED:20260222T210620Z
UID:10004611-1812268800-1812283200@lopbc.org
SUMMARY:VBS 2026
DESCRIPTION:
URL:https://lopbc.org/church_event/vbs-2026/2027-06-06/
CATEGORIES:Children's Ministry
END:VEVENT
BEGIN:VEVENT
DTSTART;TZID=America/Chicago:20270606T080000
DTEND;TZID=America/Chicago:20270606T170000
DTSTAMP:20260423T185350
CREATED:20240225T224843Z
LAST-MODIFIED:20240226T024820Z
UID:10000409-1812268800-1812301200@lopbc.org
SUMMARY:Bean Day!
DESCRIPTION:It’s Benevolence Day! Bring your spare change to donate to support our benevolence fund.
URL:https://lopbc.org/church_event/bean-day/2027-06-06/
LOCATION:Sanctuary\, 9046 FM729\, Avinger\, TX\, 75630\, United States
CATEGORIES:Benevolence
ATTACH;FMTTYPE=image/png:https://lopbc.org/wp-content/uploads/2024/02/bean-day.png
END:VEVENT
BEGIN:VEVENT
DTSTART;TZID=America/Chicago:20270606T093000
DTEND;TZID=America/Chicago:20270606T104500
DTSTAMP:20260423T185350
CREATED:20250130T213312Z
LAST-MODIFIED:20250131T005604Z
UID:10002066-1812274200-1812278700@lopbc.org
SUMMARY:Sunday AM Sunday School
DESCRIPTION:
URL:https://lopbc.org/church_event/sunday-am-sunday-school-2/2027-06-06/
LOCATION:Classrooms\, 9046 FM729\, Avinger\, TX\, 75630\, United States
CATEGORIES:Church-wide,Community,Sunday School
END:VEVENT
BEGIN:VEVENT
DTSTART;TZID=America/Chicago:20270606T110000
DTEND;TZID=America/Chicago:20270606T123000
DTSTAMP:20260423T185350
CREATED:20250130T213205Z
LAST-MODIFIED:20250131T161102Z
UID:10001800-1812279600-1812285000@lopbc.org
SUMMARY:Sunday AM Worship
DESCRIPTION:
URL:https://lopbc.org/church_event/sunday-am-worship/2027-06-06/
LOCATION:Sanctuary\, 9046 FM729\, Avinger\, TX\, 75630\, United States
CATEGORIES:Church-wide,Community,Worship
END:VEVENT
BEGIN:VEVENT
DTSTART;TZID=America/Chicago:20270606T180000
DTEND;TZID=America/Chicago:20270606T190000
DTSTAMP:20260423T185350
CREATED:20250130T213902Z
LAST-MODIFIED:20260222T210931Z
UID:10002335-1812304800-1812308400@lopbc.org
SUMMARY:Sunday Evening Worship
DESCRIPTION:
URL:https://lopbc.org/church_event/sunday-evening-worship/2027-06-06/
LOCATION:Sanctuary\, 9046 FM729\, Avinger\, TX\, 75630\, United States
CATEGORIES:Church-wide,Community,Worship
END:VEVENT
BEGIN:VEVENT
DTSTART;TZID=America/Chicago:20270607T080000
DTEND;TZID=America/Chicago:20270607T120000
DTSTAMP:20260423T185350
CREATED:20260222T210620Z
LAST-MODIFIED:20260222T210620Z
UID:10004612-1812355200-1812369600@lopbc.org
SUMMARY:VBS 2026
DESCRIPTION:
URL:https://lopbc.org/church_event/vbs-2026/2027-06-07/
CATEGORIES:Children's Ministry
END:VEVENT
BEGIN:VEVENT
DTSTART;TZID=America/Chicago:20270608T080000
DTEND;TZID=America/Chicago:20270608T120000
DTSTAMP:20260423T185350
CREATED:20260222T210620Z
LAST-MODIFIED:20260222T210620Z
UID:10004613-1812441600-1812456000@lopbc.org
SUMMARY:VBS 2026
DESCRIPTION:
URL:https://lopbc.org/church_event/vbs-2026/2027-06-08/
CATEGORIES:Children's Ministry
END:VEVENT
BEGIN:VEVENT
DTSTART;TZID=America/Chicago:20270609T080000
DTEND;TZID=America/Chicago:20270609T120000
DTSTAMP:20260423T185350
CREATED:20260222T210620Z
LAST-MODIFIED:20260222T210620Z
UID:10004614-1812528000-1812542400@lopbc.org
SUMMARY:VBS 2026
DESCRIPTION:
URL:https://lopbc.org/church_event/vbs-2026/2027-06-09/
CATEGORIES:Children's Ministry
END:VEVENT
BEGIN:VEVENT
DTSTART;TZID=America/Chicago:20270609T180000
DTEND;TZID=America/Chicago:20270609T183000
DTSTAMP:20260423T185350
CREATED:20250130T214435Z
LAST-MODIFIED:20260222T204211Z
UID:10002866-1812564000-1812565800@lopbc.org
SUMMARY:Family Night Meal
DESCRIPTION:
URL:https://lopbc.org/church_event/family-night-meal/2027-06-09/
LOCATION:Fellowship Hall\, 9046 FM729\, Avinger\, TX\, 75630
CATEGORIES:Church-wide,Community
END:VEVENT
BEGIN:VEVENT
DTSTART;TZID=America/Chicago:20270609T183000
DTEND;TZID=America/Chicago:20270609T193000
DTSTAMP:20260423T185350
CREATED:20250130T214249Z
LAST-MODIFIED:20260222T200208Z
UID:10002600-1812565800-1812569400@lopbc.org
SUMMARY:Family Night Worship
DESCRIPTION:
URL:https://lopbc.org/church_event/wednesday-night-worship/2027-06-09/
LOCATION:Sanctuary\, 9046 FM729\, Avinger\, TX\, 75630\, United States
CATEGORIES:Church-wide,Community,Worship
END:VEVENT
BEGIN:VEVENT
DTSTART;TZID=America/Chicago:20270610T080000
DTEND;TZID=America/Chicago:20270610T120000
DTSTAMP:20260423T185350
CREATED:20260222T210620Z
LAST-MODIFIED:20260222T210620Z
UID:10004615-1812614400-1812628800@lopbc.org
SUMMARY:VBS 2026
DESCRIPTION:
URL:https://lopbc.org/church_event/vbs-2026/2027-06-10/
CATEGORIES:Children's Ministry
END:VEVENT
BEGIN:VEVENT
DTSTART;TZID=America/Chicago:20270611T080000
DTEND;TZID=America/Chicago:20270611T120000
DTSTAMP:20260423T185350
CREATED:20260222T210620Z
LAST-MODIFIED:20260222T210620Z
UID:10004616-1812700800-1812715200@lopbc.org
SUMMARY:VBS 2026
DESCRIPTION:
URL:https://lopbc.org/church_event/vbs-2026/2027-06-11/
CATEGORIES:Children's Ministry
END:VEVENT
BEGIN:VEVENT
DTSTART;TZID=America/Chicago:20270612T080000
DTEND;TZID=America/Chicago:20270612T120000
DTSTAMP:20260423T185350
CREATED:20260222T210620Z
LAST-MODIFIED:20260222T210620Z
UID:10004617-1812787200-1812801600@lopbc.org
SUMMARY:VBS 2026
DESCRIPTION:
URL:https://lopbc.org/church_event/vbs-2026/2027-06-12/
CATEGORIES:Children's Ministry
END:VEVENT
BEGIN:VEVENT
DTSTART;TZID=America/Chicago:20270613T080000
DTEND;TZID=America/Chicago:20270613T120000
DTSTAMP:20260423T185350
CREATED:20260222T210620Z
LAST-MODIFIED:20260222T210620Z
UID:10004618-1812873600-1812888000@lopbc.org
SUMMARY:VBS 2026
DESCRIPTION:
URL:https://lopbc.org/church_event/vbs-2026/2027-06-13/
CATEGORIES:Children's Ministry
END:VEVENT
BEGIN:VEVENT
DTSTART;TZID=America/Chicago:20270613T093000
DTEND;TZID=America/Chicago:20270613T104500
DTSTAMP:20260423T185350
CREATED:20250130T213312Z
LAST-MODIFIED:20250131T005604Z
UID:10002067-1812879000-1812883500@lopbc.org
SUMMARY:Sunday AM Sunday School
DESCRIPTION:
URL:https://lopbc.org/church_event/sunday-am-sunday-school-2/2027-06-13/
LOCATION:Classrooms\, 9046 FM729\, Avinger\, TX\, 75630\, United States
CATEGORIES:Church-wide,Community,Sunday School
END:VEVENT
BEGIN:VEVENT
DTSTART;TZID=America/Chicago:20270613T110000
DTEND;TZID=America/Chicago:20270613T123000
DTSTAMP:20260423T185350
CREATED:20250130T213205Z
LAST-MODIFIED:20250131T161102Z
UID:10001801-1812884400-1812889800@lopbc.org
SUMMARY:Sunday AM Worship
DESCRIPTION:
URL:https://lopbc.org/church_event/sunday-am-worship/2027-06-13/
LOCATION:Sanctuary\, 9046 FM729\, Avinger\, TX\, 75630\, United States
CATEGORIES:Church-wide,Community,Worship
END:VEVENT
BEGIN:VEVENT
DTSTART;TZID=America/Chicago:20270613T180000
DTEND;TZID=America/Chicago:20270613T190000
DTSTAMP:20260423T185350
CREATED:20250130T213902Z
LAST-MODIFIED:20260222T210931Z
UID:10002336-1812909600-1812913200@lopbc.org
SUMMARY:Sunday Evening Worship
DESCRIPTION:
URL:https://lopbc.org/church_event/sunday-evening-worship/2027-06-13/
LOCATION:Sanctuary\, 9046 FM729\, Avinger\, TX\, 75630\, United States
CATEGORIES:Church-wide,Community,Worship
END:VEVENT
BEGIN:VEVENT
DTSTART;TZID=America/Chicago:20270614T080000
DTEND;TZID=America/Chicago:20270614T120000
DTSTAMP:20260423T185350
CREATED:20260222T210620Z
LAST-MODIFIED:20260222T210620Z
UID:10004619-1812960000-1812974400@lopbc.org
SUMMARY:VBS 2026
DESCRIPTION:
URL:https://lopbc.org/church_event/vbs-2026/2027-06-14/
CATEGORIES:Children's Ministry
END:VEVENT
BEGIN:VEVENT
DTSTART;TZID=America/Chicago:20270615T080000
DTEND;TZID=America/Chicago:20270615T120000
DTSTAMP:20260423T185350
CREATED:20260222T210620Z
LAST-MODIFIED:20260222T210620Z
UID:10004620-1813046400-1813060800@lopbc.org
SUMMARY:VBS 2026
DESCRIPTION:
URL:https://lopbc.org/church_event/vbs-2026/2027-06-15/
CATEGORIES:Children's Ministry
END:VEVENT
BEGIN:VEVENT
DTSTART;TZID=America/Chicago:20270615T173000
DTEND;TZID=America/Chicago:20270615T203000
DTSTAMP:20260423T185350
CREATED:20260222T201217Z
LAST-MODIFIED:20260222T201217Z
UID:10004118-1813080600-1813091400@lopbc.org
SUMMARY:Praying Hearts and Hands
DESCRIPTION:
URL:https://lopbc.org/church_event/praying-hearts-and-hands-2/2027-06-15/
CATEGORIES:Praying Hearts and Hands
END:VEVENT
BEGIN:VEVENT
DTSTART;TZID=America/Chicago:20270616T080000
DTEND;TZID=America/Chicago:20270616T120000
DTSTAMP:20260423T185350
CREATED:20260222T210620Z
LAST-MODIFIED:20260222T210620Z
UID:10004621-1813132800-1813147200@lopbc.org
SUMMARY:VBS 2026
DESCRIPTION:
URL:https://lopbc.org/church_event/vbs-2026/2027-06-16/
CATEGORIES:Children's Ministry
END:VEVENT
BEGIN:VEVENT
DTSTART;TZID=America/Chicago:20270616T180000
DTEND;TZID=America/Chicago:20270616T183000
DTSTAMP:20260423T185350
CREATED:20250130T214435Z
LAST-MODIFIED:20260222T204211Z
UID:10002867-1813168800-1813170600@lopbc.org
SUMMARY:Family Night Meal
DESCRIPTION:
URL:https://lopbc.org/church_event/family-night-meal/2027-06-16/
LOCATION:Fellowship Hall\, 9046 FM729\, Avinger\, TX\, 75630
CATEGORIES:Church-wide,Community
END:VEVENT
BEGIN:VEVENT
DTSTART;TZID=America/Chicago:20270616T183000
DTEND;TZID=America/Chicago:20270616T193000
DTSTAMP:20260423T185350
CREATED:20250130T214249Z
LAST-MODIFIED:20260222T200208Z
UID:10002601-1813170600-1813174200@lopbc.org
SUMMARY:Family Night Worship
DESCRIPTION:
URL:https://lopbc.org/church_event/wednesday-night-worship/2027-06-16/
LOCATION:Sanctuary\, 9046 FM729\, Avinger\, TX\, 75630\, United States
CATEGORIES:Church-wide,Community,Worship
END:VEVENT
BEGIN:VEVENT
DTSTART;TZID=America/Chicago:20270617T080000
DTEND;TZID=America/Chicago:20270617T120000
DTSTAMP:20260423T185350
CREATED:20260222T210620Z
LAST-MODIFIED:20260222T210620Z
UID:10004622-1813219200-1813233600@lopbc.org
SUMMARY:VBS 2026
DESCRIPTION:
URL:https://lopbc.org/church_event/vbs-2026/2027-06-17/
CATEGORIES:Children's Ministry
END:VEVENT
BEGIN:VEVENT
DTSTART;TZID=America/Chicago:20270618T080000
DTEND;TZID=America/Chicago:20270618T120000
DTSTAMP:20260423T185350
CREATED:20260222T210620Z
LAST-MODIFIED:20260222T210620Z
UID:10004623-1813305600-1813320000@lopbc.org
SUMMARY:VBS 2026
DESCRIPTION:
URL:https://lopbc.org/church_event/vbs-2026/2027-06-18/
CATEGORIES:Children's Ministry
END:VEVENT
BEGIN:VEVENT
DTSTART;TZID=America/Chicago:20270619T080000
DTEND;TZID=America/Chicago:20270619T090000
DTSTAMP:20260423T185350
CREATED:20240225T221030Z
LAST-MODIFIED:20250130T231350Z
UID:10000168-1813392000-1813395600@lopbc.org
SUMMARY:Men's Breakfast
DESCRIPTION:Fellowship with men every third Saturday at 8:00AM. Enjoy a manly feast of bacon\, eggs\, sausage\, biscuits and gravy and more!
URL:https://lopbc.org/church_event/mens-breakfast/2027-06-19/
LOCATION:Fellowship Hall\, 9046 FM729\, Avinger\, TX\, 75630
CATEGORIES:Men's Ministry
ATTACH;FMTTYPE=image/jpeg:https://lopbc.org/wp-content/uploads/2024/02/pexels-athena-2961957-scaled.jpg
END:VEVENT
BEGIN:VEVENT
DTSTART;TZID=America/Chicago:20270619T080000
DTEND;TZID=America/Chicago:20270619T090000
DTSTAMP:20260423T185350
CREATED:20240225T222018Z
LAST-MODIFIED:20250130T231441Z
UID:10000228-1813392000-1813395600@lopbc.org
SUMMARY:Women's Breakfast
DESCRIPTION:
URL:https://lopbc.org/church_event/womenss-breakfast/2027-06-19/
LOCATION:The Lakehouse Cafe\, 8883 FM729\, Avinger\, TX\, 75630
CATEGORIES:Women's Ministry
ATTACH;FMTTYPE=image/png:https://lopbc.org/wp-content/uploads/2024/02/women-bfast.png
END:VEVENT
BEGIN:VEVENT
DTSTART;TZID=America/Chicago:20270620T093000
DTEND;TZID=America/Chicago:20270620T104500
DTSTAMP:20260423T185350
CREATED:20250130T213312Z
LAST-MODIFIED:20250131T005604Z
UID:10002068-1813483800-1813488300@lopbc.org
SUMMARY:Sunday AM Sunday School
DESCRIPTION:
URL:https://lopbc.org/church_event/sunday-am-sunday-school-2/2027-06-20/
LOCATION:Classrooms\, 9046 FM729\, Avinger\, TX\, 75630\, United States
CATEGORIES:Church-wide,Community,Sunday School
END:VEVENT
END:VCALENDAR