BEGIN:VCALENDAR
VERSION:2.0
PRODID:-//Lake O&#039; The Pines Baptist Church - ECPv6.15.20//NONSGML v1.0//EN
CALSCALE:GREGORIAN
METHOD:PUBLISH
X-WR-CALNAME:Lake O&#039; The Pines Baptist Church
X-ORIGINAL-URL:https://lopbc.org
X-WR-CALDESC:Events for Lake O&#039; The Pines Baptist Church
REFRESH-INTERVAL;VALUE=DURATION:PT1H
X-Robots-Tag:noindex
X-PUBLISHED-TTL:PT1H
BEGIN:VTIMEZONE
TZID:America/Chicago
BEGIN:DAYLIGHT
TZOFFSETFROM:-0600
TZOFFSETTO:-0500
TZNAME:CDT
DTSTART:20240310T080000
END:DAYLIGHT
BEGIN:STANDARD
TZOFFSETFROM:-0500
TZOFFSETTO:-0600
TZNAME:CST
DTSTART:20241103T070000
END:STANDARD
BEGIN:DAYLIGHT
TZOFFSETFROM:-0600
TZOFFSETTO:-0500
TZNAME:CDT
DTSTART:20250309T080000
END:DAYLIGHT
BEGIN:STANDARD
TZOFFSETFROM:-0500
TZOFFSETTO:-0600
TZNAME:CST
DTSTART:20251102T070000
END:STANDARD
BEGIN:DAYLIGHT
TZOFFSETFROM:-0600
TZOFFSETTO:-0500
TZNAME:CDT
DTSTART:20260308T080000
END:DAYLIGHT
BEGIN:STANDARD
TZOFFSETFROM:-0500
TZOFFSETTO:-0600
TZNAME:CST
DTSTART:20261101T070000
END:STANDARD
END:VTIMEZONE
BEGIN:VEVENT
DTSTART;TZID=America/Chicago:20251005T123000
DTEND;TZID=America/Chicago:20251005T140000
DTSTAMP:20260423T035906
CREATED:20250131T162210Z
LAST-MODIFIED:20250131T162210Z
UID:10003792-1759667400-1759672800@lopbc.org
SUMMARY:Bible Drill Practice
DESCRIPTION:
URL:https://lopbc.org/church_event/bible-drill-practice-2/2025-10-05/
END:VEVENT
BEGIN:VEVENT
DTSTART;TZID=America/Chicago:20251005T180000
DTEND;TZID=America/Chicago:20251005T190000
DTSTAMP:20260423T035906
CREATED:20250131T001934Z
LAST-MODIFIED:20250131T001934Z
UID:10003343-1759687200-1759690800@lopbc.org
SUMMARY:Business Meeting
DESCRIPTION:
URL:https://lopbc.org/church_event/business-meeting-3/2025-10-05/
LOCATION:Sanctuary\, 9046 FM729\, Avinger\, TX\, 75630\, United States
CATEGORIES:Church-wide
END:VEVENT
BEGIN:VEVENT
DTSTART;TZID=America/Chicago:20251005T180000
DTEND;TZID=America/Chicago:20251005T190000
DTSTAMP:20260423T035906
CREATED:20250131T002901Z
LAST-MODIFIED:20250131T002901Z
UID:10003350-1759687200-1759690800@lopbc.org
SUMMARY:No  Evening Worship Service
DESCRIPTION:
URL:https://lopbc.org/church_event/no-evening-worship-service/2025-10-05/
CATEGORIES:Church-wide,Community,Worship
END:VEVENT
BEGIN:VEVENT
DTSTART;TZID=America/Chicago:20251006T180000
DTEND;TZID=America/Chicago:20251006T190000
DTSTAMP:20260423T035906
CREATED:20250130T222510Z
LAST-MODIFIED:20250130T224652Z
UID:10003055-1759773600-1759777200@lopbc.org
SUMMARY:Women of Worship (WoW) Bible Study
DESCRIPTION:
URL:https://lopbc.org/church_event/women-of-worship-wow-bible-study/2025-10-06/
LOCATION:Fellowship Hall\, 9046 FM729\, Avinger\, TX\, 75630
CATEGORIES:Community,Women's Ministry
END:VEVENT
BEGIN:VEVENT
DTSTART;TZID=America/Chicago:20251007T173000
DTEND;TZID=America/Chicago:20251007T183000
DTSTAMP:20260423T035906
CREATED:20250130T211824Z
LAST-MODIFIED:20250130T211824Z
UID:10001357-1759858200-1759861800@lopbc.org
SUMMARY:Deacon Meeting
DESCRIPTION:
URL:https://lopbc.org/church_event/deacon-meeting-2/2025-10-07/
CATEGORIES:Deacon
END:VEVENT
BEGIN:VEVENT
DTSTART;TZID=America/Chicago:20251007T183000
DTEND;TZID=America/Chicago:20251007T193000
DTSTAMP:20260423T035906
CREATED:20240925T131838Z
LAST-MODIFIED:20240925T133039Z
UID:10001208-1759861800-1759865400@lopbc.org
SUMMARY:Man Camp
DESCRIPTION:Come enjoy a meat-filled meal and fellowship with the men of the church. Occurs every 1st Tuesday.
URL:https://lopbc.org/church_event/man-camp/2025-10-07/
LOCATION:Fellowship Hall\, 9046 FM729\, Avinger\, TX\, 75630
CATEGORIES:Community,Men's Ministry
END:VEVENT
BEGIN:VEVENT
DTSTART;TZID=America/Chicago:20251008T180000
DTEND;TZID=America/Chicago:20251008T183000
DTSTAMP:20260423T035906
CREATED:20250130T214435Z
LAST-MODIFIED:20260222T204211Z
UID:10002779-1759946400-1759948200@lopbc.org
SUMMARY:Family Night Meal
DESCRIPTION:
URL:https://lopbc.org/church_event/family-night-meal/2025-10-08/
LOCATION:Fellowship Hall\, 9046 FM729\, Avinger\, TX\, 75630
CATEGORIES:Church-wide,Community
END:VEVENT
BEGIN:VEVENT
DTSTART;TZID=America/Chicago:20251008T183000
DTEND;TZID=America/Chicago:20251008T193000
DTSTAMP:20260423T035906
CREATED:20250130T214249Z
LAST-MODIFIED:20260222T200208Z
UID:10002513-1759948200-1759951800@lopbc.org
SUMMARY:Family Night Worship
DESCRIPTION:
URL:https://lopbc.org/church_event/wednesday-night-worship/2025-10-08/
LOCATION:Sanctuary\, 9046 FM729\, Avinger\, TX\, 75630\, United States
CATEGORIES:Church-wide,Community,Worship
END:VEVENT
BEGIN:VEVENT
DTSTART;TZID=America/Chicago:20251012T093000
DTEND;TZID=America/Chicago:20251012T104500
DTSTAMP:20260423T035906
CREATED:20250130T213312Z
LAST-MODIFIED:20250131T005604Z
UID:10001980-1760261400-1760265900@lopbc.org
SUMMARY:Sunday AM Sunday School
DESCRIPTION:
URL:https://lopbc.org/church_event/sunday-am-sunday-school-2/2025-10-12/
LOCATION:Classrooms\, 9046 FM729\, Avinger\, TX\, 75630\, United States
CATEGORIES:Church-wide,Community,Sunday School
END:VEVENT
BEGIN:VEVENT
DTSTART;TZID=America/Chicago:20251012T110000
DTEND;TZID=America/Chicago:20251012T123000
DTSTAMP:20260423T035906
CREATED:20250130T213205Z
LAST-MODIFIED:20250131T161102Z
UID:10001714-1760266800-1760272200@lopbc.org
SUMMARY:Sunday AM Worship
DESCRIPTION:
URL:https://lopbc.org/church_event/sunday-am-worship/2025-10-12/
LOCATION:Sanctuary\, 9046 FM729\, Avinger\, TX\, 75630\, United States
CATEGORIES:Church-wide,Community,Worship
END:VEVENT
BEGIN:VEVENT
DTSTART;TZID=America/Chicago:20251012T123000
DTEND;TZID=America/Chicago:20251012T133000
DTSTAMP:20260423T035906
CREATED:20250131T001245Z
LAST-MODIFIED:20250131T001245Z
UID:10003338-1760272200-1760275800@lopbc.org
SUMMARY:Church-wide Potluck Meal
DESCRIPTION:
URL:https://lopbc.org/church_event/church-wide-potluck-meal/2025-10-12/
LOCATION:Fellowship Hall\, 9046 FM729\, Avinger\, TX\, 75630
END:VEVENT
BEGIN:VEVENT
DTSTART;TZID=America/Chicago:20251012T133000
DTEND;TZID=America/Chicago:20251012T153000
DTSTAMP:20260423T035906
CREATED:20250131T162309Z
LAST-MODIFIED:20250131T162324Z
UID:10003793-1760275800-1760283000@lopbc.org
SUMMARY:Bible Drill Practice
DESCRIPTION:
URL:https://lopbc.org/church_event/bible-drill-practice-3/
END:VEVENT
BEGIN:VEVENT
DTSTART;TZID=America/Chicago:20251012T180000
DTEND;TZID=America/Chicago:20251012T190000
DTSTAMP:20260423T035906
CREATED:20250130T213902Z
LAST-MODIFIED:20260222T210931Z
UID:10002249-1760292000-1760295600@lopbc.org
SUMMARY:Sunday Evening Worship
DESCRIPTION:
URL:https://lopbc.org/church_event/sunday-evening-worship/2025-10-12/
LOCATION:Sanctuary\, 9046 FM729\, Avinger\, TX\, 75630\, United States
CATEGORIES:Church-wide,Community,Worship
END:VEVENT
BEGIN:VEVENT
DTSTART;TZID=America/Chicago:20251013T180000
DTEND;TZID=America/Chicago:20251013T200000
DTSTAMP:20260423T035906
CREATED:20240225T223940Z
LAST-MODIFIED:20250825T182130Z
UID:10000328-1760378400-1760385600@lopbc.org
SUMMARY:WOW - Women of Worship Meeting
DESCRIPTION:Women of Worship (WOW) is the Lake O’ The Pines Baptist Church Women’s Ministry. We meet the second Monday of each month 6:00 – 8:00 PM. We have wonderful praise and worship music\, a short program and of course we enjoy sharing favorite dishes or snacks. Childcare is provided up to 12 years old. We would love for you to join us!
URL:https://lopbc.org/church_event/wow-women-of-worship-meeting/2025-10-13/
LOCATION:Fellowship Hall\, 9046 FM729\, Avinger\, TX\, 75630
CATEGORIES:Women's Ministry
ATTACH;FMTTYPE=image/png:https://lopbc.org/wp-content/uploads/2025/08/wow-2025-1200x800-1.png
END:VEVENT
BEGIN:VEVENT
DTSTART;TZID=America/Chicago:20251015T180000
DTEND;TZID=America/Chicago:20251015T183000
DTSTAMP:20260423T035906
CREATED:20250130T214435Z
LAST-MODIFIED:20260222T204211Z
UID:10002780-1760551200-1760553000@lopbc.org
SUMMARY:Family Night Meal
DESCRIPTION:
URL:https://lopbc.org/church_event/family-night-meal/2025-10-15/
LOCATION:Fellowship Hall\, 9046 FM729\, Avinger\, TX\, 75630
CATEGORIES:Church-wide,Community
END:VEVENT
BEGIN:VEVENT
DTSTART;TZID=America/Chicago:20251015T183000
DTEND;TZID=America/Chicago:20251015T193000
DTSTAMP:20260423T035906
CREATED:20250130T214249Z
LAST-MODIFIED:20260222T200208Z
UID:10002514-1760553000-1760556600@lopbc.org
SUMMARY:Family Night Worship
DESCRIPTION:
URL:https://lopbc.org/church_event/wednesday-night-worship/2025-10-15/
LOCATION:Sanctuary\, 9046 FM729\, Avinger\, TX\, 75630\, United States
CATEGORIES:Church-wide,Community,Worship
END:VEVENT
BEGIN:VEVENT
DTSTART;TZID=America/Chicago:20251018T080000
DTEND;TZID=America/Chicago:20251018T090000
DTSTAMP:20260423T035906
CREATED:20240225T221030Z
LAST-MODIFIED:20250130T231350Z
UID:10000148-1760774400-1760778000@lopbc.org
SUMMARY:Men's Breakfast
DESCRIPTION:Fellowship with men every third Saturday at 8:00AM. Enjoy a manly feast of bacon\, eggs\, sausage\, biscuits and gravy and more!
URL:https://lopbc.org/church_event/mens-breakfast/2025-10-18/
LOCATION:Fellowship Hall\, 9046 FM729\, Avinger\, TX\, 75630
CATEGORIES:Men's Ministry
ATTACH;FMTTYPE=image/jpeg:https://lopbc.org/wp-content/uploads/2024/02/pexels-athena-2961957-scaled.jpg
END:VEVENT
BEGIN:VEVENT
DTSTART;TZID=America/Chicago:20251018T080000
DTEND;TZID=America/Chicago:20251018T090000
DTSTAMP:20260423T035906
CREATED:20240225T222018Z
LAST-MODIFIED:20250130T231441Z
UID:10000208-1760774400-1760778000@lopbc.org
SUMMARY:Women's Breakfast
DESCRIPTION:
URL:https://lopbc.org/church_event/womenss-breakfast/2025-10-18/
LOCATION:The Lakehouse Cafe\, 8883 FM729\, Avinger\, TX\, 75630
CATEGORIES:Women's Ministry
ATTACH;FMTTYPE=image/png:https://lopbc.org/wp-content/uploads/2024/02/women-bfast.png
END:VEVENT
BEGIN:VEVENT
DTSTART;TZID=America/Chicago:20251018T090000
DTEND;TZID=America/Chicago:20251018T120000
DTSTAMP:20260423T035906
CREATED:20250130T235928Z
LAST-MODIFIED:20250130T235928Z
UID:10003329-1760778000-1760788800@lopbc.org
SUMMARY:Men's Work Day
DESCRIPTION:
URL:https://lopbc.org/church_event/mens-work-day/2025-10-18/
CATEGORIES:Men's Ministry
END:VEVENT
BEGIN:VEVENT
DTSTART;TZID=America/Chicago:20251019T093000
DTEND;TZID=America/Chicago:20251019T104500
DTSTAMP:20260423T035906
CREATED:20250130T213312Z
LAST-MODIFIED:20250131T005604Z
UID:10001981-1760866200-1760870700@lopbc.org
SUMMARY:Sunday AM Sunday School
DESCRIPTION:
URL:https://lopbc.org/church_event/sunday-am-sunday-school-2/2025-10-19/
LOCATION:Classrooms\, 9046 FM729\, Avinger\, TX\, 75630\, United States
CATEGORIES:Church-wide,Community,Sunday School
END:VEVENT
BEGIN:VEVENT
DTSTART;TZID=America/Chicago:20251019T110000
DTEND;TZID=America/Chicago:20251019T123000
DTSTAMP:20260423T035906
CREATED:20250130T213205Z
LAST-MODIFIED:20250131T161102Z
UID:10001715-1760871600-1760877000@lopbc.org
SUMMARY:Sunday AM Worship
DESCRIPTION:
URL:https://lopbc.org/church_event/sunday-am-worship/2025-10-19/
LOCATION:Sanctuary\, 9046 FM729\, Avinger\, TX\, 75630\, United States
CATEGORIES:Church-wide,Community,Worship
END:VEVENT
BEGIN:VEVENT
DTSTART;TZID=America/Chicago:20251019T123000
DTEND;TZID=America/Chicago:20251019T140000
DTSTAMP:20260423T035906
CREATED:20250131T162210Z
LAST-MODIFIED:20250131T162210Z
UID:10003794-1760877000-1760882400@lopbc.org
SUMMARY:Bible Drill Practice
DESCRIPTION:
URL:https://lopbc.org/church_event/bible-drill-practice-2/2025-10-19/
END:VEVENT
BEGIN:VEVENT
DTSTART;TZID=America/Chicago:20251019T180000
DTEND;TZID=America/Chicago:20251019T190000
DTSTAMP:20260423T035906
CREATED:20250130T213902Z
LAST-MODIFIED:20260222T210931Z
UID:10002250-1760896800-1760900400@lopbc.org
SUMMARY:Sunday Evening Worship
DESCRIPTION:
URL:https://lopbc.org/church_event/sunday-evening-worship/2025-10-19/
LOCATION:Sanctuary\, 9046 FM729\, Avinger\, TX\, 75630\, United States
CATEGORIES:Church-wide,Community,Worship
END:VEVENT
BEGIN:VEVENT
DTSTART;TZID=America/Chicago:20251020T180000
DTEND;TZID=America/Chicago:20251020T190000
DTSTAMP:20260423T035906
CREATED:20250130T222510Z
LAST-MODIFIED:20250130T224652Z
UID:10003057-1760983200-1760986800@lopbc.org
SUMMARY:Women of Worship (WoW) Bible Study
DESCRIPTION:
URL:https://lopbc.org/church_event/women-of-worship-wow-bible-study/2025-10-20/
LOCATION:Fellowship Hall\, 9046 FM729\, Avinger\, TX\, 75630
CATEGORIES:Community,Women's Ministry
END:VEVENT
BEGIN:VEVENT
DTSTART;TZID=America/Chicago:20251022T180000
DTEND;TZID=America/Chicago:20251022T183000
DTSTAMP:20260423T035906
CREATED:20250130T214435Z
LAST-MODIFIED:20260222T204211Z
UID:10002781-1761156000-1761157800@lopbc.org
SUMMARY:Family Night Meal
DESCRIPTION:
URL:https://lopbc.org/church_event/family-night-meal/2025-10-22/
LOCATION:Fellowship Hall\, 9046 FM729\, Avinger\, TX\, 75630
CATEGORIES:Church-wide,Community
END:VEVENT
BEGIN:VEVENT
DTSTART;TZID=America/Chicago:20251022T183000
DTEND;TZID=America/Chicago:20251022T193000
DTSTAMP:20260423T035906
CREATED:20250130T214249Z
LAST-MODIFIED:20260222T200208Z
UID:10002515-1761157800-1761161400@lopbc.org
SUMMARY:Family Night Worship
DESCRIPTION:
URL:https://lopbc.org/church_event/wednesday-night-worship/2025-10-22/
LOCATION:Sanctuary\, 9046 FM729\, Avinger\, TX\, 75630\, United States
CATEGORIES:Church-wide,Community,Worship
END:VEVENT
BEGIN:VEVENT
DTSTART;TZID=America/Chicago:20251026T093000
DTEND;TZID=America/Chicago:20251026T104500
DTSTAMP:20260423T035906
CREATED:20250130T213312Z
LAST-MODIFIED:20250131T005604Z
UID:10001982-1761471000-1761475500@lopbc.org
SUMMARY:Sunday AM Sunday School
DESCRIPTION:
URL:https://lopbc.org/church_event/sunday-am-sunday-school-2/2025-10-26/
LOCATION:Classrooms\, 9046 FM729\, Avinger\, TX\, 75630\, United States
CATEGORIES:Church-wide,Community,Sunday School
END:VEVENT
BEGIN:VEVENT
DTSTART;TZID=America/Chicago:20251026T110000
DTEND;TZID=America/Chicago:20251026T123000
DTSTAMP:20260423T035906
CREATED:20250130T213205Z
LAST-MODIFIED:20250131T161102Z
UID:10001716-1761476400-1761481800@lopbc.org
SUMMARY:Sunday AM Worship
DESCRIPTION:
URL:https://lopbc.org/church_event/sunday-am-worship/2025-10-26/
LOCATION:Sanctuary\, 9046 FM729\, Avinger\, TX\, 75630\, United States
CATEGORIES:Church-wide,Community,Worship
END:VEVENT
BEGIN:VEVENT
DTSTART;TZID=America/Chicago:20251026T123000
DTEND;TZID=America/Chicago:20251026T140000
DTSTAMP:20260423T035906
CREATED:20250131T162210Z
LAST-MODIFIED:20250131T162210Z
UID:10003795-1761481800-1761487200@lopbc.org
SUMMARY:Bible Drill Practice
DESCRIPTION:
URL:https://lopbc.org/church_event/bible-drill-practice-2/2025-10-26/
END:VEVENT
BEGIN:VEVENT
DTSTART;TZID=America/Chicago:20251026T180000
DTEND;TZID=America/Chicago:20251026T190000
DTSTAMP:20260423T035906
CREATED:20250130T213902Z
LAST-MODIFIED:20260222T210931Z
UID:10002251-1761501600-1761505200@lopbc.org
SUMMARY:Sunday Evening Worship
DESCRIPTION:
URL:https://lopbc.org/church_event/sunday-evening-worship/2025-10-26/
LOCATION:Sanctuary\, 9046 FM729\, Avinger\, TX\, 75630\, United States
CATEGORIES:Church-wide,Community,Worship
END:VEVENT
END:VCALENDAR