BEGIN:VCALENDAR
VERSION:2.0
PRODID:-//Lake O&#039; The Pines Baptist Church - ECPv6.15.20//NONSGML v1.0//EN
CALSCALE:GREGORIAN
METHOD:PUBLISH
X-WR-CALNAME:Lake O&#039; The Pines Baptist Church
X-ORIGINAL-URL:https://lopbc.org
X-WR-CALDESC:Events for Lake O&#039; The Pines Baptist Church
REFRESH-INTERVAL;VALUE=DURATION:PT1H
X-Robots-Tag:noindex
X-PUBLISHED-TTL:PT1H
BEGIN:VTIMEZONE
TZID:America/Chicago
BEGIN:DAYLIGHT
TZOFFSETFROM:-0600
TZOFFSETTO:-0500
TZNAME:CDT
DTSTART:20240310T080000
END:DAYLIGHT
BEGIN:STANDARD
TZOFFSETFROM:-0500
TZOFFSETTO:-0600
TZNAME:CST
DTSTART:20241103T070000
END:STANDARD
BEGIN:DAYLIGHT
TZOFFSETFROM:-0600
TZOFFSETTO:-0500
TZNAME:CDT
DTSTART:20250309T080000
END:DAYLIGHT
BEGIN:STANDARD
TZOFFSETFROM:-0500
TZOFFSETTO:-0600
TZNAME:CST
DTSTART:20251102T070000
END:STANDARD
BEGIN:DAYLIGHT
TZOFFSETFROM:-0600
TZOFFSETTO:-0500
TZNAME:CDT
DTSTART:20260308T080000
END:DAYLIGHT
BEGIN:STANDARD
TZOFFSETFROM:-0500
TZOFFSETTO:-0600
TZNAME:CST
DTSTART:20261101T070000
END:STANDARD
END:VTIMEZONE
BEGIN:VEVENT
DTSTART;TZID=America/Chicago:20251116T093000
DTEND;TZID=America/Chicago:20251116T104500
DTSTAMP:20260423T040952
CREATED:20250130T213312Z
LAST-MODIFIED:20250131T005604Z
UID:10001985-1763285400-1763289900@lopbc.org
SUMMARY:Sunday AM Sunday School
DESCRIPTION:
URL:https://lopbc.org/church_event/sunday-am-sunday-school-2/2025-11-16/
LOCATION:Classrooms\, 9046 FM729\, Avinger\, TX\, 75630\, United States
CATEGORIES:Church-wide,Community,Sunday School
END:VEVENT
BEGIN:VEVENT
DTSTART;TZID=America/Chicago:20251116T110000
DTEND;TZID=America/Chicago:20251116T123000
DTSTAMP:20260423T040952
CREATED:20250130T213205Z
LAST-MODIFIED:20250131T161102Z
UID:10001719-1763290800-1763296200@lopbc.org
SUMMARY:Sunday AM Worship
DESCRIPTION:
URL:https://lopbc.org/church_event/sunday-am-worship/2025-11-16/
LOCATION:Sanctuary\, 9046 FM729\, Avinger\, TX\, 75630\, United States
CATEGORIES:Church-wide,Community,Worship
END:VEVENT
BEGIN:VEVENT
DTSTART;TZID=America/Chicago:20251116T123000
DTEND;TZID=America/Chicago:20251116T140000
DTSTAMP:20260423T040952
CREATED:20250131T185637Z
LAST-MODIFIED:20250131T185637Z
UID:10003870-1763296200-1763301600@lopbc.org
SUMMARY:Thanksgiving Lunch
DESCRIPTION:
URL:https://lopbc.org/church_event/thanksgiving-lunch/
LOCATION:Fellowship Hall\, 9046 FM729\, Avinger\, TX\, 75630
CATEGORIES:Church-wide,Community
END:VEVENT
BEGIN:VEVENT
DTSTART;TZID=America/Chicago:20251116T180000
DTEND;TZID=America/Chicago:20251116T190000
DTSTAMP:20260423T040952
CREATED:20250131T002901Z
LAST-MODIFIED:20250131T002901Z
UID:10003351-1763316000-1763319600@lopbc.org
SUMMARY:No  Evening Worship Service
DESCRIPTION:
URL:https://lopbc.org/church_event/no-evening-worship-service/2025-11-16/
CATEGORIES:Church-wide,Community,Worship
END:VEVENT
BEGIN:VEVENT
DTSTART;TZID=America/Chicago:20251117T180000
DTEND;TZID=America/Chicago:20251117T190000
DTSTAMP:20260423T040952
CREATED:20250130T222510Z
LAST-MODIFIED:20250130T224652Z
UID:10003061-1763402400-1763406000@lopbc.org
SUMMARY:Women of Worship (WoW) Bible Study
DESCRIPTION:
URL:https://lopbc.org/church_event/women-of-worship-wow-bible-study/2025-11-17/
LOCATION:Fellowship Hall\, 9046 FM729\, Avinger\, TX\, 75630
CATEGORIES:Community,Women's Ministry
END:VEVENT
BEGIN:VEVENT
DTSTART;TZID=America/Chicago:20251119T180000
DTEND;TZID=America/Chicago:20251119T183000
DTSTAMP:20260423T040952
CREATED:20250130T214435Z
LAST-MODIFIED:20260222T204211Z
UID:10002785-1763575200-1763577000@lopbc.org
SUMMARY:Family Night Meal
DESCRIPTION:
URL:https://lopbc.org/church_event/family-night-meal/2025-11-19/
LOCATION:Fellowship Hall\, 9046 FM729\, Avinger\, TX\, 75630
CATEGORIES:Church-wide,Community
END:VEVENT
BEGIN:VEVENT
DTSTART;TZID=America/Chicago:20251119T183000
DTEND;TZID=America/Chicago:20251119T193000
DTSTAMP:20260423T040952
CREATED:20250130T214249Z
LAST-MODIFIED:20260222T200208Z
UID:10002519-1763577000-1763580600@lopbc.org
SUMMARY:Family Night Worship
DESCRIPTION:
URL:https://lopbc.org/church_event/wednesday-night-worship/2025-11-19/
LOCATION:Sanctuary\, 9046 FM729\, Avinger\, TX\, 75630\, United States
CATEGORIES:Church-wide,Community,Worship
END:VEVENT
BEGIN:VEVENT
DTSTART;TZID=America/Chicago:20251123T093000
DTEND;TZID=America/Chicago:20251123T104500
DTSTAMP:20260423T040952
CREATED:20250130T213312Z
LAST-MODIFIED:20250131T005604Z
UID:10001986-1763890200-1763894700@lopbc.org
SUMMARY:Sunday AM Sunday School
DESCRIPTION:
URL:https://lopbc.org/church_event/sunday-am-sunday-school-2/2025-11-23/
LOCATION:Classrooms\, 9046 FM729\, Avinger\, TX\, 75630\, United States
CATEGORIES:Church-wide,Community,Sunday School
END:VEVENT
BEGIN:VEVENT
DTSTART;TZID=America/Chicago:20251123T110000
DTEND;TZID=America/Chicago:20251123T123000
DTSTAMP:20260423T040952
CREATED:20250130T213205Z
LAST-MODIFIED:20250131T161102Z
UID:10001720-1763895600-1763901000@lopbc.org
SUMMARY:Sunday AM Worship
DESCRIPTION:
URL:https://lopbc.org/church_event/sunday-am-worship/2025-11-23/
LOCATION:Sanctuary\, 9046 FM729\, Avinger\, TX\, 75630\, United States
CATEGORIES:Church-wide,Community,Worship
END:VEVENT
BEGIN:VEVENT
DTSTART;TZID=America/Chicago:20251123T123000
DTEND;TZID=America/Chicago:20251123T140000
DTSTAMP:20260423T040952
CREATED:20250131T162950Z
LAST-MODIFIED:20250131T162950Z
UID:10003798-1763901000-1763906400@lopbc.org
SUMMARY:Bible Drill Practice
DESCRIPTION:
URL:https://lopbc.org/church_event/bible-drill-practice-4/
END:VEVENT
BEGIN:VEVENT
DTSTART;TZID=America/Chicago:20251123T180000
DTEND;TZID=America/Chicago:20251123T190000
DTSTAMP:20260423T040952
CREATED:20250130T213902Z
LAST-MODIFIED:20260222T210931Z
UID:10002255-1763920800-1763924400@lopbc.org
SUMMARY:Sunday Evening Worship
DESCRIPTION:
URL:https://lopbc.org/church_event/sunday-evening-worship/2025-11-23/
LOCATION:Sanctuary\, 9046 FM729\, Avinger\, TX\, 75630\, United States
CATEGORIES:Church-wide,Community,Worship
END:VEVENT
BEGIN:VEVENT
DTSTART;TZID=America/Chicago:20251124T180000
DTEND;TZID=America/Chicago:20251124T190000
DTSTAMP:20260423T040952
CREATED:20250130T222510Z
LAST-MODIFIED:20250130T224652Z
UID:10003062-1764007200-1764010800@lopbc.org
SUMMARY:Women of Worship (WoW) Bible Study
DESCRIPTION:
URL:https://lopbc.org/church_event/women-of-worship-wow-bible-study/2025-11-24/
LOCATION:Fellowship Hall\, 9046 FM729\, Avinger\, TX\, 75630
CATEGORIES:Community,Women's Ministry
END:VEVENT
BEGIN:VEVENT
DTSTART;TZID=America/Chicago:20251126T080000
DTEND;TZID=America/Chicago:20251126T170000
DTSTAMP:20260423T040952
CREATED:20240226T170751Z
LAST-MODIFIED:20250130T230747Z
UID:10003293-1764144000-1764176400@lopbc.org
SUMMARY:No Meal / No Van Service
DESCRIPTION:
URL:https://lopbc.org/church_event/no-meal-no-van-service-2/2025-11-26/
CATEGORIES:Church-wide,Community
END:VEVENT
BEGIN:VEVENT
DTSTART;TZID=America/Chicago:20251126T183000
DTEND;TZID=America/Chicago:20251126T193000
DTSTAMP:20260423T040952
CREATED:20250130T214249Z
LAST-MODIFIED:20260222T200208Z
UID:10002520-1764181800-1764185400@lopbc.org
SUMMARY:Family Night Worship
DESCRIPTION:
URL:https://lopbc.org/church_event/wednesday-night-worship/2025-11-26/
LOCATION:Sanctuary\, 9046 FM729\, Avinger\, TX\, 75630\, United States
CATEGORIES:Church-wide,Community,Worship
END:VEVENT
BEGIN:VEVENT
DTSTART;VALUE=DATE:20251127
DTEND;VALUE=DATE:20251128
DTSTAMP:20260423T040952
CREATED:20250131T185834Z
LAST-MODIFIED:20250131T185834Z
UID:10003871-1764201600-1764287999@lopbc.org
SUMMARY:Thanksgiving
DESCRIPTION:
URL:https://lopbc.org/church_event/thanksgiving-2/
CATEGORIES:Church-wide,Community
END:VEVENT
BEGIN:VEVENT
DTSTART;TZID=America/Chicago:20251130T093000
DTEND;TZID=America/Chicago:20251130T104500
DTSTAMP:20260423T040952
CREATED:20250130T213312Z
LAST-MODIFIED:20250131T005604Z
UID:10001987-1764495000-1764499500@lopbc.org
SUMMARY:Sunday AM Sunday School
DESCRIPTION:
URL:https://lopbc.org/church_event/sunday-am-sunday-school-2/2025-11-30/
LOCATION:Classrooms\, 9046 FM729\, Avinger\, TX\, 75630\, United States
CATEGORIES:Church-wide,Community,Sunday School
END:VEVENT
BEGIN:VEVENT
DTSTART;TZID=America/Chicago:20251130T110000
DTEND;TZID=America/Chicago:20251130T123000
DTSTAMP:20260423T040952
CREATED:20250130T213205Z
LAST-MODIFIED:20250131T161102Z
UID:10001721-1764500400-1764505800@lopbc.org
SUMMARY:Sunday AM Worship
DESCRIPTION:
URL:https://lopbc.org/church_event/sunday-am-worship/2025-11-30/
LOCATION:Sanctuary\, 9046 FM729\, Avinger\, TX\, 75630\, United States
CATEGORIES:Church-wide,Community,Worship
END:VEVENT
BEGIN:VEVENT
DTSTART;TZID=America/Chicago:20251130T120000
DTEND;TZID=America/Chicago:20251130T133000
DTSTAMP:20260423T040952
CREATED:20250131T161351Z
LAST-MODIFIED:20250131T190028Z
UID:10003872-1764504000-1764509400@lopbc.org
SUMMARY:Youth Fundraiser Luncheon
DESCRIPTION:
URL:https://lopbc.org/church_event/youth-fundraiser-luncheon-2/2025-11-30/
LOCATION:Fellowship Hall\, 9046 FM729\, Avinger\, TX\, 75630
CATEGORIES:Church-wide,Community,Youth Ministry
END:VEVENT
BEGIN:VEVENT
DTSTART;TZID=America/Chicago:20251130T133000
DTEND;TZID=America/Chicago:20251130T150000
DTSTAMP:20260423T040952
CREATED:20250131T163111Z
LAST-MODIFIED:20250131T163122Z
UID:10003799-1764509400-1764514800@lopbc.org
SUMMARY:Bible Drill Practice
DESCRIPTION:
URL:https://lopbc.org/church_event/bible-drill-practice-5/
END:VEVENT
BEGIN:VEVENT
DTSTART;TZID=America/Chicago:20251130T180000
DTEND;TZID=America/Chicago:20251130T190000
DTSTAMP:20260423T040952
CREATED:20250131T003604Z
LAST-MODIFIED:20250131T003604Z
UID:10003357-1764525600-1764529200@lopbc.org
SUMMARY:Fifth Sunday Singing
DESCRIPTION:
URL:https://lopbc.org/church_event/fifth-sunday-singing/2025-11-30/
LOCATION:Sanctuary\, 9046 FM729\, Avinger\, TX\, 75630\, United States
CATEGORIES:Church-wide,Community,Worship
END:VEVENT
BEGIN:VEVENT
DTSTART;TZID=America/Chicago:20251201T180000
DTEND;TZID=America/Chicago:20251201T190000
DTSTAMP:20260423T040952
CREATED:20250130T222510Z
LAST-MODIFIED:20250130T224652Z
UID:10003063-1764612000-1764615600@lopbc.org
SUMMARY:Women of Worship (WoW) Bible Study
DESCRIPTION:
URL:https://lopbc.org/church_event/women-of-worship-wow-bible-study/2025-12-01/
LOCATION:Fellowship Hall\, 9046 FM729\, Avinger\, TX\, 75630
CATEGORIES:Community,Women's Ministry
END:VEVENT
BEGIN:VEVENT
DTSTART;TZID=America/Chicago:20251202T173000
DTEND;TZID=America/Chicago:20251202T183000
DTSTAMP:20260423T040952
CREATED:20250130T211824Z
LAST-MODIFIED:20250130T211824Z
UID:10001359-1764696600-1764700200@lopbc.org
SUMMARY:Deacon Meeting
DESCRIPTION:
URL:https://lopbc.org/church_event/deacon-meeting-2/2025-12-02/
CATEGORIES:Deacon
END:VEVENT
BEGIN:VEVENT
DTSTART;TZID=America/Chicago:20251202T183000
DTEND;TZID=America/Chicago:20251202T193000
DTSTAMP:20260423T040952
CREATED:20240925T131838Z
LAST-MODIFIED:20240925T133039Z
UID:10001210-1764700200-1764703800@lopbc.org
SUMMARY:Man Camp
DESCRIPTION:Come enjoy a meat-filled meal and fellowship with the men of the church. Occurs every 1st Tuesday.
URL:https://lopbc.org/church_event/man-camp/2025-12-02/
LOCATION:Fellowship Hall\, 9046 FM729\, Avinger\, TX\, 75630
CATEGORIES:Community,Men's Ministry
END:VEVENT
BEGIN:VEVENT
DTSTART;TZID=America/Chicago:20251203T180000
DTEND;TZID=America/Chicago:20251203T183000
DTSTAMP:20260423T040952
CREATED:20250130T214435Z
LAST-MODIFIED:20260222T204211Z
UID:10002787-1764784800-1764786600@lopbc.org
SUMMARY:Family Night Meal
DESCRIPTION:
URL:https://lopbc.org/church_event/family-night-meal/2025-12-03/
LOCATION:Fellowship Hall\, 9046 FM729\, Avinger\, TX\, 75630
CATEGORIES:Church-wide,Community
END:VEVENT
BEGIN:VEVENT
DTSTART;TZID=America/Chicago:20251203T183000
DTEND;TZID=America/Chicago:20251203T193000
DTSTAMP:20260423T040952
CREATED:20250130T214249Z
LAST-MODIFIED:20260222T200208Z
UID:10002521-1764786600-1764790200@lopbc.org
SUMMARY:Family Night Worship
DESCRIPTION:
URL:https://lopbc.org/church_event/wednesday-night-worship/2025-12-03/
LOCATION:Sanctuary\, 9046 FM729\, Avinger\, TX\, 75630\, United States
CATEGORIES:Church-wide,Community,Worship
END:VEVENT
BEGIN:VEVENT
DTSTART;TZID=America/Chicago:20251205T180000
DTEND;TZID=America/Chicago:20251205T190000
DTSTAMP:20260423T040952
CREATED:20250131T190155Z
LAST-MODIFIED:20250131T190155Z
UID:10003873-1764957600-1764961200@lopbc.org
SUMMARY:Teachers Christmas Party
DESCRIPTION:
URL:https://lopbc.org/church_event/teachers-christmas-party/
CATEGORIES:Church-wide
END:VEVENT
BEGIN:VEVENT
DTSTART;TZID=America/Chicago:20251206T160000
DTEND;TZID=America/Chicago:20251206T163000
DTSTAMP:20260423T040952
CREATED:20250131T190259Z
LAST-MODIFIED:20250131T190259Z
UID:10003874-1765036800-1765038600@lopbc.org
SUMMARY:Youth Christmas Party
DESCRIPTION:
URL:https://lopbc.org/church_event/youth-christmas-party/
CATEGORIES:Church-wide,Youth Ministry
END:VEVENT
BEGIN:VEVENT
DTSTART;TZID=America/Chicago:20251206T170000
DTEND;TZID=America/Chicago:20251206T200000
DTSTAMP:20260423T040952
CREATED:20250131T190414Z
LAST-MODIFIED:20250131T190414Z
UID:10003875-1765040400-1765051200@lopbc.org
SUMMARY:WoW Walk to Bethlehem (Tatum\, TX)
DESCRIPTION:
URL:https://lopbc.org/church_event/wow-walk-to-bethlehem-tatum-tx/
CATEGORIES:Church-wide,Community,Women's Ministry
END:VEVENT
BEGIN:VEVENT
DTSTART;TZID=America/Chicago:20251207T080000
DTEND;TZID=America/Chicago:20251207T170000
DTSTAMP:20260423T040952
CREATED:20240225T224843Z
LAST-MODIFIED:20240226T024820Z
UID:10000391-1765094400-1765126800@lopbc.org
SUMMARY:Bean Day!
DESCRIPTION:It’s Benevolence Day! Bring your spare change to donate to support our benevolence fund.
URL:https://lopbc.org/church_event/bean-day/2025-12-07/
LOCATION:Sanctuary\, 9046 FM729\, Avinger\, TX\, 75630\, United States
CATEGORIES:Benevolence
ATTACH;FMTTYPE=image/png:https://lopbc.org/wp-content/uploads/2024/02/bean-day.png
END:VEVENT
BEGIN:VEVENT
DTSTART;TZID=America/Chicago:20251207T093000
DTEND;TZID=America/Chicago:20251207T104500
DTSTAMP:20260423T040952
CREATED:20250130T213312Z
LAST-MODIFIED:20250131T005604Z
UID:10001988-1765099800-1765104300@lopbc.org
SUMMARY:Sunday AM Sunday School
DESCRIPTION:
URL:https://lopbc.org/church_event/sunday-am-sunday-school-2/2025-12-07/
LOCATION:Classrooms\, 9046 FM729\, Avinger\, TX\, 75630\, United States
CATEGORIES:Church-wide,Community,Sunday School
END:VEVENT
END:VCALENDAR