BEGIN:VCALENDAR
VERSION:2.0
PRODID:-//Lake O&#039; The Pines Baptist Church - ECPv6.15.20//NONSGML v1.0//EN
CALSCALE:GREGORIAN
METHOD:PUBLISH
X-WR-CALNAME:Lake O&#039; The Pines Baptist Church
X-ORIGINAL-URL:https://lopbc.org
X-WR-CALDESC:Events for Lake O&#039; The Pines Baptist Church
REFRESH-INTERVAL;VALUE=DURATION:PT1H
X-Robots-Tag:noindex
X-PUBLISHED-TTL:PT1H
BEGIN:VTIMEZONE
TZID:America/Chicago
BEGIN:DAYLIGHT
TZOFFSETFROM:-0600
TZOFFSETTO:-0500
TZNAME:CDT
DTSTART:20270314T080000
END:DAYLIGHT
BEGIN:STANDARD
TZOFFSETFROM:-0500
TZOFFSETTO:-0600
TZNAME:CST
DTSTART:20271107T070000
END:STANDARD
BEGIN:DAYLIGHT
TZOFFSETFROM:-0600
TZOFFSETTO:-0500
TZNAME:CDT
DTSTART:20280312T080000
END:DAYLIGHT
BEGIN:STANDARD
TZOFFSETFROM:-0500
TZOFFSETTO:-0600
TZNAME:CST
DTSTART:20281105T070000
END:STANDARD
BEGIN:DAYLIGHT
TZOFFSETFROM:-0600
TZOFFSETTO:-0500
TZNAME:CDT
DTSTART:20290311T080000
END:DAYLIGHT
BEGIN:STANDARD
TZOFFSETFROM:-0500
TZOFFSETTO:-0600
TZNAME:CST
DTSTART:20291104T070000
END:STANDARD
END:VTIMEZONE
BEGIN:VEVENT
DTSTART;TZID=America/Chicago:20280301T183000
DTEND;TZID=America/Chicago:20280301T193000
DTSTAMP:20260425T070653
CREATED:20250130T214249Z
LAST-MODIFIED:20260222T200208Z
UID:10002638-1835548200-1835551800@lopbc.org
SUMMARY:Family Night Worship
DESCRIPTION:
URL:https://lopbc.org/church_event/wednesday-night-worship/2028-03-01/
LOCATION:Sanctuary\, 9046 FM729\, Avinger\, TX\, 75630\, United States
CATEGORIES:Church-wide,Community,Worship
END:VEVENT
BEGIN:VEVENT
DTSTART;TZID=America/Chicago:20280305T080000
DTEND;TZID=America/Chicago:20280305T170000
DTSTAMP:20260425T070653
CREATED:20240225T224843Z
LAST-MODIFIED:20240226T024820Z
UID:10000418-1835856000-1835888400@lopbc.org
SUMMARY:Bean Day!
DESCRIPTION:It’s Benevolence Day! Bring your spare change to donate to support our benevolence fund.
URL:https://lopbc.org/church_event/bean-day/2028-03-05/
LOCATION:Sanctuary\, 9046 FM729\, Avinger\, TX\, 75630\, United States
CATEGORIES:Benevolence
ATTACH;FMTTYPE=image/png:https://lopbc.org/wp-content/uploads/2024/02/bean-day.png
END:VEVENT
BEGIN:VEVENT
DTSTART;TZID=America/Chicago:20280305T093000
DTEND;TZID=America/Chicago:20280305T104500
DTSTAMP:20260425T070653
CREATED:20250130T213312Z
LAST-MODIFIED:20250131T005604Z
UID:10002105-1835861400-1835865900@lopbc.org
SUMMARY:Sunday AM Sunday School
DESCRIPTION:
URL:https://lopbc.org/church_event/sunday-am-sunday-school-2/2028-03-05/
LOCATION:Classrooms\, 9046 FM729\, Avinger\, TX\, 75630\, United States
CATEGORIES:Church-wide,Community,Sunday School
END:VEVENT
BEGIN:VEVENT
DTSTART;TZID=America/Chicago:20280305T110000
DTEND;TZID=America/Chicago:20280305T123000
DTSTAMP:20260425T070653
CREATED:20250130T213205Z
LAST-MODIFIED:20250131T161102Z
UID:10001839-1835866800-1835872200@lopbc.org
SUMMARY:Sunday AM Worship
DESCRIPTION:
URL:https://lopbc.org/church_event/sunday-am-worship/2028-03-05/
LOCATION:Sanctuary\, 9046 FM729\, Avinger\, TX\, 75630\, United States
CATEGORIES:Church-wide,Community,Worship
END:VEVENT
BEGIN:VEVENT
DTSTART;TZID=America/Chicago:20280305T180000
DTEND;TZID=America/Chicago:20280305T190000
DTSTAMP:20260425T070653
CREATED:20250130T213902Z
LAST-MODIFIED:20260222T210931Z
UID:10002374-1835892000-1835895600@lopbc.org
SUMMARY:Sunday Evening Worship
DESCRIPTION:
URL:https://lopbc.org/church_event/sunday-evening-worship/2028-03-05/
LOCATION:Sanctuary\, 9046 FM729\, Avinger\, TX\, 75630\, United States
CATEGORIES:Church-wide,Community,Worship
END:VEVENT
BEGIN:VEVENT
DTSTART;TZID=America/Chicago:20280307T173000
DTEND;TZID=America/Chicago:20280307T183000
DTSTAMP:20260425T070653
CREATED:20250130T211824Z
LAST-MODIFIED:20250130T211824Z
UID:10001386-1836063000-1836066600@lopbc.org
SUMMARY:Deacon Meeting
DESCRIPTION:
URL:https://lopbc.org/church_event/deacon-meeting-2/2028-03-07/
CATEGORIES:Deacon
END:VEVENT
BEGIN:VEVENT
DTSTART;TZID=America/Chicago:20280307T173000
DTEND;TZID=America/Chicago:20280307T193000
DTSTAMP:20260425T070653
CREATED:20260222T201048Z
LAST-MODIFIED:20260222T201048Z
UID:10004067-1836063000-1836070200@lopbc.org
SUMMARY:Praying Hearts and Hands
DESCRIPTION:
URL:https://lopbc.org/church_event/praying-hearts-and-hands/2028-03-07/
END:VEVENT
BEGIN:VEVENT
DTSTART;TZID=America/Chicago:20280307T183000
DTEND;TZID=America/Chicago:20280307T193000
DTSTAMP:20260425T070653
CREATED:20240925T131838Z
LAST-MODIFIED:20240925T133039Z
UID:10001237-1836066600-1836070200@lopbc.org
SUMMARY:Man Camp
DESCRIPTION:Come enjoy a meat-filled meal and fellowship with the men of the church. Occurs every 1st Tuesday.
URL:https://lopbc.org/church_event/man-camp/2028-03-07/
LOCATION:Fellowship Hall\, 9046 FM729\, Avinger\, TX\, 75630
CATEGORIES:Community,Men's Ministry
END:VEVENT
BEGIN:VEVENT
DTSTART;TZID=America/Chicago:20280308T180000
DTEND;TZID=America/Chicago:20280308T183000
DTSTAMP:20260425T070653
CREATED:20250130T214435Z
LAST-MODIFIED:20260222T204211Z
UID:10002905-1836151200-1836153000@lopbc.org
SUMMARY:Family Night Meal
DESCRIPTION:
URL:https://lopbc.org/church_event/family-night-meal/2028-03-08/
LOCATION:Fellowship Hall\, 9046 FM729\, Avinger\, TX\, 75630
CATEGORIES:Church-wide,Community
END:VEVENT
BEGIN:VEVENT
DTSTART;TZID=America/Chicago:20280308T183000
DTEND;TZID=America/Chicago:20280308T193000
DTSTAMP:20260425T070653
CREATED:20250130T214249Z
LAST-MODIFIED:20260222T200208Z
UID:10002639-1836153000-1836156600@lopbc.org
SUMMARY:Family Night Worship
DESCRIPTION:
URL:https://lopbc.org/church_event/wednesday-night-worship/2028-03-08/
LOCATION:Sanctuary\, 9046 FM729\, Avinger\, TX\, 75630\, United States
CATEGORIES:Church-wide,Community,Worship
END:VEVENT
BEGIN:VEVENT
DTSTART;TZID=America/Chicago:20280312T093000
DTEND;TZID=America/Chicago:20280312T104500
DTSTAMP:20260425T070653
CREATED:20250130T213312Z
LAST-MODIFIED:20250131T005604Z
UID:10002106-1836466200-1836470700@lopbc.org
SUMMARY:Sunday AM Sunday School
DESCRIPTION:
URL:https://lopbc.org/church_event/sunday-am-sunday-school-2/2028-03-12/
LOCATION:Classrooms\, 9046 FM729\, Avinger\, TX\, 75630\, United States
CATEGORIES:Church-wide,Community,Sunday School
END:VEVENT
BEGIN:VEVENT
DTSTART;TZID=America/Chicago:20280312T110000
DTEND;TZID=America/Chicago:20280312T123000
DTSTAMP:20260425T070653
CREATED:20250130T213205Z
LAST-MODIFIED:20250131T161102Z
UID:10001840-1836471600-1836477000@lopbc.org
SUMMARY:Sunday AM Worship
DESCRIPTION:
URL:https://lopbc.org/church_event/sunday-am-worship/2028-03-12/
LOCATION:Sanctuary\, 9046 FM729\, Avinger\, TX\, 75630\, United States
CATEGORIES:Church-wide,Community,Worship
END:VEVENT
BEGIN:VEVENT
DTSTART;TZID=America/Chicago:20280312T180000
DTEND;TZID=America/Chicago:20280312T190000
DTSTAMP:20260425T070653
CREATED:20250130T213902Z
LAST-MODIFIED:20260222T210931Z
UID:10002375-1836496800-1836500400@lopbc.org
SUMMARY:Sunday Evening Worship
DESCRIPTION:
URL:https://lopbc.org/church_event/sunday-evening-worship/2028-03-12/
LOCATION:Sanctuary\, 9046 FM729\, Avinger\, TX\, 75630\, United States
CATEGORIES:Church-wide,Community,Worship
END:VEVENT
BEGIN:VEVENT
DTSTART;TZID=America/Chicago:20280315T180000
DTEND;TZID=America/Chicago:20280315T183000
DTSTAMP:20260425T070653
CREATED:20250130T214435Z
LAST-MODIFIED:20260222T204211Z
UID:10002906-1836756000-1836757800@lopbc.org
SUMMARY:Family Night Meal
DESCRIPTION:
URL:https://lopbc.org/church_event/family-night-meal/2028-03-15/
LOCATION:Fellowship Hall\, 9046 FM729\, Avinger\, TX\, 75630
CATEGORIES:Church-wide,Community
END:VEVENT
BEGIN:VEVENT
DTSTART;TZID=America/Chicago:20280315T183000
DTEND;TZID=America/Chicago:20280315T193000
DTSTAMP:20260425T070653
CREATED:20250130T214249Z
LAST-MODIFIED:20260222T200208Z
UID:10002640-1836757800-1836761400@lopbc.org
SUMMARY:Family Night Worship
DESCRIPTION:
URL:https://lopbc.org/church_event/wednesday-night-worship/2028-03-15/
LOCATION:Sanctuary\, 9046 FM729\, Avinger\, TX\, 75630\, United States
CATEGORIES:Church-wide,Community,Worship
END:VEVENT
BEGIN:VEVENT
DTSTART;TZID=America/Chicago:20280318T080000
DTEND;TZID=America/Chicago:20280318T090000
DTSTAMP:20260425T070653
CREATED:20240225T221030Z
LAST-MODIFIED:20250130T231350Z
UID:10000177-1836979200-1836982800@lopbc.org
SUMMARY:Men's Breakfast
DESCRIPTION:Fellowship with men every third Saturday at 8:00AM. Enjoy a manly feast of bacon\, eggs\, sausage\, biscuits and gravy and more!
URL:https://lopbc.org/church_event/mens-breakfast/2028-03-18/
LOCATION:Fellowship Hall\, 9046 FM729\, Avinger\, TX\, 75630
CATEGORIES:Men's Ministry
ATTACH;FMTTYPE=image/jpeg:https://lopbc.org/wp-content/uploads/2024/02/pexels-athena-2961957-scaled.jpg
END:VEVENT
BEGIN:VEVENT
DTSTART;TZID=America/Chicago:20280318T080000
DTEND;TZID=America/Chicago:20280318T090000
DTSTAMP:20260425T070653
CREATED:20240225T222018Z
LAST-MODIFIED:20250130T231441Z
UID:10000237-1836979200-1836982800@lopbc.org
SUMMARY:Women's Breakfast
DESCRIPTION:
URL:https://lopbc.org/church_event/womenss-breakfast/2028-03-18/
LOCATION:The Lakehouse Cafe\, 8883 FM729\, Avinger\, TX\, 75630
CATEGORIES:Women's Ministry
ATTACH;FMTTYPE=image/png:https://lopbc.org/wp-content/uploads/2024/02/women-bfast.png
END:VEVENT
BEGIN:VEVENT
DTSTART;TZID=America/Chicago:20280319T093000
DTEND;TZID=America/Chicago:20280319T104500
DTSTAMP:20260425T070653
CREATED:20250130T213312Z
LAST-MODIFIED:20250131T005604Z
UID:10002107-1837071000-1837075500@lopbc.org
SUMMARY:Sunday AM Sunday School
DESCRIPTION:
URL:https://lopbc.org/church_event/sunday-am-sunday-school-2/2028-03-19/
LOCATION:Classrooms\, 9046 FM729\, Avinger\, TX\, 75630\, United States
CATEGORIES:Church-wide,Community,Sunday School
END:VEVENT
BEGIN:VEVENT
DTSTART;TZID=America/Chicago:20280319T110000
DTEND;TZID=America/Chicago:20280319T123000
DTSTAMP:20260425T070653
CREATED:20250130T213205Z
LAST-MODIFIED:20250131T161102Z
UID:10001841-1837076400-1837081800@lopbc.org
SUMMARY:Sunday AM Worship
DESCRIPTION:
URL:https://lopbc.org/church_event/sunday-am-worship/2028-03-19/
LOCATION:Sanctuary\, 9046 FM729\, Avinger\, TX\, 75630\, United States
CATEGORIES:Church-wide,Community,Worship
END:VEVENT
BEGIN:VEVENT
DTSTART;TZID=America/Chicago:20280319T180000
DTEND;TZID=America/Chicago:20280319T190000
DTSTAMP:20260425T070653
CREATED:20250130T213902Z
LAST-MODIFIED:20260222T210931Z
UID:10002376-1837101600-1837105200@lopbc.org
SUMMARY:Sunday Evening Worship
DESCRIPTION:
URL:https://lopbc.org/church_event/sunday-evening-worship/2028-03-19/
LOCATION:Sanctuary\, 9046 FM729\, Avinger\, TX\, 75630\, United States
CATEGORIES:Church-wide,Community,Worship
END:VEVENT
BEGIN:VEVENT
DTSTART;TZID=America/Chicago:20280321T173000
DTEND;TZID=America/Chicago:20280321T203000
DTSTAMP:20260425T070653
CREATED:20260222T201217Z
LAST-MODIFIED:20260222T201217Z
UID:10004127-1837272600-1837283400@lopbc.org
SUMMARY:Praying Hearts and Hands
DESCRIPTION:
URL:https://lopbc.org/church_event/praying-hearts-and-hands-2/2028-03-21/
CATEGORIES:Praying Hearts and Hands
END:VEVENT
BEGIN:VEVENT
DTSTART;TZID=America/Chicago:20280322T180000
DTEND;TZID=America/Chicago:20280322T183000
DTSTAMP:20260425T070653
CREATED:20250130T214435Z
LAST-MODIFIED:20260222T204211Z
UID:10002907-1837360800-1837362600@lopbc.org
SUMMARY:Family Night Meal
DESCRIPTION:
URL:https://lopbc.org/church_event/family-night-meal/2028-03-22/
LOCATION:Fellowship Hall\, 9046 FM729\, Avinger\, TX\, 75630
CATEGORIES:Church-wide,Community
END:VEVENT
BEGIN:VEVENT
DTSTART;TZID=America/Chicago:20280322T183000
DTEND;TZID=America/Chicago:20280322T193000
DTSTAMP:20260425T070653
CREATED:20250130T214249Z
LAST-MODIFIED:20260222T200208Z
UID:10002641-1837362600-1837366200@lopbc.org
SUMMARY:Family Night Worship
DESCRIPTION:
URL:https://lopbc.org/church_event/wednesday-night-worship/2028-03-22/
LOCATION:Sanctuary\, 9046 FM729\, Avinger\, TX\, 75630\, United States
CATEGORIES:Church-wide,Community,Worship
END:VEVENT
BEGIN:VEVENT
DTSTART;TZID=America/Chicago:20280326T093000
DTEND;TZID=America/Chicago:20280326T104500
DTSTAMP:20260425T070653
CREATED:20250130T213312Z
LAST-MODIFIED:20250131T005604Z
UID:10002108-1837675800-1837680300@lopbc.org
SUMMARY:Sunday AM Sunday School
DESCRIPTION:
URL:https://lopbc.org/church_event/sunday-am-sunday-school-2/2028-03-26/
LOCATION:Classrooms\, 9046 FM729\, Avinger\, TX\, 75630\, United States
CATEGORIES:Church-wide,Community,Sunday School
END:VEVENT
BEGIN:VEVENT
DTSTART;TZID=America/Chicago:20280326T110000
DTEND;TZID=America/Chicago:20280326T123000
DTSTAMP:20260425T070653
CREATED:20250130T213205Z
LAST-MODIFIED:20250131T161102Z
UID:10001842-1837681200-1837686600@lopbc.org
SUMMARY:Sunday AM Worship
DESCRIPTION:
URL:https://lopbc.org/church_event/sunday-am-worship/2028-03-26/
LOCATION:Sanctuary\, 9046 FM729\, Avinger\, TX\, 75630\, United States
CATEGORIES:Church-wide,Community,Worship
END:VEVENT
BEGIN:VEVENT
DTSTART;TZID=America/Chicago:20280326T180000
DTEND;TZID=America/Chicago:20280326T190000
DTSTAMP:20260425T070653
CREATED:20250130T213902Z
LAST-MODIFIED:20260222T210931Z
UID:10002377-1837706400-1837710000@lopbc.org
SUMMARY:Sunday Evening Worship
DESCRIPTION:
URL:https://lopbc.org/church_event/sunday-evening-worship/2028-03-26/
LOCATION:Sanctuary\, 9046 FM729\, Avinger\, TX\, 75630\, United States
CATEGORIES:Church-wide,Community,Worship
END:VEVENT
BEGIN:VEVENT
DTSTART;TZID=America/Chicago:20280329T180000
DTEND;TZID=America/Chicago:20280329T183000
DTSTAMP:20260425T070653
CREATED:20250130T214435Z
LAST-MODIFIED:20260222T204211Z
UID:10002908-1837965600-1837967400@lopbc.org
SUMMARY:Family Night Meal
DESCRIPTION:
URL:https://lopbc.org/church_event/family-night-meal/2028-03-29/
LOCATION:Fellowship Hall\, 9046 FM729\, Avinger\, TX\, 75630
CATEGORIES:Church-wide,Community
END:VEVENT
BEGIN:VEVENT
DTSTART;TZID=America/Chicago:20280329T183000
DTEND;TZID=America/Chicago:20280329T193000
DTSTAMP:20260425T070653
CREATED:20250130T214249Z
LAST-MODIFIED:20260222T200208Z
UID:10002642-1837967400-1837971000@lopbc.org
SUMMARY:Family Night Worship
DESCRIPTION:
URL:https://lopbc.org/church_event/wednesday-night-worship/2028-03-29/
LOCATION:Sanctuary\, 9046 FM729\, Avinger\, TX\, 75630\, United States
CATEGORIES:Church-wide,Community,Worship
END:VEVENT
BEGIN:VEVENT
DTSTART;TZID=America/Chicago:20280402T080000
DTEND;TZID=America/Chicago:20280402T170000
DTSTAMP:20260425T070653
CREATED:20240225T224843Z
LAST-MODIFIED:20240226T024820Z
UID:10000419-1838275200-1838307600@lopbc.org
SUMMARY:Bean Day!
DESCRIPTION:It’s Benevolence Day! Bring your spare change to donate to support our benevolence fund.
URL:https://lopbc.org/church_event/bean-day/2028-04-02/
LOCATION:Sanctuary\, 9046 FM729\, Avinger\, TX\, 75630\, United States
CATEGORIES:Benevolence
ATTACH;FMTTYPE=image/png:https://lopbc.org/wp-content/uploads/2024/02/bean-day.png
END:VEVENT
BEGIN:VEVENT
DTSTART;TZID=America/Chicago:20280402T093000
DTEND;TZID=America/Chicago:20280402T104500
DTSTAMP:20260425T070653
CREATED:20250130T213312Z
LAST-MODIFIED:20250131T005604Z
UID:10002109-1838280600-1838285100@lopbc.org
SUMMARY:Sunday AM Sunday School
DESCRIPTION:
URL:https://lopbc.org/church_event/sunday-am-sunday-school-2/2028-04-02/
LOCATION:Classrooms\, 9046 FM729\, Avinger\, TX\, 75630\, United States
CATEGORIES:Church-wide,Community,Sunday School
END:VEVENT
END:VCALENDAR