BEGIN:VCALENDAR
VERSION:2.0
PRODID:-//Lake O&#039; The Pines Baptist Church - ECPv6.15.20//NONSGML v1.0//EN
CALSCALE:GREGORIAN
METHOD:PUBLISH
X-ORIGINAL-URL:https://lopbc.org
X-WR-CALDESC:Events for Lake O&#039; The Pines Baptist Church
REFRESH-INTERVAL;VALUE=DURATION:PT1H
X-Robots-Tag:noindex
X-PUBLISHED-TTL:PT1H
BEGIN:VTIMEZONE
TZID:America/Chicago
BEGIN:DAYLIGHT
TZOFFSETFROM:-0600
TZOFFSETTO:-0500
TZNAME:CDT
DTSTART:20270314T080000
END:DAYLIGHT
BEGIN:STANDARD
TZOFFSETFROM:-0500
TZOFFSETTO:-0600
TZNAME:CST
DTSTART:20271107T070000
END:STANDARD
BEGIN:DAYLIGHT
TZOFFSETFROM:-0600
TZOFFSETTO:-0500
TZNAME:CDT
DTSTART:20280312T080000
END:DAYLIGHT
BEGIN:STANDARD
TZOFFSETFROM:-0500
TZOFFSETTO:-0600
TZNAME:CST
DTSTART:20281105T070000
END:STANDARD
BEGIN:DAYLIGHT
TZOFFSETFROM:-0600
TZOFFSETTO:-0500
TZNAME:CDT
DTSTART:20290311T080000
END:DAYLIGHT
BEGIN:STANDARD
TZOFFSETFROM:-0500
TZOFFSETTO:-0600
TZNAME:CST
DTSTART:20291104T070000
END:STANDARD
END:VTIMEZONE
BEGIN:VEVENT
DTSTART;TZID=America/Chicago:20280115T080000
DTEND;TZID=America/Chicago:20280115T090000
DTSTAMP:20260425T070940
CREATED:20240225T221030Z
LAST-MODIFIED:20250130T231350Z
UID:10000175-1831536000-1831539600@lopbc.org
SUMMARY:Men's Breakfast
DESCRIPTION:Fellowship with men every third Saturday at 8:00AM. Enjoy a manly feast of bacon\, eggs\, sausage\, biscuits and gravy and more!
URL:https://lopbc.org/church_event/mens-breakfast/2028-01-15/
LOCATION:Fellowship Hall\, 9046 FM729\, Avinger\, TX\, 75630
CATEGORIES:Men's Ministry
ATTACH;FMTTYPE=image/jpeg:https://lopbc.org/wp-content/uploads/2024/02/pexels-athena-2961957-scaled.jpg
END:VEVENT
BEGIN:VEVENT
DTSTART;TZID=America/Chicago:20280115T080000
DTEND;TZID=America/Chicago:20280115T090000
DTSTAMP:20260425T070940
CREATED:20240225T222018Z
LAST-MODIFIED:20250130T231441Z
UID:10000235-1831536000-1831539600@lopbc.org
SUMMARY:Women's Breakfast
DESCRIPTION:
URL:https://lopbc.org/church_event/womenss-breakfast/2028-01-15/
LOCATION:The Lakehouse Cafe\, 8883 FM729\, Avinger\, TX\, 75630
CATEGORIES:Women's Ministry
ATTACH;FMTTYPE=image/png:https://lopbc.org/wp-content/uploads/2024/02/women-bfast.png
END:VEVENT
BEGIN:VEVENT
DTSTART;TZID=America/Chicago:20280116T093000
DTEND;TZID=America/Chicago:20280116T104500
DTSTAMP:20260425T070940
CREATED:20250130T213312Z
LAST-MODIFIED:20250131T005604Z
UID:10002098-1831627800-1831632300@lopbc.org
SUMMARY:Sunday AM Sunday School
DESCRIPTION:
URL:https://lopbc.org/church_event/sunday-am-sunday-school-2/2028-01-16/
LOCATION:Classrooms\, 9046 FM729\, Avinger\, TX\, 75630\, United States
CATEGORIES:Church-wide,Community,Sunday School
END:VEVENT
BEGIN:VEVENT
DTSTART;TZID=America/Chicago:20280116T110000
DTEND;TZID=America/Chicago:20280116T123000
DTSTAMP:20260425T070940
CREATED:20250130T213205Z
LAST-MODIFIED:20250131T161102Z
UID:10001832-1831633200-1831638600@lopbc.org
SUMMARY:Sunday AM Worship
DESCRIPTION:
URL:https://lopbc.org/church_event/sunday-am-worship/2028-01-16/
LOCATION:Sanctuary\, 9046 FM729\, Avinger\, TX\, 75630\, United States
CATEGORIES:Church-wide,Community,Worship
END:VEVENT
BEGIN:VEVENT
DTSTART;TZID=America/Chicago:20280116T180000
DTEND;TZID=America/Chicago:20280116T190000
DTSTAMP:20260425T070940
CREATED:20250130T213902Z
LAST-MODIFIED:20260222T210931Z
UID:10002367-1831658400-1831662000@lopbc.org
SUMMARY:Sunday Evening Worship
DESCRIPTION:
URL:https://lopbc.org/church_event/sunday-evening-worship/2028-01-16/
LOCATION:Sanctuary\, 9046 FM729\, Avinger\, TX\, 75630\, United States
CATEGORIES:Church-wide,Community,Worship
END:VEVENT
BEGIN:VEVENT
DTSTART;TZID=America/Chicago:20280118T173000
DTEND;TZID=America/Chicago:20280118T203000
DTSTAMP:20260425T070940
CREATED:20260222T201217Z
LAST-MODIFIED:20260222T201217Z
UID:10004125-1831829400-1831840200@lopbc.org
SUMMARY:Praying Hearts and Hands
DESCRIPTION:
URL:https://lopbc.org/church_event/praying-hearts-and-hands-2/2028-01-18/
CATEGORIES:Praying Hearts and Hands
END:VEVENT
BEGIN:VEVENT
DTSTART;TZID=America/Chicago:20280119T180000
DTEND;TZID=America/Chicago:20280119T183000
DTSTAMP:20260425T070940
CREATED:20250130T214435Z
LAST-MODIFIED:20260222T204211Z
UID:10002898-1831917600-1831919400@lopbc.org
SUMMARY:Family Night Meal
DESCRIPTION:
URL:https://lopbc.org/church_event/family-night-meal/2028-01-19/
LOCATION:Fellowship Hall\, 9046 FM729\, Avinger\, TX\, 75630
CATEGORIES:Church-wide,Community
END:VEVENT
BEGIN:VEVENT
DTSTART;TZID=America/Chicago:20280119T183000
DTEND;TZID=America/Chicago:20280119T193000
DTSTAMP:20260425T070940
CREATED:20250130T214249Z
LAST-MODIFIED:20260222T200208Z
UID:10002632-1831919400-1831923000@lopbc.org
SUMMARY:Family Night Worship
DESCRIPTION:
URL:https://lopbc.org/church_event/wednesday-night-worship/2028-01-19/
LOCATION:Sanctuary\, 9046 FM729\, Avinger\, TX\, 75630\, United States
CATEGORIES:Church-wide,Community,Worship
END:VEVENT
BEGIN:VEVENT
DTSTART;TZID=America/Chicago:20280123T093000
DTEND;TZID=America/Chicago:20280123T104500
DTSTAMP:20260425T070940
CREATED:20250130T213312Z
LAST-MODIFIED:20250131T005604Z
UID:10002099-1832232600-1832237100@lopbc.org
SUMMARY:Sunday AM Sunday School
DESCRIPTION:
URL:https://lopbc.org/church_event/sunday-am-sunday-school-2/2028-01-23/
LOCATION:Classrooms\, 9046 FM729\, Avinger\, TX\, 75630\, United States
CATEGORIES:Church-wide,Community,Sunday School
END:VEVENT
BEGIN:VEVENT
DTSTART;TZID=America/Chicago:20280123T110000
DTEND;TZID=America/Chicago:20280123T123000
DTSTAMP:20260425T070940
CREATED:20250130T213205Z
LAST-MODIFIED:20250131T161102Z
UID:10001833-1832238000-1832243400@lopbc.org
SUMMARY:Sunday AM Worship
DESCRIPTION:
URL:https://lopbc.org/church_event/sunday-am-worship/2028-01-23/
LOCATION:Sanctuary\, 9046 FM729\, Avinger\, TX\, 75630\, United States
CATEGORIES:Church-wide,Community,Worship
END:VEVENT
BEGIN:VEVENT
DTSTART;TZID=America/Chicago:20280123T180000
DTEND;TZID=America/Chicago:20280123T190000
DTSTAMP:20260425T070940
CREATED:20250130T213902Z
LAST-MODIFIED:20260222T210931Z
UID:10002368-1832263200-1832266800@lopbc.org
SUMMARY:Sunday Evening Worship
DESCRIPTION:
URL:https://lopbc.org/church_event/sunday-evening-worship/2028-01-23/
LOCATION:Sanctuary\, 9046 FM729\, Avinger\, TX\, 75630\, United States
CATEGORIES:Church-wide,Community,Worship
END:VEVENT
BEGIN:VEVENT
DTSTART;TZID=America/Chicago:20280126T180000
DTEND;TZID=America/Chicago:20280126T183000
DTSTAMP:20260425T070940
CREATED:20250130T214435Z
LAST-MODIFIED:20260222T204211Z
UID:10002899-1832522400-1832524200@lopbc.org
SUMMARY:Family Night Meal
DESCRIPTION:
URL:https://lopbc.org/church_event/family-night-meal/2028-01-26/
LOCATION:Fellowship Hall\, 9046 FM729\, Avinger\, TX\, 75630
CATEGORIES:Church-wide,Community
END:VEVENT
BEGIN:VEVENT
DTSTART;TZID=America/Chicago:20280126T183000
DTEND;TZID=America/Chicago:20280126T193000
DTSTAMP:20260425T070940
CREATED:20250130T214249Z
LAST-MODIFIED:20260222T200208Z
UID:10002633-1832524200-1832527800@lopbc.org
SUMMARY:Family Night Worship
DESCRIPTION:
URL:https://lopbc.org/church_event/wednesday-night-worship/2028-01-26/
LOCATION:Sanctuary\, 9046 FM729\, Avinger\, TX\, 75630\, United States
CATEGORIES:Church-wide,Community,Worship
END:VEVENT
BEGIN:VEVENT
DTSTART;TZID=America/Chicago:20280130T093000
DTEND;TZID=America/Chicago:20280130T104500
DTSTAMP:20260425T070940
CREATED:20250130T213312Z
LAST-MODIFIED:20250131T005604Z
UID:10002100-1832837400-1832841900@lopbc.org
SUMMARY:Sunday AM Sunday School
DESCRIPTION:
URL:https://lopbc.org/church_event/sunday-am-sunday-school-2/2028-01-30/
LOCATION:Classrooms\, 9046 FM729\, Avinger\, TX\, 75630\, United States
CATEGORIES:Church-wide,Community,Sunday School
END:VEVENT
BEGIN:VEVENT
DTSTART;TZID=America/Chicago:20280130T110000
DTEND;TZID=America/Chicago:20280130T123000
DTSTAMP:20260425T070940
CREATED:20250130T213205Z
LAST-MODIFIED:20250131T161102Z
UID:10001834-1832842800-1832848200@lopbc.org
SUMMARY:Sunday AM Worship
DESCRIPTION:
URL:https://lopbc.org/church_event/sunday-am-worship/2028-01-30/
LOCATION:Sanctuary\, 9046 FM729\, Avinger\, TX\, 75630\, United States
CATEGORIES:Church-wide,Community,Worship
END:VEVENT
BEGIN:VEVENT
DTSTART;TZID=America/Chicago:20280130T180000
DTEND;TZID=America/Chicago:20280130T190000
DTSTAMP:20260425T070940
CREATED:20250130T213902Z
LAST-MODIFIED:20260222T210931Z
UID:10002369-1832868000-1832871600@lopbc.org
SUMMARY:Sunday Evening Worship
DESCRIPTION:
URL:https://lopbc.org/church_event/sunday-evening-worship/2028-01-30/
LOCATION:Sanctuary\, 9046 FM729\, Avinger\, TX\, 75630\, United States
CATEGORIES:Church-wide,Community,Worship
END:VEVENT
BEGIN:VEVENT
DTSTART;TZID=America/Chicago:20280201T173000
DTEND;TZID=America/Chicago:20280201T183000
DTSTAMP:20260425T070940
CREATED:20250130T211824Z
LAST-MODIFIED:20250130T211824Z
UID:10001385-1833039000-1833042600@lopbc.org
SUMMARY:Deacon Meeting
DESCRIPTION:
URL:https://lopbc.org/church_event/deacon-meeting-2/2028-02-01/
CATEGORIES:Deacon
END:VEVENT
BEGIN:VEVENT
DTSTART;TZID=America/Chicago:20280201T173000
DTEND;TZID=America/Chicago:20280201T193000
DTSTAMP:20260425T070940
CREATED:20260222T201048Z
LAST-MODIFIED:20260222T201048Z
UID:10004066-1833039000-1833046200@lopbc.org
SUMMARY:Praying Hearts and Hands
DESCRIPTION:
URL:https://lopbc.org/church_event/praying-hearts-and-hands/2028-02-01/
END:VEVENT
BEGIN:VEVENT
DTSTART;TZID=America/Chicago:20280201T183000
DTEND;TZID=America/Chicago:20280201T193000
DTSTAMP:20260425T070940
CREATED:20240925T131838Z
LAST-MODIFIED:20240925T133039Z
UID:10001236-1833042600-1833046200@lopbc.org
SUMMARY:Man Camp
DESCRIPTION:Come enjoy a meat-filled meal and fellowship with the men of the church. Occurs every 1st Tuesday.
URL:https://lopbc.org/church_event/man-camp/2028-02-01/
LOCATION:Fellowship Hall\, 9046 FM729\, Avinger\, TX\, 75630
CATEGORIES:Community,Men's Ministry
END:VEVENT
BEGIN:VEVENT
DTSTART;TZID=America/Chicago:20280202T180000
DTEND;TZID=America/Chicago:20280202T183000
DTSTAMP:20260425T070940
CREATED:20250130T214435Z
LAST-MODIFIED:20260222T204211Z
UID:10002900-1833127200-1833129000@lopbc.org
SUMMARY:Family Night Meal
DESCRIPTION:
URL:https://lopbc.org/church_event/family-night-meal/2028-02-02/
LOCATION:Fellowship Hall\, 9046 FM729\, Avinger\, TX\, 75630
CATEGORIES:Church-wide,Community
END:VEVENT
BEGIN:VEVENT
DTSTART;TZID=America/Chicago:20280202T183000
DTEND;TZID=America/Chicago:20280202T193000
DTSTAMP:20260425T070940
CREATED:20250130T214249Z
LAST-MODIFIED:20260222T200208Z
UID:10002634-1833129000-1833132600@lopbc.org
SUMMARY:Family Night Worship
DESCRIPTION:
URL:https://lopbc.org/church_event/wednesday-night-worship/2028-02-02/
LOCATION:Sanctuary\, 9046 FM729\, Avinger\, TX\, 75630\, United States
CATEGORIES:Church-wide,Community,Worship
END:VEVENT
BEGIN:VEVENT
DTSTART;TZID=America/Chicago:20280206T080000
DTEND;TZID=America/Chicago:20280206T170000
DTSTAMP:20260425T070940
CREATED:20240225T224843Z
LAST-MODIFIED:20240226T024820Z
UID:10000417-1833436800-1833469200@lopbc.org
SUMMARY:Bean Day!
DESCRIPTION:It’s Benevolence Day! Bring your spare change to donate to support our benevolence fund.
URL:https://lopbc.org/church_event/bean-day/2028-02-06/
LOCATION:Sanctuary\, 9046 FM729\, Avinger\, TX\, 75630\, United States
CATEGORIES:Benevolence
ATTACH;FMTTYPE=image/png:https://lopbc.org/wp-content/uploads/2024/02/bean-day.png
END:VEVENT
BEGIN:VEVENT
DTSTART;TZID=America/Chicago:20280206T093000
DTEND;TZID=America/Chicago:20280206T104500
DTSTAMP:20260425T070940
CREATED:20250130T213312Z
LAST-MODIFIED:20250131T005604Z
UID:10002101-1833442200-1833446700@lopbc.org
SUMMARY:Sunday AM Sunday School
DESCRIPTION:
URL:https://lopbc.org/church_event/sunday-am-sunday-school-2/2028-02-06/
LOCATION:Classrooms\, 9046 FM729\, Avinger\, TX\, 75630\, United States
CATEGORIES:Church-wide,Community,Sunday School
END:VEVENT
BEGIN:VEVENT
DTSTART;TZID=America/Chicago:20280206T110000
DTEND;TZID=America/Chicago:20280206T123000
DTSTAMP:20260425T070940
CREATED:20250130T213205Z
LAST-MODIFIED:20250131T161102Z
UID:10001835-1833447600-1833453000@lopbc.org
SUMMARY:Sunday AM Worship
DESCRIPTION:
URL:https://lopbc.org/church_event/sunday-am-worship/2028-02-06/
LOCATION:Sanctuary\, 9046 FM729\, Avinger\, TX\, 75630\, United States
CATEGORIES:Church-wide,Community,Worship
END:VEVENT
BEGIN:VEVENT
DTSTART;TZID=America/Chicago:20280206T180000
DTEND;TZID=America/Chicago:20280206T190000
DTSTAMP:20260425T070940
CREATED:20250130T213902Z
LAST-MODIFIED:20260222T210931Z
UID:10002370-1833472800-1833476400@lopbc.org
SUMMARY:Sunday Evening Worship
DESCRIPTION:
URL:https://lopbc.org/church_event/sunday-evening-worship/2028-02-06/
LOCATION:Sanctuary\, 9046 FM729\, Avinger\, TX\, 75630\, United States
CATEGORIES:Church-wide,Community,Worship
END:VEVENT
BEGIN:VEVENT
DTSTART;TZID=America/Chicago:20280209T180000
DTEND;TZID=America/Chicago:20280209T183000
DTSTAMP:20260425T070940
CREATED:20250130T214435Z
LAST-MODIFIED:20260222T204211Z
UID:10002901-1833732000-1833733800@lopbc.org
SUMMARY:Family Night Meal
DESCRIPTION:
URL:https://lopbc.org/church_event/family-night-meal/2028-02-09/
LOCATION:Fellowship Hall\, 9046 FM729\, Avinger\, TX\, 75630
CATEGORIES:Church-wide,Community
END:VEVENT
BEGIN:VEVENT
DTSTART;TZID=America/Chicago:20280209T183000
DTEND;TZID=America/Chicago:20280209T193000
DTSTAMP:20260425T070940
CREATED:20250130T214249Z
LAST-MODIFIED:20260222T200208Z
UID:10002635-1833733800-1833737400@lopbc.org
SUMMARY:Family Night Worship
DESCRIPTION:
URL:https://lopbc.org/church_event/wednesday-night-worship/2028-02-09/
LOCATION:Sanctuary\, 9046 FM729\, Avinger\, TX\, 75630\, United States
CATEGORIES:Church-wide,Community,Worship
END:VEVENT
BEGIN:VEVENT
DTSTART;TZID=America/Chicago:20280213T093000
DTEND;TZID=America/Chicago:20280213T104500
DTSTAMP:20260425T070940
CREATED:20250130T213312Z
LAST-MODIFIED:20250131T005604Z
UID:10002102-1834047000-1834051500@lopbc.org
SUMMARY:Sunday AM Sunday School
DESCRIPTION:
URL:https://lopbc.org/church_event/sunday-am-sunday-school-2/2028-02-13/
LOCATION:Classrooms\, 9046 FM729\, Avinger\, TX\, 75630\, United States
CATEGORIES:Church-wide,Community,Sunday School
END:VEVENT
BEGIN:VEVENT
DTSTART;TZID=America/Chicago:20280213T110000
DTEND;TZID=America/Chicago:20280213T123000
DTSTAMP:20260425T070940
CREATED:20250130T213205Z
LAST-MODIFIED:20250131T161102Z
UID:10001836-1834052400-1834057800@lopbc.org
SUMMARY:Sunday AM Worship
DESCRIPTION:
URL:https://lopbc.org/church_event/sunday-am-worship/2028-02-13/
LOCATION:Sanctuary\, 9046 FM729\, Avinger\, TX\, 75630\, United States
CATEGORIES:Church-wide,Community,Worship
END:VEVENT
BEGIN:VEVENT
DTSTART;TZID=America/Chicago:20280213T180000
DTEND;TZID=America/Chicago:20280213T190000
DTSTAMP:20260425T070940
CREATED:20250130T213902Z
LAST-MODIFIED:20260222T210931Z
UID:10002371-1834077600-1834081200@lopbc.org
SUMMARY:Sunday Evening Worship
DESCRIPTION:
URL:https://lopbc.org/church_event/sunday-evening-worship/2028-02-13/
LOCATION:Sanctuary\, 9046 FM729\, Avinger\, TX\, 75630\, United States
CATEGORIES:Church-wide,Community,Worship
END:VEVENT
END:VCALENDAR