BEGIN:VCALENDAR
VERSION:2.0
PRODID:-//Lake O&#039; The Pines Baptist Church - ECPv6.15.20//NONSGML v1.0//EN
CALSCALE:GREGORIAN
METHOD:PUBLISH
X-ORIGINAL-URL:https://lopbc.org
X-WR-CALDESC:Events for Lake O&#039; The Pines Baptist Church
REFRESH-INTERVAL;VALUE=DURATION:PT1H
X-Robots-Tag:noindex
X-PUBLISHED-TTL:PT1H
BEGIN:VTIMEZONE
TZID:America/Chicago
BEGIN:DAYLIGHT
TZOFFSETFROM:-0600
TZOFFSETTO:-0500
TZNAME:CDT
DTSTART:20270314T080000
END:DAYLIGHT
BEGIN:STANDARD
TZOFFSETFROM:-0500
TZOFFSETTO:-0600
TZNAME:CST
DTSTART:20271107T070000
END:STANDARD
BEGIN:DAYLIGHT
TZOFFSETFROM:-0600
TZOFFSETTO:-0500
TZNAME:CDT
DTSTART:20280312T080000
END:DAYLIGHT
BEGIN:STANDARD
TZOFFSETFROM:-0500
TZOFFSETTO:-0600
TZNAME:CST
DTSTART:20281105T070000
END:STANDARD
BEGIN:DAYLIGHT
TZOFFSETFROM:-0600
TZOFFSETTO:-0500
TZNAME:CDT
DTSTART:20290311T080000
END:DAYLIGHT
BEGIN:STANDARD
TZOFFSETFROM:-0500
TZOFFSETTO:-0600
TZNAME:CST
DTSTART:20291104T070000
END:STANDARD
END:VTIMEZONE
BEGIN:VEVENT
DTSTART;TZID=America/Chicago:20280426T183000
DTEND;TZID=America/Chicago:20280426T193000
DTSTAMP:20260425T115255
CREATED:20250130T214249Z
LAST-MODIFIED:20260222T200208Z
UID:10002646-1840386600-1840390200@lopbc.org
SUMMARY:Family Night Worship
DESCRIPTION:
URL:https://lopbc.org/church_event/wednesday-night-worship/2028-04-26/
LOCATION:Sanctuary\, 9046 FM729\, Avinger\, TX\, 75630\, United States
CATEGORIES:Church-wide,Community,Worship
END:VEVENT
BEGIN:VEVENT
DTSTART;TZID=America/Chicago:20280430T093000
DTEND;TZID=America/Chicago:20280430T104500
DTSTAMP:20260425T115255
CREATED:20250130T213312Z
LAST-MODIFIED:20250131T005604Z
UID:10002113-1840699800-1840704300@lopbc.org
SUMMARY:Sunday AM Sunday School
DESCRIPTION:
URL:https://lopbc.org/church_event/sunday-am-sunday-school-2/2028-04-30/
LOCATION:Classrooms\, 9046 FM729\, Avinger\, TX\, 75630\, United States
CATEGORIES:Church-wide,Community,Sunday School
END:VEVENT
BEGIN:VEVENT
DTSTART;TZID=America/Chicago:20280430T110000
DTEND;TZID=America/Chicago:20280430T123000
DTSTAMP:20260425T115255
CREATED:20250130T213205Z
LAST-MODIFIED:20250131T161102Z
UID:10001847-1840705200-1840710600@lopbc.org
SUMMARY:Sunday AM Worship
DESCRIPTION:
URL:https://lopbc.org/church_event/sunday-am-worship/2028-04-30/
LOCATION:Sanctuary\, 9046 FM729\, Avinger\, TX\, 75630\, United States
CATEGORIES:Church-wide,Community,Worship
END:VEVENT
BEGIN:VEVENT
DTSTART;TZID=America/Chicago:20280430T180000
DTEND;TZID=America/Chicago:20280430T190000
DTSTAMP:20260425T115255
CREATED:20250130T213902Z
LAST-MODIFIED:20260222T210931Z
UID:10002382-1840730400-1840734000@lopbc.org
SUMMARY:Sunday Evening Worship
DESCRIPTION:
URL:https://lopbc.org/church_event/sunday-evening-worship/2028-04-30/
LOCATION:Sanctuary\, 9046 FM729\, Avinger\, TX\, 75630\, United States
CATEGORIES:Church-wide,Community,Worship
END:VEVENT
BEGIN:VEVENT
DTSTART;TZID=America/Chicago:20280502T173000
DTEND;TZID=America/Chicago:20280502T183000
DTSTAMP:20260425T115255
CREATED:20250130T211824Z
LAST-MODIFIED:20250130T211824Z
UID:10001388-1840901400-1840905000@lopbc.org
SUMMARY:Deacon Meeting
DESCRIPTION:
URL:https://lopbc.org/church_event/deacon-meeting-2/2028-05-02/
CATEGORIES:Deacon
END:VEVENT
BEGIN:VEVENT
DTSTART;TZID=America/Chicago:20280502T173000
DTEND;TZID=America/Chicago:20280502T193000
DTSTAMP:20260425T115255
CREATED:20260222T201048Z
LAST-MODIFIED:20260222T201048Z
UID:10004069-1840901400-1840908600@lopbc.org
SUMMARY:Praying Hearts and Hands
DESCRIPTION:
URL:https://lopbc.org/church_event/praying-hearts-and-hands/2028-05-02/
END:VEVENT
BEGIN:VEVENT
DTSTART;TZID=America/Chicago:20280502T183000
DTEND;TZID=America/Chicago:20280502T193000
DTSTAMP:20260425T115255
CREATED:20240925T131838Z
LAST-MODIFIED:20240925T133039Z
UID:10001239-1840905000-1840908600@lopbc.org
SUMMARY:Man Camp
DESCRIPTION:Come enjoy a meat-filled meal and fellowship with the men of the church. Occurs every 1st Tuesday.
URL:https://lopbc.org/church_event/man-camp/2028-05-02/
LOCATION:Fellowship Hall\, 9046 FM729\, Avinger\, TX\, 75630
CATEGORIES:Community,Men's Ministry
END:VEVENT
BEGIN:VEVENT
DTSTART;TZID=America/Chicago:20280503T180000
DTEND;TZID=America/Chicago:20280503T183000
DTSTAMP:20260425T115255
CREATED:20250130T214435Z
LAST-MODIFIED:20260222T204211Z
UID:10002913-1840989600-1840991400@lopbc.org
SUMMARY:Family Night Meal
DESCRIPTION:
URL:https://lopbc.org/church_event/family-night-meal/2028-05-03/
LOCATION:Fellowship Hall\, 9046 FM729\, Avinger\, TX\, 75630
CATEGORIES:Church-wide,Community
END:VEVENT
BEGIN:VEVENT
DTSTART;TZID=America/Chicago:20280503T183000
DTEND;TZID=America/Chicago:20280503T193000
DTSTAMP:20260425T115255
CREATED:20250130T214249Z
LAST-MODIFIED:20260222T200208Z
UID:10002647-1840991400-1840995000@lopbc.org
SUMMARY:Family Night Worship
DESCRIPTION:
URL:https://lopbc.org/church_event/wednesday-night-worship/2028-05-03/
LOCATION:Sanctuary\, 9046 FM729\, Avinger\, TX\, 75630\, United States
CATEGORIES:Church-wide,Community,Worship
END:VEVENT
BEGIN:VEVENT
DTSTART;TZID=America/Chicago:20280507T080000
DTEND;TZID=America/Chicago:20280507T170000
DTSTAMP:20260425T115255
CREATED:20240225T224843Z
LAST-MODIFIED:20240226T024820Z
UID:10000420-1841299200-1841331600@lopbc.org
SUMMARY:Bean Day!
DESCRIPTION:It’s Benevolence Day! Bring your spare change to donate to support our benevolence fund.
URL:https://lopbc.org/church_event/bean-day/2028-05-07/
LOCATION:Sanctuary\, 9046 FM729\, Avinger\, TX\, 75630\, United States
CATEGORIES:Benevolence
ATTACH;FMTTYPE=image/png:https://lopbc.org/wp-content/uploads/2024/02/bean-day.png
END:VEVENT
BEGIN:VEVENT
DTSTART;TZID=America/Chicago:20280507T093000
DTEND;TZID=America/Chicago:20280507T104500
DTSTAMP:20260425T115255
CREATED:20250130T213312Z
LAST-MODIFIED:20250131T005604Z
UID:10002114-1841304600-1841309100@lopbc.org
SUMMARY:Sunday AM Sunday School
DESCRIPTION:
URL:https://lopbc.org/church_event/sunday-am-sunday-school-2/2028-05-07/
LOCATION:Classrooms\, 9046 FM729\, Avinger\, TX\, 75630\, United States
CATEGORIES:Church-wide,Community,Sunday School
END:VEVENT
BEGIN:VEVENT
DTSTART;TZID=America/Chicago:20280507T110000
DTEND;TZID=America/Chicago:20280507T123000
DTSTAMP:20260425T115255
CREATED:20250130T213205Z
LAST-MODIFIED:20250131T161102Z
UID:10001848-1841310000-1841315400@lopbc.org
SUMMARY:Sunday AM Worship
DESCRIPTION:
URL:https://lopbc.org/church_event/sunday-am-worship/2028-05-07/
LOCATION:Sanctuary\, 9046 FM729\, Avinger\, TX\, 75630\, United States
CATEGORIES:Church-wide,Community,Worship
END:VEVENT
BEGIN:VEVENT
DTSTART;TZID=America/Chicago:20280507T180000
DTEND;TZID=America/Chicago:20280507T190000
DTSTAMP:20260425T115255
CREATED:20250130T213902Z
LAST-MODIFIED:20260222T210931Z
UID:10002383-1841335200-1841338800@lopbc.org
SUMMARY:Sunday Evening Worship
DESCRIPTION:
URL:https://lopbc.org/church_event/sunday-evening-worship/2028-05-07/
LOCATION:Sanctuary\, 9046 FM729\, Avinger\, TX\, 75630\, United States
CATEGORIES:Church-wide,Community,Worship
END:VEVENT
BEGIN:VEVENT
DTSTART;TZID=America/Chicago:20280510T180000
DTEND;TZID=America/Chicago:20280510T183000
DTSTAMP:20260425T115255
CREATED:20250130T214435Z
LAST-MODIFIED:20260222T204211Z
UID:10002914-1841594400-1841596200@lopbc.org
SUMMARY:Family Night Meal
DESCRIPTION:
URL:https://lopbc.org/church_event/family-night-meal/2028-05-10/
LOCATION:Fellowship Hall\, 9046 FM729\, Avinger\, TX\, 75630
CATEGORIES:Church-wide,Community
END:VEVENT
BEGIN:VEVENT
DTSTART;TZID=America/Chicago:20280510T183000
DTEND;TZID=America/Chicago:20280510T193000
DTSTAMP:20260425T115255
CREATED:20250130T214249Z
LAST-MODIFIED:20260222T200208Z
UID:10002648-1841596200-1841599800@lopbc.org
SUMMARY:Family Night Worship
DESCRIPTION:
URL:https://lopbc.org/church_event/wednesday-night-worship/2028-05-10/
LOCATION:Sanctuary\, 9046 FM729\, Avinger\, TX\, 75630\, United States
CATEGORIES:Church-wide,Community,Worship
END:VEVENT
BEGIN:VEVENT
DTSTART;TZID=America/Chicago:20280514T093000
DTEND;TZID=America/Chicago:20280514T104500
DTSTAMP:20260425T115255
CREATED:20250130T213312Z
LAST-MODIFIED:20250131T005604Z
UID:10002115-1841909400-1841913900@lopbc.org
SUMMARY:Sunday AM Sunday School
DESCRIPTION:
URL:https://lopbc.org/church_event/sunday-am-sunday-school-2/2028-05-14/
LOCATION:Classrooms\, 9046 FM729\, Avinger\, TX\, 75630\, United States
CATEGORIES:Church-wide,Community,Sunday School
END:VEVENT
BEGIN:VEVENT
DTSTART;TZID=America/Chicago:20280514T110000
DTEND;TZID=America/Chicago:20280514T123000
DTSTAMP:20260425T115255
CREATED:20250130T213205Z
LAST-MODIFIED:20250131T161102Z
UID:10001849-1841914800-1841920200@lopbc.org
SUMMARY:Sunday AM Worship
DESCRIPTION:
URL:https://lopbc.org/church_event/sunday-am-worship/2028-05-14/
LOCATION:Sanctuary\, 9046 FM729\, Avinger\, TX\, 75630\, United States
CATEGORIES:Church-wide,Community,Worship
END:VEVENT
BEGIN:VEVENT
DTSTART;TZID=America/Chicago:20280514T180000
DTEND;TZID=America/Chicago:20280514T190000
DTSTAMP:20260425T115255
CREATED:20250130T213902Z
LAST-MODIFIED:20260222T210931Z
UID:10002384-1841940000-1841943600@lopbc.org
SUMMARY:Sunday Evening Worship
DESCRIPTION:
URL:https://lopbc.org/church_event/sunday-evening-worship/2028-05-14/
LOCATION:Sanctuary\, 9046 FM729\, Avinger\, TX\, 75630\, United States
CATEGORIES:Church-wide,Community,Worship
END:VEVENT
BEGIN:VEVENT
DTSTART;TZID=America/Chicago:20280516T173000
DTEND;TZID=America/Chicago:20280516T203000
DTSTAMP:20260425T115255
CREATED:20260222T201217Z
LAST-MODIFIED:20260222T201217Z
UID:10004129-1842111000-1842121800@lopbc.org
SUMMARY:Praying Hearts and Hands
DESCRIPTION:
URL:https://lopbc.org/church_event/praying-hearts-and-hands-2/2028-05-16/
CATEGORIES:Praying Hearts and Hands
END:VEVENT
BEGIN:VEVENT
DTSTART;TZID=America/Chicago:20280517T180000
DTEND;TZID=America/Chicago:20280517T183000
DTSTAMP:20260425T115255
CREATED:20250130T214435Z
LAST-MODIFIED:20260222T204211Z
UID:10002915-1842199200-1842201000@lopbc.org
SUMMARY:Family Night Meal
DESCRIPTION:
URL:https://lopbc.org/church_event/family-night-meal/2028-05-17/
LOCATION:Fellowship Hall\, 9046 FM729\, Avinger\, TX\, 75630
CATEGORIES:Church-wide,Community
END:VEVENT
BEGIN:VEVENT
DTSTART;TZID=America/Chicago:20280517T183000
DTEND;TZID=America/Chicago:20280517T193000
DTSTAMP:20260425T115255
CREATED:20250130T214249Z
LAST-MODIFIED:20260222T200208Z
UID:10002649-1842201000-1842204600@lopbc.org
SUMMARY:Family Night Worship
DESCRIPTION:
URL:https://lopbc.org/church_event/wednesday-night-worship/2028-05-17/
LOCATION:Sanctuary\, 9046 FM729\, Avinger\, TX\, 75630\, United States
CATEGORIES:Church-wide,Community,Worship
END:VEVENT
BEGIN:VEVENT
DTSTART;TZID=America/Chicago:20280520T080000
DTEND;TZID=America/Chicago:20280520T090000
DTSTAMP:20260425T115255
CREATED:20240225T221030Z
LAST-MODIFIED:20250130T231350Z
UID:10000179-1842422400-1842426000@lopbc.org
SUMMARY:Men's Breakfast
DESCRIPTION:Fellowship with men every third Saturday at 8:00AM. Enjoy a manly feast of bacon\, eggs\, sausage\, biscuits and gravy and more!
URL:https://lopbc.org/church_event/mens-breakfast/2028-05-20/
LOCATION:Fellowship Hall\, 9046 FM729\, Avinger\, TX\, 75630
CATEGORIES:Men's Ministry
ATTACH;FMTTYPE=image/jpeg:https://lopbc.org/wp-content/uploads/2024/02/pexels-athena-2961957-scaled.jpg
END:VEVENT
BEGIN:VEVENT
DTSTART;TZID=America/Chicago:20280520T080000
DTEND;TZID=America/Chicago:20280520T090000
DTSTAMP:20260425T115255
CREATED:20240225T222018Z
LAST-MODIFIED:20250130T231441Z
UID:10000239-1842422400-1842426000@lopbc.org
SUMMARY:Women's Breakfast
DESCRIPTION:
URL:https://lopbc.org/church_event/womenss-breakfast/2028-05-20/
LOCATION:The Lakehouse Cafe\, 8883 FM729\, Avinger\, TX\, 75630
CATEGORIES:Women's Ministry
ATTACH;FMTTYPE=image/png:https://lopbc.org/wp-content/uploads/2024/02/women-bfast.png
END:VEVENT
BEGIN:VEVENT
DTSTART;TZID=America/Chicago:20280521T093000
DTEND;TZID=America/Chicago:20280521T104500
DTSTAMP:20260425T115255
CREATED:20250130T213312Z
LAST-MODIFIED:20250131T005604Z
UID:10002116-1842514200-1842518700@lopbc.org
SUMMARY:Sunday AM Sunday School
DESCRIPTION:
URL:https://lopbc.org/church_event/sunday-am-sunday-school-2/2028-05-21/
LOCATION:Classrooms\, 9046 FM729\, Avinger\, TX\, 75630\, United States
CATEGORIES:Church-wide,Community,Sunday School
END:VEVENT
BEGIN:VEVENT
DTSTART;TZID=America/Chicago:20280521T110000
DTEND;TZID=America/Chicago:20280521T123000
DTSTAMP:20260425T115255
CREATED:20250130T213205Z
LAST-MODIFIED:20250131T161102Z
UID:10001850-1842519600-1842525000@lopbc.org
SUMMARY:Sunday AM Worship
DESCRIPTION:
URL:https://lopbc.org/church_event/sunday-am-worship/2028-05-21/
LOCATION:Sanctuary\, 9046 FM729\, Avinger\, TX\, 75630\, United States
CATEGORIES:Church-wide,Community,Worship
END:VEVENT
BEGIN:VEVENT
DTSTART;TZID=America/Chicago:20280521T180000
DTEND;TZID=America/Chicago:20280521T190000
DTSTAMP:20260425T115255
CREATED:20250130T213902Z
LAST-MODIFIED:20260222T210931Z
UID:10002385-1842544800-1842548400@lopbc.org
SUMMARY:Sunday Evening Worship
DESCRIPTION:
URL:https://lopbc.org/church_event/sunday-evening-worship/2028-05-21/
LOCATION:Sanctuary\, 9046 FM729\, Avinger\, TX\, 75630\, United States
CATEGORIES:Church-wide,Community,Worship
END:VEVENT
BEGIN:VEVENT
DTSTART;TZID=America/Chicago:20280524T180000
DTEND;TZID=America/Chicago:20280524T183000
DTSTAMP:20260425T115255
CREATED:20250130T214435Z
LAST-MODIFIED:20260222T204211Z
UID:10002916-1842804000-1842805800@lopbc.org
SUMMARY:Family Night Meal
DESCRIPTION:
URL:https://lopbc.org/church_event/family-night-meal/2028-05-24/
LOCATION:Fellowship Hall\, 9046 FM729\, Avinger\, TX\, 75630
CATEGORIES:Church-wide,Community
END:VEVENT
BEGIN:VEVENT
DTSTART;TZID=America/Chicago:20280524T183000
DTEND;TZID=America/Chicago:20280524T193000
DTSTAMP:20260425T115255
CREATED:20250130T214249Z
LAST-MODIFIED:20260222T200208Z
UID:10002650-1842805800-1842809400@lopbc.org
SUMMARY:Family Night Worship
DESCRIPTION:
URL:https://lopbc.org/church_event/wednesday-night-worship/2028-05-24/
LOCATION:Sanctuary\, 9046 FM729\, Avinger\, TX\, 75630\, United States
CATEGORIES:Church-wide,Community,Worship
END:VEVENT
BEGIN:VEVENT
DTSTART;TZID=America/Chicago:20280528T093000
DTEND;TZID=America/Chicago:20280528T104500
DTSTAMP:20260425T115255
CREATED:20250130T213312Z
LAST-MODIFIED:20250131T005604Z
UID:10002117-1843119000-1843123500@lopbc.org
SUMMARY:Sunday AM Sunday School
DESCRIPTION:
URL:https://lopbc.org/church_event/sunday-am-sunday-school-2/2028-05-28/
LOCATION:Classrooms\, 9046 FM729\, Avinger\, TX\, 75630\, United States
CATEGORIES:Church-wide,Community,Sunday School
END:VEVENT
BEGIN:VEVENT
DTSTART;TZID=America/Chicago:20280528T110000
DTEND;TZID=America/Chicago:20280528T123000
DTSTAMP:20260425T115255
CREATED:20250130T213205Z
LAST-MODIFIED:20250131T161102Z
UID:10001851-1843124400-1843129800@lopbc.org
SUMMARY:Sunday AM Worship
DESCRIPTION:
URL:https://lopbc.org/church_event/sunday-am-worship/2028-05-28/
LOCATION:Sanctuary\, 9046 FM729\, Avinger\, TX\, 75630\, United States
CATEGORIES:Church-wide,Community,Worship
END:VEVENT
END:VCALENDAR