BEGIN:VCALENDAR
VERSION:2.0
PRODID:-//Lake O&#039; The Pines Baptist Church - ECPv6.15.20//NONSGML v1.0//EN
CALSCALE:GREGORIAN
METHOD:PUBLISH
X-WR-CALNAME:Lake O&#039; The Pines Baptist Church
X-ORIGINAL-URL:https://lopbc.org
X-WR-CALDESC:Events for Lake O&#039; The Pines Baptist Church
REFRESH-INTERVAL;VALUE=DURATION:PT1H
X-Robots-Tag:noindex
X-PUBLISHED-TTL:PT1H
BEGIN:VTIMEZONE
TZID:America/Chicago
BEGIN:DAYLIGHT
TZOFFSETFROM:-0600
TZOFFSETTO:-0500
TZNAME:CDT
DTSTART:20250309T080000
END:DAYLIGHT
BEGIN:STANDARD
TZOFFSETFROM:-0500
TZOFFSETTO:-0600
TZNAME:CST
DTSTART:20251102T070000
END:STANDARD
BEGIN:DAYLIGHT
TZOFFSETFROM:-0600
TZOFFSETTO:-0500
TZNAME:CDT
DTSTART:20260308T080000
END:DAYLIGHT
BEGIN:STANDARD
TZOFFSETFROM:-0500
TZOFFSETTO:-0600
TZNAME:CST
DTSTART:20261101T070000
END:STANDARD
BEGIN:DAYLIGHT
TZOFFSETFROM:-0600
TZOFFSETTO:-0500
TZNAME:CDT
DTSTART:20270314T080000
END:DAYLIGHT
BEGIN:STANDARD
TZOFFSETFROM:-0500
TZOFFSETTO:-0600
TZNAME:CST
DTSTART:20271107T070000
END:STANDARD
END:VTIMEZONE
BEGIN:VEVENT
DTSTART;TZID=America/Chicago:20260405T083000
DTEND;TZID=America/Chicago:20260405T093000
DTSTAMP:20260423T030238
CREATED:20260222T204659Z
LAST-MODIFIED:20260222T204659Z
UID:10004184-1775377800-1775381400@lopbc.org
SUMMARY:Easter Breakfast
DESCRIPTION:
URL:https://lopbc.org/church_event/easter-breakfast-2/
LOCATION:Fellowship Hall\, 9046 FM729\, Avinger\, TX\, 75630
CATEGORIES:Church-wide,Community
END:VEVENT
BEGIN:VEVENT
DTSTART;TZID=America/Chicago:20260405T083000
DTEND;TZID=America/Chicago:20260405T093000
DTSTAMP:20260423T030238
CREATED:20260222T204735Z
LAST-MODIFIED:20260222T204746Z
UID:10004185-1775377800-1775381400@lopbc.org
SUMMARY:WoW Baked Goods Sale
DESCRIPTION:
URL:https://lopbc.org/church_event/wow-baked-goods-sale/
LOCATION:Fellowship Hall\, 9046 FM729\, Avinger\, TX\, 75630
CATEGORIES:Church-wide,Community,Women's Ministry
END:VEVENT
BEGIN:VEVENT
DTSTART;TZID=America/Chicago:20260405T093000
DTEND;TZID=America/Chicago:20260405T104500
DTSTAMP:20260423T030238
CREATED:20250130T213312Z
LAST-MODIFIED:20250131T005604Z
UID:10002005-1775381400-1775385900@lopbc.org
SUMMARY:Sunday AM Sunday School
DESCRIPTION:
URL:https://lopbc.org/church_event/sunday-am-sunday-school-2/2026-04-05/
LOCATION:Classrooms\, 9046 FM729\, Avinger\, TX\, 75630\, United States
CATEGORIES:Church-wide,Community,Sunday School
END:VEVENT
BEGIN:VEVENT
DTSTART;TZID=America/Chicago:20260405T110000
DTEND;TZID=America/Chicago:20260405T123000
DTSTAMP:20260423T030238
CREATED:20250130T213205Z
LAST-MODIFIED:20250131T161102Z
UID:10001739-1775386800-1775392200@lopbc.org
SUMMARY:Sunday AM Worship
DESCRIPTION:
URL:https://lopbc.org/church_event/sunday-am-worship/2026-04-05/
LOCATION:Sanctuary\, 9046 FM729\, Avinger\, TX\, 75630\, United States
CATEGORIES:Church-wide,Community,Worship
END:VEVENT
BEGIN:VEVENT
DTSTART;TZID=America/Chicago:20260405T120000
DTEND;TZID=America/Chicago:20260405T133000
DTSTAMP:20260423T030238
CREATED:20260222T204820Z
LAST-MODIFIED:20260222T204820Z
UID:10004186-1775390400-1775395800@lopbc.org
SUMMARY:Easter Churchwide Lunch
DESCRIPTION:
URL:https://lopbc.org/church_event/easter-churchwide-lunch-2/
LOCATION:Fellowship Hall\, 9046 FM729\, Avinger\, TX\, 75630
CATEGORIES:Church-wide,Community
END:VEVENT
BEGIN:VEVENT
DTSTART;TZID=America/Chicago:20260405T180000
DTEND;TZID=America/Chicago:20260405T190000
DTSTAMP:20260423T030238
CREATED:20240226T173242Z
LAST-MODIFIED:20260222T212608Z
UID:10004629-1775412000-1775415600@lopbc.org
SUMMARY:No Evening Service
DESCRIPTION:
URL:https://lopbc.org/church_event/no-evening-service/2026-04-05/
CATEGORIES:Church-wide,Community
END:VEVENT
BEGIN:VEVENT
DTSTART;TZID=America/Chicago:20260407T173000
DTEND;TZID=America/Chicago:20260407T183000
DTSTAMP:20260423T030238
CREATED:20250130T211824Z
LAST-MODIFIED:20250130T211824Z
UID:10001363-1775583000-1775586600@lopbc.org
SUMMARY:Deacon Meeting
DESCRIPTION:
URL:https://lopbc.org/church_event/deacon-meeting-2/2026-04-07/
CATEGORIES:Deacon
END:VEVENT
BEGIN:VEVENT
DTSTART;TZID=America/Chicago:20260407T173000
DTEND;TZID=America/Chicago:20260407T193000
DTSTAMP:20260423T030238
CREATED:20260222T201048Z
LAST-MODIFIED:20260222T201048Z
UID:10004044-1775583000-1775590200@lopbc.org
SUMMARY:Praying Hearts and Hands
DESCRIPTION:
URL:https://lopbc.org/church_event/praying-hearts-and-hands/2026-04-07/
END:VEVENT
BEGIN:VEVENT
DTSTART;TZID=America/Chicago:20260407T183000
DTEND;TZID=America/Chicago:20260407T193000
DTSTAMP:20260423T030238
CREATED:20240925T131838Z
LAST-MODIFIED:20240925T133039Z
UID:10001214-1775586600-1775590200@lopbc.org
SUMMARY:Man Camp
DESCRIPTION:Come enjoy a meat-filled meal and fellowship with the men of the church. Occurs every 1st Tuesday.
URL:https://lopbc.org/church_event/man-camp/2026-04-07/
LOCATION:Fellowship Hall\, 9046 FM729\, Avinger\, TX\, 75630
CATEGORIES:Community,Men's Ministry
END:VEVENT
BEGIN:VEVENT
DTSTART;TZID=America/Chicago:20260408T180000
DTEND;TZID=America/Chicago:20260408T183000
DTSTAMP:20260423T030238
CREATED:20250130T214435Z
LAST-MODIFIED:20260222T204211Z
UID:10002805-1775671200-1775673000@lopbc.org
SUMMARY:Family Night Meal
DESCRIPTION:
URL:https://lopbc.org/church_event/family-night-meal/2026-04-08/
LOCATION:Fellowship Hall\, 9046 FM729\, Avinger\, TX\, 75630
CATEGORIES:Church-wide,Community
END:VEVENT
BEGIN:VEVENT
DTSTART;TZID=America/Chicago:20260408T183000
DTEND;TZID=America/Chicago:20260408T193000
DTSTAMP:20260423T030238
CREATED:20250130T214249Z
LAST-MODIFIED:20260222T200208Z
UID:10002539-1775673000-1775676600@lopbc.org
SUMMARY:Family Night Worship
DESCRIPTION:
URL:https://lopbc.org/church_event/wednesday-night-worship/2026-04-08/
LOCATION:Sanctuary\, 9046 FM729\, Avinger\, TX\, 75630\, United States
CATEGORIES:Church-wide,Community,Worship
END:VEVENT
BEGIN:VEVENT
DTSTART;TZID=America/Chicago:20260412T093000
DTEND;TZID=America/Chicago:20260412T104500
DTSTAMP:20260423T030238
CREATED:20250130T213312Z
LAST-MODIFIED:20250131T005604Z
UID:10002006-1775986200-1775990700@lopbc.org
SUMMARY:Sunday AM Sunday School
DESCRIPTION:
URL:https://lopbc.org/church_event/sunday-am-sunday-school-2/2026-04-12/
LOCATION:Classrooms\, 9046 FM729\, Avinger\, TX\, 75630\, United States
CATEGORIES:Church-wide,Community,Sunday School
END:VEVENT
BEGIN:VEVENT
DTSTART;TZID=America/Chicago:20260412T110000
DTEND;TZID=America/Chicago:20260412T123000
DTSTAMP:20260423T030238
CREATED:20250130T213205Z
LAST-MODIFIED:20250131T161102Z
UID:10001740-1775991600-1775997000@lopbc.org
SUMMARY:Sunday AM Worship
DESCRIPTION:
URL:https://lopbc.org/church_event/sunday-am-worship/2026-04-12/
LOCATION:Sanctuary\, 9046 FM729\, Avinger\, TX\, 75630\, United States
CATEGORIES:Church-wide,Community,Worship
END:VEVENT
BEGIN:VEVENT
DTSTART;TZID=America/Chicago:20260412T180000
DTEND;TZID=America/Chicago:20260412T190000
DTSTAMP:20260423T030238
CREATED:20250130T213902Z
LAST-MODIFIED:20260222T210931Z
UID:10002275-1776016800-1776020400@lopbc.org
SUMMARY:Sunday Evening Worship
DESCRIPTION:
URL:https://lopbc.org/church_event/sunday-evening-worship/2026-04-12/
LOCATION:Sanctuary\, 9046 FM729\, Avinger\, TX\, 75630\, United States
CATEGORIES:Church-wide,Community,Worship
END:VEVENT
BEGIN:VEVENT
DTSTART;TZID=America/Chicago:20260412T180000
DTEND;TZID=America/Chicago:20260412T190000
DTSTAMP:20260423T030238
CREATED:20260222T205506Z
LAST-MODIFIED:20260222T205506Z
UID:10004243-1776016800-1776020400@lopbc.org
SUMMARY:Bible Drill
DESCRIPTION:
URL:https://lopbc.org/church_event/bible-drill-4/
LOCATION:Sanctuary\, 9046 FM729\, Avinger\, TX\, 75630\, United States
CATEGORIES:Bible Drill,Church-wide
END:VEVENT
BEGIN:VEVENT
DTSTART;TZID=America/Chicago:20260413T180000
DTEND;TZID=America/Chicago:20260413T200000
DTSTAMP:20260423T030238
CREATED:20260222T193712Z
LAST-MODIFIED:20260222T193953Z
UID:10003912-1776103200-1776110400@lopbc.org
SUMMARY:WoW Women of Worship Meeting
DESCRIPTION:Women of Worship (WOW) is the Lake O’ The Pines Baptist Church Women’s Ministry. We meet the second Monday of each month 6:00 – 8:00 PM. We have wonderful praise and worship music\, a short program and of course we enjoy sharing favorite dishes or snacks. Childcare is provided up to 12 years old. We would love for you to join us!
URL:https://lopbc.org/church_event/wow-women-of-worship-meeting-2/2026-04-13/
LOCATION:Fellowship Hall\, 9046 FM729\, Avinger\, TX\, 75630
ATTACH;FMTTYPE=image/png:https://lopbc.org/wp-content/uploads/2025/08/wow-2025-1200x800-1.png
END:VEVENT
BEGIN:VEVENT
DTSTART;TZID=America/Chicago:20260415T180000
DTEND;TZID=America/Chicago:20260415T183000
DTSTAMP:20260423T030238
CREATED:20250130T214435Z
LAST-MODIFIED:20260222T204211Z
UID:10002806-1776276000-1776277800@lopbc.org
SUMMARY:Family Night Meal
DESCRIPTION:
URL:https://lopbc.org/church_event/family-night-meal/2026-04-15/
LOCATION:Fellowship Hall\, 9046 FM729\, Avinger\, TX\, 75630
CATEGORIES:Church-wide,Community
END:VEVENT
BEGIN:VEVENT
DTSTART;TZID=America/Chicago:20260415T183000
DTEND;TZID=America/Chicago:20260415T193000
DTSTAMP:20260423T030238
CREATED:20250130T214249Z
LAST-MODIFIED:20260222T200208Z
UID:10002540-1776277800-1776281400@lopbc.org
SUMMARY:Family Night Worship
DESCRIPTION:
URL:https://lopbc.org/church_event/wednesday-night-worship/2026-04-15/
LOCATION:Sanctuary\, 9046 FM729\, Avinger\, TX\, 75630\, United States
CATEGORIES:Church-wide,Community,Worship
END:VEVENT
BEGIN:VEVENT
DTSTART;TZID=America/Chicago:20260418T080000
DTEND;TZID=America/Chicago:20260418T090000
DTSTAMP:20260423T030238
CREATED:20240225T221030Z
LAST-MODIFIED:20250130T231350Z
UID:10000154-1776499200-1776502800@lopbc.org
SUMMARY:Men's Breakfast
DESCRIPTION:Fellowship with men every third Saturday at 8:00AM. Enjoy a manly feast of bacon\, eggs\, sausage\, biscuits and gravy and more!
URL:https://lopbc.org/church_event/mens-breakfast/2026-04-18/
LOCATION:Fellowship Hall\, 9046 FM729\, Avinger\, TX\, 75630
CATEGORIES:Men's Ministry
ATTACH;FMTTYPE=image/jpeg:https://lopbc.org/wp-content/uploads/2024/02/pexels-athena-2961957-scaled.jpg
END:VEVENT
BEGIN:VEVENT
DTSTART;TZID=America/Chicago:20260418T080000
DTEND;TZID=America/Chicago:20260418T090000
DTSTAMP:20260423T030238
CREATED:20240225T222018Z
LAST-MODIFIED:20250130T231441Z
UID:10000214-1776499200-1776502800@lopbc.org
SUMMARY:Women's Breakfast
DESCRIPTION:
URL:https://lopbc.org/church_event/womenss-breakfast/2026-04-18/
LOCATION:The Lakehouse Cafe\, 8883 FM729\, Avinger\, TX\, 75630
CATEGORIES:Women's Ministry
ATTACH;FMTTYPE=image/png:https://lopbc.org/wp-content/uploads/2024/02/women-bfast.png
END:VEVENT
BEGIN:VEVENT
DTSTART;TZID=America/Chicago:20260419T093000
DTEND;TZID=America/Chicago:20260419T104500
DTSTAMP:20260423T030238
CREATED:20250130T213312Z
LAST-MODIFIED:20250131T005604Z
UID:10002007-1776591000-1776595500@lopbc.org
SUMMARY:Sunday AM Sunday School
DESCRIPTION:
URL:https://lopbc.org/church_event/sunday-am-sunday-school-2/2026-04-19/
LOCATION:Classrooms\, 9046 FM729\, Avinger\, TX\, 75630\, United States
CATEGORIES:Church-wide,Community,Sunday School
END:VEVENT
BEGIN:VEVENT
DTSTART;TZID=America/Chicago:20260419T110000
DTEND;TZID=America/Chicago:20260419T123000
DTSTAMP:20260423T030238
CREATED:20250130T213205Z
LAST-MODIFIED:20250131T161102Z
UID:10001741-1776596400-1776601800@lopbc.org
SUMMARY:Sunday AM Worship
DESCRIPTION:
URL:https://lopbc.org/church_event/sunday-am-worship/2026-04-19/
LOCATION:Sanctuary\, 9046 FM729\, Avinger\, TX\, 75630\, United States
CATEGORIES:Church-wide,Community,Worship
END:VEVENT
BEGIN:VEVENT
DTSTART;TZID=America/Chicago:20260419T140000
DTEND;TZID=America/Chicago:20260419T150000
DTSTAMP:20260423T030238
CREATED:20260222T205621Z
LAST-MODIFIED:20260222T205621Z
UID:10004244-1776607200-1776610800@lopbc.org
SUMMARY:Association Bible Drill
DESCRIPTION:
URL:https://lopbc.org/church_event/association-bible-drill-3/
LOCATION:Sanctuary\, 9046 FM729\, Avinger\, TX\, 75630\, United States
CATEGORIES:Bible Drill,Children's Ministry,Youth Ministry
END:VEVENT
BEGIN:VEVENT
DTSTART;TZID=America/Chicago:20260419T180000
DTEND;TZID=America/Chicago:20260419T190000
DTSTAMP:20260423T030238
CREATED:20250130T213902Z
LAST-MODIFIED:20260222T210931Z
UID:10002276-1776621600-1776625200@lopbc.org
SUMMARY:Sunday Evening Worship
DESCRIPTION:
URL:https://lopbc.org/church_event/sunday-evening-worship/2026-04-19/
LOCATION:Sanctuary\, 9046 FM729\, Avinger\, TX\, 75630\, United States
CATEGORIES:Church-wide,Community,Worship
END:VEVENT
BEGIN:VEVENT
DTSTART;TZID=America/Chicago:20260419T180000
DTEND;TZID=America/Chicago:20260419T190000
DTSTAMP:20260423T030238
CREATED:20260222T202420Z
LAST-MODIFIED:20260222T202420Z
UID:10004166-1776621600-1776625200@lopbc.org
SUMMARY:Business Meetings 2026
DESCRIPTION:
URL:https://lopbc.org/church_event/business-meetings-2026/2026-04-19/
LOCATION:Sanctuary\, 9046 FM729\, Avinger\, TX\, 75630\, United States
CATEGORIES:Church-wide,Committees
END:VEVENT
BEGIN:VEVENT
DTSTART;TZID=America/Chicago:20260421T173000
DTEND;TZID=America/Chicago:20260421T203000
DTSTAMP:20260423T030238
CREATED:20260222T201217Z
LAST-MODIFIED:20260222T201217Z
UID:10004104-1776792600-1776803400@lopbc.org
SUMMARY:Praying Hearts and Hands
DESCRIPTION:
URL:https://lopbc.org/church_event/praying-hearts-and-hands-2/2026-04-21/
CATEGORIES:Praying Hearts and Hands
END:VEVENT
BEGIN:VEVENT
DTSTART;TZID=America/Chicago:20260422T180000
DTEND;TZID=America/Chicago:20260422T183000
DTSTAMP:20260423T030238
CREATED:20250130T214435Z
LAST-MODIFIED:20260222T204211Z
UID:10002807-1776880800-1776882600@lopbc.org
SUMMARY:Family Night Meal
DESCRIPTION:
URL:https://lopbc.org/church_event/family-night-meal/2026-04-22/
LOCATION:Fellowship Hall\, 9046 FM729\, Avinger\, TX\, 75630
CATEGORIES:Church-wide,Community
END:VEVENT
BEGIN:VEVENT
DTSTART;TZID=America/Chicago:20260422T183000
DTEND;TZID=America/Chicago:20260422T193000
DTSTAMP:20260423T030238
CREATED:20250130T214249Z
LAST-MODIFIED:20260222T200208Z
UID:10002541-1776882600-1776886200@lopbc.org
SUMMARY:Family Night Worship
DESCRIPTION:
URL:https://lopbc.org/church_event/wednesday-night-worship/2026-04-22/
LOCATION:Sanctuary\, 9046 FM729\, Avinger\, TX\, 75630\, United States
CATEGORIES:Church-wide,Community,Worship
END:VEVENT
BEGIN:VEVENT
DTSTART;VALUE=DATE:20260425
DTEND;VALUE=DATE:20260426
DTSTAMP:20260423T030238
CREATED:20260222T205749Z
LAST-MODIFIED:20260222T205749Z
UID:10004245-1777075200-1777161599@lopbc.org
SUMMARY:State Bible Drill
DESCRIPTION:
URL:https://lopbc.org/church_event/state-bible-drill/
CATEGORIES:Bible Drill,Children's Ministry,Youth Ministry
END:VEVENT
BEGIN:VEVENT
DTSTART;TZID=America/Chicago:20260426T093000
DTEND;TZID=America/Chicago:20260426T104500
DTSTAMP:20260423T030238
CREATED:20250130T213312Z
LAST-MODIFIED:20250131T005604Z
UID:10002008-1777195800-1777200300@lopbc.org
SUMMARY:Sunday AM Sunday School
DESCRIPTION:
URL:https://lopbc.org/church_event/sunday-am-sunday-school-2/2026-04-26/
LOCATION:Classrooms\, 9046 FM729\, Avinger\, TX\, 75630\, United States
CATEGORIES:Church-wide,Community,Sunday School
END:VEVENT
END:VCALENDAR