BEGIN:VCALENDAR
VERSION:2.0
PRODID:-//Lake O&#039; The Pines Baptist Church - ECPv6.15.20//NONSGML v1.0//EN
CALSCALE:GREGORIAN
METHOD:PUBLISH
X-WR-CALNAME:Lake O&#039; The Pines Baptist Church
X-ORIGINAL-URL:https://lopbc.org
X-WR-CALDESC:Events for Lake O&#039; The Pines Baptist Church
REFRESH-INTERVAL;VALUE=DURATION:PT1H
X-Robots-Tag:noindex
X-PUBLISHED-TTL:PT1H
BEGIN:VTIMEZONE
TZID:America/Chicago
BEGIN:DAYLIGHT
TZOFFSETFROM:-0600
TZOFFSETTO:-0500
TZNAME:CDT
DTSTART:20250309T080000
END:DAYLIGHT
BEGIN:STANDARD
TZOFFSETFROM:-0500
TZOFFSETTO:-0600
TZNAME:CST
DTSTART:20251102T070000
END:STANDARD
BEGIN:DAYLIGHT
TZOFFSETFROM:-0600
TZOFFSETTO:-0500
TZNAME:CDT
DTSTART:20260308T080000
END:DAYLIGHT
BEGIN:STANDARD
TZOFFSETFROM:-0500
TZOFFSETTO:-0600
TZNAME:CST
DTSTART:20261101T070000
END:STANDARD
BEGIN:DAYLIGHT
TZOFFSETFROM:-0600
TZOFFSETTO:-0500
TZNAME:CDT
DTSTART:20270314T080000
END:DAYLIGHT
BEGIN:STANDARD
TZOFFSETFROM:-0500
TZOFFSETTO:-0600
TZNAME:CST
DTSTART:20271107T070000
END:STANDARD
BEGIN:DAYLIGHT
TZOFFSETFROM:-0600
TZOFFSETTO:-0500
TZNAME:CDT
DTSTART:20280312T080000
END:DAYLIGHT
BEGIN:STANDARD
TZOFFSETFROM:-0500
TZOFFSETTO:-0600
TZNAME:CST
DTSTART:20281105T070000
END:STANDARD
END:VTIMEZONE
BEGIN:VEVENT
DTSTART;TZID=America/Chicago:20261220T110000
DTEND;TZID=America/Chicago:20261220T123000
DTSTAMP:20260423T103748
CREATED:20250130T213205Z
LAST-MODIFIED:20250131T161102Z
UID:10001776-1797764400-1797769800@lopbc.org
SUMMARY:Sunday AM Worship
DESCRIPTION:
URL:https://lopbc.org/church_event/sunday-am-worship/2026-12-20/
LOCATION:Sanctuary\, 9046 FM729\, Avinger\, TX\, 75630\, United States
CATEGORIES:Church-wide,Community,Worship
END:VEVENT
BEGIN:VEVENT
DTSTART;TZID=America/Chicago:20261220T180000
DTEND;TZID=America/Chicago:20261220T190000
DTSTAMP:20260423T103748
CREATED:20250130T213902Z
LAST-MODIFIED:20260222T210931Z
UID:10002311-1797789600-1797793200@lopbc.org
SUMMARY:Sunday Evening Worship
DESCRIPTION:
URL:https://lopbc.org/church_event/sunday-evening-worship/2026-12-20/
LOCATION:Sanctuary\, 9046 FM729\, Avinger\, TX\, 75630\, United States
CATEGORIES:Church-wide,Community,Worship
END:VEVENT
BEGIN:VEVENT
DTSTART;TZID=America/Chicago:20261220T180000
DTEND;TZID=America/Chicago:20261220T190000
DTSTAMP:20260423T103748
CREATED:20260222T214253Z
LAST-MODIFIED:20260222T214253Z
UID:10004665-1797789600-1797793200@lopbc.org
SUMMARY:Christmas Play
DESCRIPTION:
URL:https://lopbc.org/church_event/christmas-play-2/
CATEGORIES:Children's Ministry
END:VEVENT
BEGIN:VEVENT
DTSTART;TZID=America/Chicago:20261221T080000
DTEND;TZID=America/Chicago:20261221T120000
DTSTAMP:20260423T103748
CREATED:20260222T210620Z
LAST-MODIFIED:20260222T210620Z
UID:10004444-1797840000-1797854400@lopbc.org
SUMMARY:VBS 2026
DESCRIPTION:
URL:https://lopbc.org/church_event/vbs-2026/2026-12-21/
CATEGORIES:Children's Ministry
END:VEVENT
BEGIN:VEVENT
DTSTART;TZID=America/Chicago:20261222T080000
DTEND;TZID=America/Chicago:20261222T120000
DTSTAMP:20260423T103748
CREATED:20260222T210620Z
LAST-MODIFIED:20260222T210620Z
UID:10004445-1797926400-1797940800@lopbc.org
SUMMARY:VBS 2026
DESCRIPTION:
URL:https://lopbc.org/church_event/vbs-2026/2026-12-22/
CATEGORIES:Children's Ministry
END:VEVENT
BEGIN:VEVENT
DTSTART;TZID=America/Chicago:20261223T080000
DTEND;TZID=America/Chicago:20261223T120000
DTSTAMP:20260423T103748
CREATED:20260222T210620Z
LAST-MODIFIED:20260222T210620Z
UID:10004446-1798012800-1798027200@lopbc.org
SUMMARY:VBS 2026
DESCRIPTION:
URL:https://lopbc.org/church_event/vbs-2026/2026-12-23/
CATEGORIES:Children's Ministry
END:VEVENT
BEGIN:VEVENT
DTSTART;TZID=America/Chicago:20261223T183000
DTEND;TZID=America/Chicago:20261223T193000
DTSTAMP:20260423T103748
CREATED:20250130T214249Z
LAST-MODIFIED:20260222T200208Z
UID:10002576-1798050600-1798054200@lopbc.org
SUMMARY:Family Night Worship
DESCRIPTION:
URL:https://lopbc.org/church_event/wednesday-night-worship/2026-12-23/
LOCATION:Sanctuary\, 9046 FM729\, Avinger\, TX\, 75630\, United States
CATEGORIES:Church-wide,Community,Worship
END:VEVENT
BEGIN:VEVENT
DTSTART;TZID=America/Chicago:20261224T080000
DTEND;TZID=America/Chicago:20261224T120000
DTSTAMP:20260423T103748
CREATED:20260222T210620Z
LAST-MODIFIED:20260222T210620Z
UID:10004447-1798099200-1798113600@lopbc.org
SUMMARY:VBS 2026
DESCRIPTION:
URL:https://lopbc.org/church_event/vbs-2026/2026-12-24/
CATEGORIES:Children's Ministry
END:VEVENT
BEGIN:VEVENT
DTSTART;VALUE=DATE:20261225
DTEND;VALUE=DATE:20261226
DTSTAMP:20260423T103748
CREATED:20260222T214357Z
LAST-MODIFIED:20260222T214357Z
UID:10004667-1798156800-1798243199@lopbc.org
SUMMARY:Christmas Day
DESCRIPTION:
URL:https://lopbc.org/church_event/christmas-day-2/
CATEGORIES:Church-wide,Community
END:VEVENT
BEGIN:VEVENT
DTSTART;TZID=America/Chicago:20261225T080000
DTEND;TZID=America/Chicago:20261225T120000
DTSTAMP:20260423T103748
CREATED:20260222T210620Z
LAST-MODIFIED:20260222T210620Z
UID:10004448-1798185600-1798200000@lopbc.org
SUMMARY:VBS 2026
DESCRIPTION:
URL:https://lopbc.org/church_event/vbs-2026/2026-12-25/
CATEGORIES:Children's Ministry
END:VEVENT
BEGIN:VEVENT
DTSTART;TZID=America/Chicago:20261226T080000
DTEND;TZID=America/Chicago:20261226T120000
DTSTAMP:20260423T103748
CREATED:20260222T210620Z
LAST-MODIFIED:20260222T210620Z
UID:10004449-1798272000-1798286400@lopbc.org
SUMMARY:VBS 2026
DESCRIPTION:
URL:https://lopbc.org/church_event/vbs-2026/2026-12-26/
CATEGORIES:Children's Ministry
END:VEVENT
BEGIN:VEVENT
DTSTART;TZID=America/Chicago:20261227T080000
DTEND;TZID=America/Chicago:20261227T120000
DTSTAMP:20260423T103748
CREATED:20260222T210620Z
LAST-MODIFIED:20260222T210620Z
UID:10004450-1798358400-1798372800@lopbc.org
SUMMARY:VBS 2026
DESCRIPTION:
URL:https://lopbc.org/church_event/vbs-2026/2026-12-27/
CATEGORIES:Children's Ministry
END:VEVENT
BEGIN:VEVENT
DTSTART;TZID=America/Chicago:20261227T093000
DTEND;TZID=America/Chicago:20261227T104500
DTSTAMP:20260423T103748
CREATED:20250130T213312Z
LAST-MODIFIED:20250131T005604Z
UID:10002043-1798363800-1798368300@lopbc.org
SUMMARY:Sunday AM Sunday School
DESCRIPTION:
URL:https://lopbc.org/church_event/sunday-am-sunday-school-2/2026-12-27/
LOCATION:Classrooms\, 9046 FM729\, Avinger\, TX\, 75630\, United States
CATEGORIES:Church-wide,Community,Sunday School
END:VEVENT
BEGIN:VEVENT
DTSTART;TZID=America/Chicago:20261227T110000
DTEND;TZID=America/Chicago:20261227T123000
DTSTAMP:20260423T103748
CREATED:20250130T213205Z
LAST-MODIFIED:20250131T161102Z
UID:10001777-1798369200-1798374600@lopbc.org
SUMMARY:Sunday AM Worship
DESCRIPTION:
URL:https://lopbc.org/church_event/sunday-am-worship/2026-12-27/
LOCATION:Sanctuary\, 9046 FM729\, Avinger\, TX\, 75630\, United States
CATEGORIES:Church-wide,Community,Worship
END:VEVENT
BEGIN:VEVENT
DTSTART;TZID=America/Chicago:20261227T180000
DTEND;TZID=America/Chicago:20261227T190000
DTSTAMP:20260423T103748
CREATED:20250130T213902Z
LAST-MODIFIED:20260222T210931Z
UID:10002312-1798394400-1798398000@lopbc.org
SUMMARY:Sunday Evening Worship
DESCRIPTION:
URL:https://lopbc.org/church_event/sunday-evening-worship/2026-12-27/
LOCATION:Sanctuary\, 9046 FM729\, Avinger\, TX\, 75630\, United States
CATEGORIES:Church-wide,Community,Worship
END:VEVENT
BEGIN:VEVENT
DTSTART;TZID=America/Chicago:20261228T080000
DTEND;TZID=America/Chicago:20261228T120000
DTSTAMP:20260423T103748
CREATED:20260222T210620Z
LAST-MODIFIED:20260222T210620Z
UID:10004451-1798444800-1798459200@lopbc.org
SUMMARY:VBS 2026
DESCRIPTION:
URL:https://lopbc.org/church_event/vbs-2026/2026-12-28/
CATEGORIES:Children's Ministry
END:VEVENT
BEGIN:VEVENT
DTSTART;TZID=America/Chicago:20261229T080000
DTEND;TZID=America/Chicago:20261229T120000
DTSTAMP:20260423T103748
CREATED:20260222T210620Z
LAST-MODIFIED:20260222T210620Z
UID:10004452-1798531200-1798545600@lopbc.org
SUMMARY:VBS 2026
DESCRIPTION:
URL:https://lopbc.org/church_event/vbs-2026/2026-12-29/
CATEGORIES:Children's Ministry
END:VEVENT
BEGIN:VEVENT
DTSTART;TZID=America/Chicago:20261230T080000
DTEND;TZID=America/Chicago:20261230T120000
DTSTAMP:20260423T103748
CREATED:20260222T210620Z
LAST-MODIFIED:20260222T210620Z
UID:10004453-1798617600-1798632000@lopbc.org
SUMMARY:VBS 2026
DESCRIPTION:
URL:https://lopbc.org/church_event/vbs-2026/2026-12-30/
CATEGORIES:Children's Ministry
END:VEVENT
BEGIN:VEVENT
DTSTART;TZID=America/Chicago:20261230T183000
DTEND;TZID=America/Chicago:20261230T193000
DTSTAMP:20260423T103748
CREATED:20250130T214249Z
LAST-MODIFIED:20260222T200208Z
UID:10002577-1798655400-1798659000@lopbc.org
SUMMARY:Family Night Worship
DESCRIPTION:
URL:https://lopbc.org/church_event/wednesday-night-worship/2026-12-30/
LOCATION:Sanctuary\, 9046 FM729\, Avinger\, TX\, 75630\, United States
CATEGORIES:Church-wide,Community,Worship
END:VEVENT
BEGIN:VEVENT
DTSTART;TZID=America/Chicago:20261231T080000
DTEND;TZID=America/Chicago:20261231T120000
DTSTAMP:20260423T103749
CREATED:20260222T210620Z
LAST-MODIFIED:20260222T210620Z
UID:10004454-1798704000-1798718400@lopbc.org
SUMMARY:VBS 2026
DESCRIPTION:
URL:https://lopbc.org/church_event/vbs-2026/2026-12-31/
CATEGORIES:Children's Ministry
END:VEVENT
BEGIN:VEVENT
DTSTART;TZID=America/Chicago:20261231T183000
DTEND;TZID=America/Chicago:20261231T210000
DTSTAMP:20260423T103749
CREATED:20260222T214451Z
LAST-MODIFIED:20260222T214451Z
UID:10004668-1798741800-1798750800@lopbc.org
SUMMARY:New Year's Eve Party
DESCRIPTION:
URL:https://lopbc.org/church_event/new-years-eve-party/
CATEGORIES:Church-wide,Community
END:VEVENT
BEGIN:VEVENT
DTSTART;TZID=America/Chicago:20270101T080000
DTEND;TZID=America/Chicago:20270101T120000
DTSTAMP:20260423T103749
CREATED:20260222T210620Z
LAST-MODIFIED:20260222T210620Z
UID:10004455-1798790400-1798804800@lopbc.org
SUMMARY:VBS 2026
DESCRIPTION:
URL:https://lopbc.org/church_event/vbs-2026/2027-01-01/
CATEGORIES:Children's Ministry
END:VEVENT
BEGIN:VEVENT
DTSTART;TZID=America/Chicago:20270102T080000
DTEND;TZID=America/Chicago:20270102T120000
DTSTAMP:20260423T103749
CREATED:20260222T210620Z
LAST-MODIFIED:20260222T210620Z
UID:10004456-1798876800-1798891200@lopbc.org
SUMMARY:VBS 2026
DESCRIPTION:
URL:https://lopbc.org/church_event/vbs-2026/2027-01-02/
CATEGORIES:Children's Ministry
END:VEVENT
BEGIN:VEVENT
DTSTART;TZID=America/Chicago:20270103T080000
DTEND;TZID=America/Chicago:20270103T120000
DTSTAMP:20260423T103749
CREATED:20260222T210620Z
LAST-MODIFIED:20260222T210620Z
UID:10004457-1798963200-1798977600@lopbc.org
SUMMARY:VBS 2026
DESCRIPTION:
URL:https://lopbc.org/church_event/vbs-2026/2027-01-03/
CATEGORIES:Children's Ministry
END:VEVENT
BEGIN:VEVENT
DTSTART;TZID=America/Chicago:20270103T080000
DTEND;TZID=America/Chicago:20270103T170000
DTSTAMP:20260423T103749
CREATED:20240225T224843Z
LAST-MODIFIED:20240226T024820Z
UID:10000404-1798963200-1798995600@lopbc.org
SUMMARY:Bean Day!
DESCRIPTION:It’s Benevolence Day! Bring your spare change to donate to support our benevolence fund.
URL:https://lopbc.org/church_event/bean-day/2027-01-03/
LOCATION:Sanctuary\, 9046 FM729\, Avinger\, TX\, 75630\, United States
CATEGORIES:Benevolence
ATTACH;FMTTYPE=image/png:https://lopbc.org/wp-content/uploads/2024/02/bean-day.png
END:VEVENT
BEGIN:VEVENT
DTSTART;TZID=America/Chicago:20270103T093000
DTEND;TZID=America/Chicago:20270103T104500
DTSTAMP:20260423T103749
CREATED:20250130T213312Z
LAST-MODIFIED:20250131T005604Z
UID:10002044-1798968600-1798973100@lopbc.org
SUMMARY:Sunday AM Sunday School
DESCRIPTION:
URL:https://lopbc.org/church_event/sunday-am-sunday-school-2/2027-01-03/
LOCATION:Classrooms\, 9046 FM729\, Avinger\, TX\, 75630\, United States
CATEGORIES:Church-wide,Community,Sunday School
END:VEVENT
BEGIN:VEVENT
DTSTART;TZID=America/Chicago:20270103T110000
DTEND;TZID=America/Chicago:20270103T123000
DTSTAMP:20260423T103749
CREATED:20250130T213205Z
LAST-MODIFIED:20250131T161102Z
UID:10001778-1798974000-1798979400@lopbc.org
SUMMARY:Sunday AM Worship
DESCRIPTION:
URL:https://lopbc.org/church_event/sunday-am-worship/2027-01-03/
LOCATION:Sanctuary\, 9046 FM729\, Avinger\, TX\, 75630\, United States
CATEGORIES:Church-wide,Community,Worship
END:VEVENT
BEGIN:VEVENT
DTSTART;TZID=America/Chicago:20270103T180000
DTEND;TZID=America/Chicago:20270103T190000
DTSTAMP:20260423T103749
CREATED:20250130T213902Z
LAST-MODIFIED:20260222T210931Z
UID:10002313-1798999200-1799002800@lopbc.org
SUMMARY:Sunday Evening Worship
DESCRIPTION:
URL:https://lopbc.org/church_event/sunday-evening-worship/2027-01-03/
LOCATION:Sanctuary\, 9046 FM729\, Avinger\, TX\, 75630\, United States
CATEGORIES:Church-wide,Community,Worship
END:VEVENT
BEGIN:VEVENT
DTSTART;TZID=America/Chicago:20270104T080000
DTEND;TZID=America/Chicago:20270104T120000
DTSTAMP:20260423T103749
CREATED:20260222T210620Z
LAST-MODIFIED:20260222T210620Z
UID:10004458-1799049600-1799064000@lopbc.org
SUMMARY:VBS 2026
DESCRIPTION:
URL:https://lopbc.org/church_event/vbs-2026/2027-01-04/
CATEGORIES:Children's Ministry
END:VEVENT
BEGIN:VEVENT
DTSTART;TZID=America/Chicago:20270105T080000
DTEND;TZID=America/Chicago:20270105T120000
DTSTAMP:20260423T103749
CREATED:20260222T210620Z
LAST-MODIFIED:20260222T210620Z
UID:10004459-1799136000-1799150400@lopbc.org
SUMMARY:VBS 2026
DESCRIPTION:
URL:https://lopbc.org/church_event/vbs-2026/2027-01-05/
CATEGORIES:Children's Ministry
END:VEVENT
END:VCALENDAR