BEGIN:VCALENDAR
VERSION:2.0
PRODID:-//Lake O&#039; The Pines Baptist Church - ECPv6.15.20//NONSGML v1.0//EN
CALSCALE:GREGORIAN
METHOD:PUBLISH
X-ORIGINAL-URL:https://lopbc.org
X-WR-CALDESC:Events for Lake O&#039; The Pines Baptist Church
REFRESH-INTERVAL;VALUE=DURATION:PT1H
X-Robots-Tag:noindex
X-PUBLISHED-TTL:PT1H
BEGIN:VTIMEZONE
TZID:America/Chicago
BEGIN:DAYLIGHT
TZOFFSETFROM:-0600
TZOFFSETTO:-0500
TZNAME:CDT
DTSTART:20240310T080000
END:DAYLIGHT
BEGIN:STANDARD
TZOFFSETFROM:-0500
TZOFFSETTO:-0600
TZNAME:CST
DTSTART:20241103T070000
END:STANDARD
BEGIN:DAYLIGHT
TZOFFSETFROM:-0600
TZOFFSETTO:-0500
TZNAME:CDT
DTSTART:20250309T080000
END:DAYLIGHT
BEGIN:STANDARD
TZOFFSETFROM:-0500
TZOFFSETTO:-0600
TZNAME:CST
DTSTART:20251102T070000
END:STANDARD
BEGIN:DAYLIGHT
TZOFFSETFROM:-0600
TZOFFSETTO:-0500
TZNAME:CDT
DTSTART:20260308T080000
END:DAYLIGHT
BEGIN:STANDARD
TZOFFSETFROM:-0500
TZOFFSETTO:-0600
TZNAME:CST
DTSTART:20261101T070000
END:STANDARD
END:VTIMEZONE
BEGIN:VEVENT
DTSTART;TZID=America/Chicago:20250330T110000
DTEND;TZID=America/Chicago:20250330T123000
DTSTAMP:20260423T185635
CREATED:20250130T213205Z
LAST-MODIFIED:20250131T161102Z
UID:10001686-1743332400-1743337800@lopbc.org
SUMMARY:Sunday AM Worship
DESCRIPTION:
URL:https://lopbc.org/church_event/sunday-am-worship/2025-03-30/
LOCATION:Sanctuary\, 9046 FM729\, Avinger\, TX\, 75630\, United States
CATEGORIES:Church-wide,Community,Worship
END:VEVENT
BEGIN:VEVENT
DTSTART;TZID=America/Chicago:20250330T120000
DTEND;TZID=America/Chicago:20250330T130000
DTSTAMP:20260423T185635
CREATED:20250131T003136Z
LAST-MODIFIED:20250131T003136Z
UID:10003353-1743336000-1743339600@lopbc.org
SUMMARY:Youth Fundraiser Lunch
DESCRIPTION:
URL:https://lopbc.org/church_event/youth-fundraiser-lunch/
LOCATION:Fellowship Hall\, 9046 FM729\, Avinger\, TX\, 75630
CATEGORIES:Church-wide,Community,Youth Ministry
END:VEVENT
BEGIN:VEVENT
DTSTART;TZID=America/Chicago:20250330T180000
DTEND;TZID=America/Chicago:20250330T190000
DTSTAMP:20260423T185635
CREATED:20250131T003604Z
LAST-MODIFIED:20250131T003604Z
UID:10003354-1743357600-1743361200@lopbc.org
SUMMARY:Fifth Sunday Singing
DESCRIPTION:
URL:https://lopbc.org/church_event/fifth-sunday-singing/2025-03-30/
LOCATION:Sanctuary\, 9046 FM729\, Avinger\, TX\, 75630\, United States
CATEGORIES:Church-wide,Community,Worship
END:VEVENT
BEGIN:VEVENT
DTSTART;TZID=America/Chicago:20250331T180000
DTEND;TZID=America/Chicago:20250331T190000
DTSTAMP:20260423T185635
CREATED:20250130T222510Z
LAST-MODIFIED:20250130T224652Z
UID:10003028-1743444000-1743447600@lopbc.org
SUMMARY:Women of Worship (WoW) Bible Study
DESCRIPTION:
URL:https://lopbc.org/church_event/women-of-worship-wow-bible-study/2025-03-31/
LOCATION:Fellowship Hall\, 9046 FM729\, Avinger\, TX\, 75630
CATEGORIES:Community,Women's Ministry
END:VEVENT
BEGIN:VEVENT
DTSTART;TZID=America/Chicago:20250401T173000
DTEND;TZID=America/Chicago:20250401T183000
DTSTAMP:20260423T185635
CREATED:20250130T211824Z
LAST-MODIFIED:20250130T211824Z
UID:10001351-1743528600-1743532200@lopbc.org
SUMMARY:Deacon Meeting
DESCRIPTION:
URL:https://lopbc.org/church_event/deacon-meeting-2/2025-04-01/
CATEGORIES:Deacon
END:VEVENT
BEGIN:VEVENT
DTSTART;TZID=America/Chicago:20250401T183000
DTEND;TZID=America/Chicago:20250401T193000
DTSTAMP:20260423T185635
CREATED:20240925T131838Z
LAST-MODIFIED:20240925T133039Z
UID:10001202-1743532200-1743535800@lopbc.org
SUMMARY:Man Camp
DESCRIPTION:Come enjoy a meat-filled meal and fellowship with the men of the church. Occurs every 1st Tuesday.
URL:https://lopbc.org/church_event/man-camp/2025-04-01/
LOCATION:Fellowship Hall\, 9046 FM729\, Avinger\, TX\, 75630
CATEGORIES:Community,Men's Ministry
END:VEVENT
BEGIN:VEVENT
DTSTART;TZID=America/Chicago:20250402T180000
DTEND;TZID=America/Chicago:20250402T183000
DTSTAMP:20260423T185635
CREATED:20250130T214435Z
LAST-MODIFIED:20260222T204211Z
UID:10002752-1743616800-1743618600@lopbc.org
SUMMARY:Family Night Meal
DESCRIPTION:
URL:https://lopbc.org/church_event/family-night-meal/2025-04-02/
LOCATION:Fellowship Hall\, 9046 FM729\, Avinger\, TX\, 75630
CATEGORIES:Church-wide,Community
END:VEVENT
BEGIN:VEVENT
DTSTART;TZID=America/Chicago:20250402T183000
DTEND;TZID=America/Chicago:20250402T193000
DTSTAMP:20260423T185635
CREATED:20250130T214249Z
LAST-MODIFIED:20260222T200208Z
UID:10002486-1743618600-1743622200@lopbc.org
SUMMARY:Family Night Worship
DESCRIPTION:
URL:https://lopbc.org/church_event/wednesday-night-worship/2025-04-02/
LOCATION:Sanctuary\, 9046 FM729\, Avinger\, TX\, 75630\, United States
CATEGORIES:Church-wide,Community,Worship
END:VEVENT
BEGIN:VEVENT
DTSTART;TZID=America/Chicago:20250404T080000
DTEND;TZID=America/Chicago:20250404T110000
DTSTAMP:20260423T185635
CREATED:20250131T003732Z
LAST-MODIFIED:20250131T003732Z
UID:10003358-1743753600-1743764400@lopbc.org
SUMMARY:Children's Garage Sale Prep
DESCRIPTION:
URL:https://lopbc.org/church_event/childrens-garage-sale-prep/
CATEGORIES:Children's Ministry
END:VEVENT
BEGIN:VEVENT
DTSTART;TZID=America/Chicago:20250405T080000
DTEND;TZID=America/Chicago:20250405T140000
DTSTAMP:20260423T185635
CREATED:20250131T003904Z
LAST-MODIFIED:20250131T003904Z
UID:10003359-1743840000-1743861600@lopbc.org
SUMMARY:Children's Garage Sale Fundraiser
DESCRIPTION:
URL:https://lopbc.org/church_event/childrens-garage-sale-fundraiser/
CATEGORIES:Children's Ministry,Church-wide,Community
END:VEVENT
BEGIN:VEVENT
DTSTART;TZID=America/Chicago:20250406T080000
DTEND;TZID=America/Chicago:20250406T170000
DTSTAMP:20260423T185635
CREATED:20240225T224843Z
LAST-MODIFIED:20240226T024820Z
UID:10000383-1743926400-1743958800@lopbc.org
SUMMARY:Bean Day!
DESCRIPTION:It’s Benevolence Day! Bring your spare change to donate to support our benevolence fund.
URL:https://lopbc.org/church_event/bean-day/2025-04-06/
LOCATION:Sanctuary\, 9046 FM729\, Avinger\, TX\, 75630\, United States
CATEGORIES:Benevolence
ATTACH;FMTTYPE=image/png:https://lopbc.org/wp-content/uploads/2024/02/bean-day.png
END:VEVENT
BEGIN:VEVENT
DTSTART;TZID=America/Chicago:20250406T093000
DTEND;TZID=America/Chicago:20250406T104500
DTSTAMP:20260423T185635
CREATED:20250130T213312Z
LAST-MODIFIED:20250131T005604Z
UID:10001953-1743931800-1743936300@lopbc.org
SUMMARY:Sunday AM Sunday School
DESCRIPTION:
URL:https://lopbc.org/church_event/sunday-am-sunday-school-2/2025-04-06/
LOCATION:Classrooms\, 9046 FM729\, Avinger\, TX\, 75630\, United States
CATEGORIES:Church-wide,Community,Sunday School
END:VEVENT
BEGIN:VEVENT
DTSTART;TZID=America/Chicago:20250406T110000
DTEND;TZID=America/Chicago:20250406T123000
DTSTAMP:20260423T185635
CREATED:20250130T213205Z
LAST-MODIFIED:20250131T161102Z
UID:10001687-1743937200-1743942600@lopbc.org
SUMMARY:Sunday AM Worship
DESCRIPTION:
URL:https://lopbc.org/church_event/sunday-am-worship/2025-04-06/
LOCATION:Sanctuary\, 9046 FM729\, Avinger\, TX\, 75630\, United States
CATEGORIES:Church-wide,Community,Worship
END:VEVENT
BEGIN:VEVENT
DTSTART;TZID=America/Chicago:20250406T160000
DTEND;TZID=America/Chicago:20250406T170000
DTSTAMP:20260423T185635
CREATED:20250130T221823Z
LAST-MODIFIED:20250130T221823Z
UID:10003015-1743955200-1743958800@lopbc.org
SUMMARY:Team War Room Council
DESCRIPTION:
URL:https://lopbc.org/church_event/team-war-room-council/2025-04-06/
LOCATION:Sanctuary\, 9046 FM729\, Avinger\, TX\, 75630\, United States
CATEGORIES:Committees
END:VEVENT
BEGIN:VEVENT
DTSTART;TZID=America/Chicago:20250406T180000
DTEND;TZID=America/Chicago:20250406T190000
DTSTAMP:20260423T185635
CREATED:20250131T002901Z
LAST-MODIFIED:20250131T002901Z
UID:10003345-1743962400-1743966000@lopbc.org
SUMMARY:No  Evening Worship Service
DESCRIPTION:
URL:https://lopbc.org/church_event/no-evening-worship-service/2025-04-06/
CATEGORIES:Church-wide,Community,Worship
END:VEVENT
BEGIN:VEVENT
DTSTART;TZID=America/Chicago:20250407T180000
DTEND;TZID=America/Chicago:20250407T190000
DTSTAMP:20260423T185635
CREATED:20250130T222510Z
LAST-MODIFIED:20250130T224652Z
UID:10003029-1744048800-1744052400@lopbc.org
SUMMARY:Women of Worship (WoW) Bible Study
DESCRIPTION:
URL:https://lopbc.org/church_event/women-of-worship-wow-bible-study/2025-04-07/
LOCATION:Fellowship Hall\, 9046 FM729\, Avinger\, TX\, 75630
CATEGORIES:Community,Women's Ministry
END:VEVENT
BEGIN:VEVENT
DTSTART;TZID=America/Chicago:20250409T180000
DTEND;TZID=America/Chicago:20250409T183000
DTSTAMP:20260423T185635
CREATED:20250130T214435Z
LAST-MODIFIED:20260222T204211Z
UID:10002753-1744221600-1744223400@lopbc.org
SUMMARY:Family Night Meal
DESCRIPTION:
URL:https://lopbc.org/church_event/family-night-meal/2025-04-09/
LOCATION:Fellowship Hall\, 9046 FM729\, Avinger\, TX\, 75630
CATEGORIES:Church-wide,Community
END:VEVENT
BEGIN:VEVENT
DTSTART;TZID=America/Chicago:20250409T183000
DTEND;TZID=America/Chicago:20250409T193000
DTSTAMP:20260423T185635
CREATED:20250130T214249Z
LAST-MODIFIED:20260222T200208Z
UID:10002487-1744223400-1744227000@lopbc.org
SUMMARY:Family Night Worship
DESCRIPTION:
URL:https://lopbc.org/church_event/wednesday-night-worship/2025-04-09/
LOCATION:Sanctuary\, 9046 FM729\, Avinger\, TX\, 75630\, United States
CATEGORIES:Church-wide,Community,Worship
END:VEVENT
BEGIN:VEVENT
DTSTART;TZID=America/Chicago:20250413T093000
DTEND;TZID=America/Chicago:20250413T104500
DTSTAMP:20260423T185635
CREATED:20250130T213312Z
LAST-MODIFIED:20250131T005604Z
UID:10001954-1744536600-1744541100@lopbc.org
SUMMARY:Sunday AM Sunday School
DESCRIPTION:
URL:https://lopbc.org/church_event/sunday-am-sunday-school-2/2025-04-13/
LOCATION:Classrooms\, 9046 FM729\, Avinger\, TX\, 75630\, United States
CATEGORIES:Church-wide,Community,Sunday School
END:VEVENT
BEGIN:VEVENT
DTSTART;TZID=America/Chicago:20250413T110000
DTEND;TZID=America/Chicago:20250413T123000
DTSTAMP:20260423T185635
CREATED:20250130T213205Z
LAST-MODIFIED:20250131T161102Z
UID:10001688-1744542000-1744547400@lopbc.org
SUMMARY:Sunday AM Worship
DESCRIPTION:
URL:https://lopbc.org/church_event/sunday-am-worship/2025-04-13/
LOCATION:Sanctuary\, 9046 FM729\, Avinger\, TX\, 75630\, United States
CATEGORIES:Church-wide,Community,Worship
END:VEVENT
BEGIN:VEVENT
DTSTART;TZID=America/Chicago:20250413T160000
DTEND;TZID=America/Chicago:20250413T170000
DTSTAMP:20260423T185635
CREATED:20250131T004020Z
LAST-MODIFIED:20250131T004020Z
UID:10003360-1744560000-1744563600@lopbc.org
SUMMARY:Association Bible Drill
DESCRIPTION:
URL:https://lopbc.org/church_event/association-bible-drill-2/
LOCATION:Sanctuary\, 9046 FM729\, Avinger\, TX\, 75630\, United States
CATEGORIES:Bible Drill,Children's Ministry,Church-wide,Community,Youth Ministry
END:VEVENT
BEGIN:VEVENT
DTSTART;TZID=America/Chicago:20250413T180000
DTEND;TZID=America/Chicago:20250413T190000
DTSTAMP:20260423T185635
CREATED:20250130T213902Z
LAST-MODIFIED:20260222T210931Z
UID:10002223-1744567200-1744570800@lopbc.org
SUMMARY:Sunday Evening Worship
DESCRIPTION:
URL:https://lopbc.org/church_event/sunday-evening-worship/2025-04-13/
LOCATION:Sanctuary\, 9046 FM729\, Avinger\, TX\, 75630\, United States
CATEGORIES:Church-wide,Community,Worship
END:VEVENT
BEGIN:VEVENT
DTSTART;TZID=America/Chicago:20250414T180000
DTEND;TZID=America/Chicago:20250414T200000
DTSTAMP:20260423T185635
CREATED:20240225T223940Z
LAST-MODIFIED:20250825T182130Z
UID:10000322-1744653600-1744660800@lopbc.org
SUMMARY:WOW - Women of Worship Meeting
DESCRIPTION:Women of Worship (WOW) is the Lake O’ The Pines Baptist Church Women’s Ministry. We meet the second Monday of each month 6:00 – 8:00 PM. We have wonderful praise and worship music\, a short program and of course we enjoy sharing favorite dishes or snacks. Childcare is provided up to 12 years old. We would love for you to join us!
URL:https://lopbc.org/church_event/wow-women-of-worship-meeting/2025-04-14/
LOCATION:Fellowship Hall\, 9046 FM729\, Avinger\, TX\, 75630
CATEGORIES:Women's Ministry
ATTACH;FMTTYPE=image/png:https://lopbc.org/wp-content/uploads/2025/08/wow-2025-1200x800-1.png
END:VEVENT
BEGIN:VEVENT
DTSTART;TZID=America/Chicago:20250416T180000
DTEND;TZID=America/Chicago:20250416T183000
DTSTAMP:20260423T185635
CREATED:20250130T214435Z
LAST-MODIFIED:20260222T204211Z
UID:10002754-1744826400-1744828200@lopbc.org
SUMMARY:Family Night Meal
DESCRIPTION:
URL:https://lopbc.org/church_event/family-night-meal/2025-04-16/
LOCATION:Fellowship Hall\, 9046 FM729\, Avinger\, TX\, 75630
CATEGORIES:Church-wide,Community
END:VEVENT
BEGIN:VEVENT
DTSTART;TZID=America/Chicago:20250416T183000
DTEND;TZID=America/Chicago:20250416T193000
DTSTAMP:20260423T185635
CREATED:20250130T214249Z
LAST-MODIFIED:20260222T200208Z
UID:10002488-1744828200-1744831800@lopbc.org
SUMMARY:Family Night Worship
DESCRIPTION:
URL:https://lopbc.org/church_event/wednesday-night-worship/2025-04-16/
LOCATION:Sanctuary\, 9046 FM729\, Avinger\, TX\, 75630\, United States
CATEGORIES:Church-wide,Community,Worship
END:VEVENT
BEGIN:VEVENT
DTSTART;VALUE=DATE:20250418
DTEND;VALUE=DATE:20250419
DTSTAMP:20260423T185635
CREATED:20250131T004120Z
LAST-MODIFIED:20250131T004120Z
UID:10003361-1744934400-1745020799@lopbc.org
SUMMARY:Good Friday
DESCRIPTION:
URL:https://lopbc.org/church_event/good-friday-2/
CATEGORIES:Church-wide,Community,Holiday
END:VEVENT
BEGIN:VEVENT
DTSTART;TZID=America/Chicago:20250419T080000
DTEND;TZID=America/Chicago:20250419T090000
DTSTAMP:20260423T185635
CREATED:20250131T004244Z
LAST-MODIFIED:20250131T004244Z
UID:10003362-1745049600-1745053200@lopbc.org
SUMMARY:Easter Egg Hunt Prep & Load
DESCRIPTION:
URL:https://lopbc.org/church_event/easter-egg-hunt-prep-load/
CATEGORIES:Children's Ministry,Church-wide,Youth Ministry
END:VEVENT
BEGIN:VEVENT
DTSTART;TZID=America/Chicago:20250419T100000
DTEND;TZID=America/Chicago:20250419T130000
DTSTAMP:20260423T185635
CREATED:20250131T004412Z
LAST-MODIFIED:20250131T004412Z
UID:10003363-1745056800-1745067600@lopbc.org
SUMMARY:Easter Egg Hunt
DESCRIPTION:
URL:https://lopbc.org/church_event/easter-egg-hunt/
LOCATION:Hurricane Creek Park\, Jefferson\, TX
CATEGORIES:Children's Ministry,Church-wide,Community,Youth Ministry
END:VEVENT
BEGIN:VEVENT
DTSTART;TZID=America/Chicago:20250420T073000
DTEND;TZID=America/Chicago:20250420T081500
DTSTAMP:20260423T185635
CREATED:20250131T004921Z
LAST-MODIFIED:20250409T185436Z
UID:10003364-1745134200-1745136900@lopbc.org
SUMMARY:Sonrise Service
DESCRIPTION:
URL:https://lopbc.org/church_event/sonrise-service-2/
LOCATION:Johnson Creek Park\, 580 Crestwood Lp.\, Avinger\, TX\, 75630\, United States
CATEGORIES:Church-wide,Community,Worship
ATTACH;FMTTYPE=image/jpeg:https://lopbc.org/wp-content/uploads/2025/04/easter-2025.jpg
END:VEVENT
BEGIN:VEVENT
DTSTART;TZID=America/Chicago:20250420T083000
DTEND;TZID=America/Chicago:20250420T093000
DTSTAMP:20260423T185635
CREATED:20250131T005110Z
LAST-MODIFIED:20250131T005110Z
UID:10003365-1745137800-1745141400@lopbc.org
SUMMARY:Easter Breakfast
DESCRIPTION:
URL:https://lopbc.org/church_event/easter-breakfast/
LOCATION:Fellowship Hall\, 9046 FM729\, Avinger\, TX\, 75630
CATEGORIES:Church-wide,Community
END:VEVENT
END:VCALENDAR