BEGIN:VCALENDAR
VERSION:2.0
PRODID:-//Lake O&#039; The Pines Baptist Church - ECPv6.15.20//NONSGML v1.0//EN
CALSCALE:GREGORIAN
METHOD:PUBLISH
X-WR-CALNAME:Lake O&#039; The Pines Baptist Church
X-ORIGINAL-URL:https://lopbc.org
X-WR-CALDESC:Events for Lake O&#039; The Pines Baptist Church
REFRESH-INTERVAL;VALUE=DURATION:PT1H
X-Robots-Tag:noindex
X-PUBLISHED-TTL:PT1H
BEGIN:VTIMEZONE
TZID:America/Chicago
BEGIN:DAYLIGHT
TZOFFSETFROM:-0600
TZOFFSETTO:-0500
TZNAME:CDT
DTSTART:20260308T080000
END:DAYLIGHT
BEGIN:STANDARD
TZOFFSETFROM:-0500
TZOFFSETTO:-0600
TZNAME:CST
DTSTART:20261101T070000
END:STANDARD
BEGIN:DAYLIGHT
TZOFFSETFROM:-0600
TZOFFSETTO:-0500
TZNAME:CDT
DTSTART:20270314T080000
END:DAYLIGHT
BEGIN:STANDARD
TZOFFSETFROM:-0500
TZOFFSETTO:-0600
TZNAME:CST
DTSTART:20271107T070000
END:STANDARD
BEGIN:DAYLIGHT
TZOFFSETFROM:-0600
TZOFFSETTO:-0500
TZNAME:CDT
DTSTART:20280312T080000
END:DAYLIGHT
BEGIN:STANDARD
TZOFFSETFROM:-0500
TZOFFSETTO:-0600
TZNAME:CST
DTSTART:20281105T070000
END:STANDARD
BEGIN:DAYLIGHT
TZOFFSETFROM:-0600
TZOFFSETTO:-0500
TZNAME:CDT
DTSTART:20290311T080000
END:DAYLIGHT
BEGIN:STANDARD
TZOFFSETFROM:-0500
TZOFFSETTO:-0600
TZNAME:CST
DTSTART:20291104T070000
END:STANDARD
END:VTIMEZONE
BEGIN:VEVENT
DTSTART;TZID=America/Chicago:20270504T173000
DTEND;TZID=America/Chicago:20270504T193000
DTSTAMP:20260422T224904
CREATED:20260222T201048Z
LAST-MODIFIED:20260222T201048Z
UID:10004057-1809451800-1809459000@lopbc.org
SUMMARY:Praying Hearts and Hands
DESCRIPTION:
URL:https://lopbc.org/church_event/praying-hearts-and-hands/2027-05-04/
END:VEVENT
BEGIN:VEVENT
DTSTART;TZID=America/Chicago:20270518T173000
DTEND;TZID=America/Chicago:20270518T203000
DTSTAMP:20260422T224904
CREATED:20260222T201217Z
LAST-MODIFIED:20260222T201217Z
UID:10004117-1810661400-1810672200@lopbc.org
SUMMARY:Praying Hearts and Hands
DESCRIPTION:
URL:https://lopbc.org/church_event/praying-hearts-and-hands-2/2027-05-18/
CATEGORIES:Praying Hearts and Hands
END:VEVENT
BEGIN:VEVENT
DTSTART;TZID=America/Chicago:20270601T173000
DTEND;TZID=America/Chicago:20270601T193000
DTSTAMP:20260422T224904
CREATED:20260222T201048Z
LAST-MODIFIED:20260222T201048Z
UID:10004058-1811871000-1811878200@lopbc.org
SUMMARY:Praying Hearts and Hands
DESCRIPTION:
URL:https://lopbc.org/church_event/praying-hearts-and-hands/2027-06-01/
END:VEVENT
BEGIN:VEVENT
DTSTART;TZID=America/Chicago:20270615T173000
DTEND;TZID=America/Chicago:20270615T203000
DTSTAMP:20260422T224904
CREATED:20260222T201217Z
LAST-MODIFIED:20260222T201217Z
UID:10004118-1813080600-1813091400@lopbc.org
SUMMARY:Praying Hearts and Hands
DESCRIPTION:
URL:https://lopbc.org/church_event/praying-hearts-and-hands-2/2027-06-15/
CATEGORIES:Praying Hearts and Hands
END:VEVENT
BEGIN:VEVENT
DTSTART;TZID=America/Chicago:20270706T173000
DTEND;TZID=America/Chicago:20270706T193000
DTSTAMP:20260422T224904
CREATED:20260222T201048Z
LAST-MODIFIED:20260222T201048Z
UID:10004059-1814895000-1814902200@lopbc.org
SUMMARY:Praying Hearts and Hands
DESCRIPTION:
URL:https://lopbc.org/church_event/praying-hearts-and-hands/2027-07-06/
END:VEVENT
BEGIN:VEVENT
DTSTART;TZID=America/Chicago:20270720T173000
DTEND;TZID=America/Chicago:20270720T203000
DTSTAMP:20260422T224904
CREATED:20260222T201217Z
LAST-MODIFIED:20260222T201217Z
UID:10004119-1816104600-1816115400@lopbc.org
SUMMARY:Praying Hearts and Hands
DESCRIPTION:
URL:https://lopbc.org/church_event/praying-hearts-and-hands-2/2027-07-20/
CATEGORIES:Praying Hearts and Hands
END:VEVENT
BEGIN:VEVENT
DTSTART;TZID=America/Chicago:20270803T173000
DTEND;TZID=America/Chicago:20270803T193000
DTSTAMP:20260422T224904
CREATED:20260222T201048Z
LAST-MODIFIED:20260222T201048Z
UID:10004060-1817314200-1817321400@lopbc.org
SUMMARY:Praying Hearts and Hands
DESCRIPTION:
URL:https://lopbc.org/church_event/praying-hearts-and-hands/2027-08-03/
END:VEVENT
BEGIN:VEVENT
DTSTART;TZID=America/Chicago:20270817T173000
DTEND;TZID=America/Chicago:20270817T203000
DTSTAMP:20260422T224904
CREATED:20260222T201217Z
LAST-MODIFIED:20260222T201217Z
UID:10004120-1818523800-1818534600@lopbc.org
SUMMARY:Praying Hearts and Hands
DESCRIPTION:
URL:https://lopbc.org/church_event/praying-hearts-and-hands-2/2027-08-17/
CATEGORIES:Praying Hearts and Hands
END:VEVENT
BEGIN:VEVENT
DTSTART;TZID=America/Chicago:20270907T173000
DTEND;TZID=America/Chicago:20270907T193000
DTSTAMP:20260422T224904
CREATED:20260222T201048Z
LAST-MODIFIED:20260222T201048Z
UID:10004061-1820338200-1820345400@lopbc.org
SUMMARY:Praying Hearts and Hands
DESCRIPTION:
URL:https://lopbc.org/church_event/praying-hearts-and-hands/2027-09-07/
END:VEVENT
BEGIN:VEVENT
DTSTART;TZID=America/Chicago:20270921T173000
DTEND;TZID=America/Chicago:20270921T203000
DTSTAMP:20260422T224904
CREATED:20260222T201217Z
LAST-MODIFIED:20260222T201217Z
UID:10004121-1821547800-1821558600@lopbc.org
SUMMARY:Praying Hearts and Hands
DESCRIPTION:
URL:https://lopbc.org/church_event/praying-hearts-and-hands-2/2027-09-21/
CATEGORIES:Praying Hearts and Hands
END:VEVENT
BEGIN:VEVENT
DTSTART;TZID=America/Chicago:20271005T173000
DTEND;TZID=America/Chicago:20271005T193000
DTSTAMP:20260422T224904
CREATED:20260222T201048Z
LAST-MODIFIED:20260222T201048Z
UID:10004062-1822757400-1822764600@lopbc.org
SUMMARY:Praying Hearts and Hands
DESCRIPTION:
URL:https://lopbc.org/church_event/praying-hearts-and-hands/2027-10-05/
END:VEVENT
BEGIN:VEVENT
DTSTART;TZID=America/Chicago:20271019T173000
DTEND;TZID=America/Chicago:20271019T203000
DTSTAMP:20260422T224904
CREATED:20260222T201217Z
LAST-MODIFIED:20260222T201217Z
UID:10004122-1823967000-1823977800@lopbc.org
SUMMARY:Praying Hearts and Hands
DESCRIPTION:
URL:https://lopbc.org/church_event/praying-hearts-and-hands-2/2027-10-19/
CATEGORIES:Praying Hearts and Hands
END:VEVENT
BEGIN:VEVENT
DTSTART;TZID=America/Chicago:20271102T173000
DTEND;TZID=America/Chicago:20271102T193000
DTSTAMP:20260422T224904
CREATED:20260222T201048Z
LAST-MODIFIED:20260222T201048Z
UID:10004063-1825176600-1825183800@lopbc.org
SUMMARY:Praying Hearts and Hands
DESCRIPTION:
URL:https://lopbc.org/church_event/praying-hearts-and-hands/2027-11-02/
END:VEVENT
BEGIN:VEVENT
DTSTART;TZID=America/Chicago:20271116T173000
DTEND;TZID=America/Chicago:20271116T203000
DTSTAMP:20260422T224904
CREATED:20260222T201217Z
LAST-MODIFIED:20260222T201217Z
UID:10004123-1826386200-1826397000@lopbc.org
SUMMARY:Praying Hearts and Hands
DESCRIPTION:
URL:https://lopbc.org/church_event/praying-hearts-and-hands-2/2027-11-16/
CATEGORIES:Praying Hearts and Hands
END:VEVENT
BEGIN:VEVENT
DTSTART;TZID=America/Chicago:20271207T173000
DTEND;TZID=America/Chicago:20271207T193000
DTSTAMP:20260422T224904
CREATED:20260222T201048Z
LAST-MODIFIED:20260222T201048Z
UID:10004064-1828200600-1828207800@lopbc.org
SUMMARY:Praying Hearts and Hands
DESCRIPTION:
URL:https://lopbc.org/church_event/praying-hearts-and-hands/2027-12-07/
END:VEVENT
BEGIN:VEVENT
DTSTART;TZID=America/Chicago:20271221T173000
DTEND;TZID=America/Chicago:20271221T203000
DTSTAMP:20260422T224904
CREATED:20260222T201217Z
LAST-MODIFIED:20260222T201217Z
UID:10004124-1829410200-1829421000@lopbc.org
SUMMARY:Praying Hearts and Hands
DESCRIPTION:
URL:https://lopbc.org/church_event/praying-hearts-and-hands-2/2027-12-21/
CATEGORIES:Praying Hearts and Hands
END:VEVENT
BEGIN:VEVENT
DTSTART;TZID=America/Chicago:20280104T173000
DTEND;TZID=America/Chicago:20280104T193000
DTSTAMP:20260422T224904
CREATED:20260222T201048Z
LAST-MODIFIED:20260222T201048Z
UID:10004065-1830619800-1830627000@lopbc.org
SUMMARY:Praying Hearts and Hands
DESCRIPTION:
URL:https://lopbc.org/church_event/praying-hearts-and-hands/2028-01-04/
END:VEVENT
BEGIN:VEVENT
DTSTART;TZID=America/Chicago:20280118T173000
DTEND;TZID=America/Chicago:20280118T203000
DTSTAMP:20260422T224904
CREATED:20260222T201217Z
LAST-MODIFIED:20260222T201217Z
UID:10004125-1831829400-1831840200@lopbc.org
SUMMARY:Praying Hearts and Hands
DESCRIPTION:
URL:https://lopbc.org/church_event/praying-hearts-and-hands-2/2028-01-18/
CATEGORIES:Praying Hearts and Hands
END:VEVENT
BEGIN:VEVENT
DTSTART;TZID=America/Chicago:20280201T173000
DTEND;TZID=America/Chicago:20280201T193000
DTSTAMP:20260422T224904
CREATED:20260222T201048Z
LAST-MODIFIED:20260222T201048Z
UID:10004066-1833039000-1833046200@lopbc.org
SUMMARY:Praying Hearts and Hands
DESCRIPTION:
URL:https://lopbc.org/church_event/praying-hearts-and-hands/2028-02-01/
END:VEVENT
BEGIN:VEVENT
DTSTART;TZID=America/Chicago:20280215T173000
DTEND;TZID=America/Chicago:20280215T203000
DTSTAMP:20260422T224904
CREATED:20260222T201217Z
LAST-MODIFIED:20260222T201217Z
UID:10004126-1834248600-1834259400@lopbc.org
SUMMARY:Praying Hearts and Hands
DESCRIPTION:
URL:https://lopbc.org/church_event/praying-hearts-and-hands-2/2028-02-15/
CATEGORIES:Praying Hearts and Hands
END:VEVENT
BEGIN:VEVENT
DTSTART;TZID=America/Chicago:20280307T173000
DTEND;TZID=America/Chicago:20280307T193000
DTSTAMP:20260422T224904
CREATED:20260222T201048Z
LAST-MODIFIED:20260222T201048Z
UID:10004067-1836063000-1836070200@lopbc.org
SUMMARY:Praying Hearts and Hands
DESCRIPTION:
URL:https://lopbc.org/church_event/praying-hearts-and-hands/2028-03-07/
END:VEVENT
BEGIN:VEVENT
DTSTART;TZID=America/Chicago:20280321T173000
DTEND;TZID=America/Chicago:20280321T203000
DTSTAMP:20260422T224904
CREATED:20260222T201217Z
LAST-MODIFIED:20260222T201217Z
UID:10004127-1837272600-1837283400@lopbc.org
SUMMARY:Praying Hearts and Hands
DESCRIPTION:
URL:https://lopbc.org/church_event/praying-hearts-and-hands-2/2028-03-21/
CATEGORIES:Praying Hearts and Hands
END:VEVENT
BEGIN:VEVENT
DTSTART;TZID=America/Chicago:20280404T173000
DTEND;TZID=America/Chicago:20280404T193000
DTSTAMP:20260422T224904
CREATED:20260222T201048Z
LAST-MODIFIED:20260222T201048Z
UID:10004068-1838482200-1838489400@lopbc.org
SUMMARY:Praying Hearts and Hands
DESCRIPTION:
URL:https://lopbc.org/church_event/praying-hearts-and-hands/2028-04-04/
END:VEVENT
BEGIN:VEVENT
DTSTART;TZID=America/Chicago:20280418T173000
DTEND;TZID=America/Chicago:20280418T203000
DTSTAMP:20260422T224904
CREATED:20260222T201217Z
LAST-MODIFIED:20260222T201217Z
UID:10004128-1839691800-1839702600@lopbc.org
SUMMARY:Praying Hearts and Hands
DESCRIPTION:
URL:https://lopbc.org/church_event/praying-hearts-and-hands-2/2028-04-18/
CATEGORIES:Praying Hearts and Hands
END:VEVENT
BEGIN:VEVENT
DTSTART;TZID=America/Chicago:20280502T173000
DTEND;TZID=America/Chicago:20280502T193000
DTSTAMP:20260422T224904
CREATED:20260222T201048Z
LAST-MODIFIED:20260222T201048Z
UID:10004069-1840901400-1840908600@lopbc.org
SUMMARY:Praying Hearts and Hands
DESCRIPTION:
URL:https://lopbc.org/church_event/praying-hearts-and-hands/2028-05-02/
END:VEVENT
BEGIN:VEVENT
DTSTART;TZID=America/Chicago:20280516T173000
DTEND;TZID=America/Chicago:20280516T203000
DTSTAMP:20260422T224904
CREATED:20260222T201217Z
LAST-MODIFIED:20260222T201217Z
UID:10004129-1842111000-1842121800@lopbc.org
SUMMARY:Praying Hearts and Hands
DESCRIPTION:
URL:https://lopbc.org/church_event/praying-hearts-and-hands-2/2028-05-16/
CATEGORIES:Praying Hearts and Hands
END:VEVENT
BEGIN:VEVENT
DTSTART;TZID=America/Chicago:20280606T173000
DTEND;TZID=America/Chicago:20280606T193000
DTSTAMP:20260422T224904
CREATED:20260222T201048Z
LAST-MODIFIED:20260222T201048Z
UID:10004070-1843925400-1843932600@lopbc.org
SUMMARY:Praying Hearts and Hands
DESCRIPTION:
URL:https://lopbc.org/church_event/praying-hearts-and-hands/2028-06-06/
END:VEVENT
BEGIN:VEVENT
DTSTART;TZID=America/Chicago:20280620T173000
DTEND;TZID=America/Chicago:20280620T203000
DTSTAMP:20260422T224904
CREATED:20260222T201217Z
LAST-MODIFIED:20260222T201217Z
UID:10004130-1845135000-1845145800@lopbc.org
SUMMARY:Praying Hearts and Hands
DESCRIPTION:
URL:https://lopbc.org/church_event/praying-hearts-and-hands-2/2028-06-20/
CATEGORIES:Praying Hearts and Hands
END:VEVENT
BEGIN:VEVENT
DTSTART;TZID=America/Chicago:20280704T173000
DTEND;TZID=America/Chicago:20280704T193000
DTSTAMP:20260422T224904
CREATED:20260222T201048Z
LAST-MODIFIED:20260222T201048Z
UID:10004071-1846344600-1846351800@lopbc.org
SUMMARY:Praying Hearts and Hands
DESCRIPTION:
URL:https://lopbc.org/church_event/praying-hearts-and-hands/2028-07-04/
END:VEVENT
BEGIN:VEVENT
DTSTART;TZID=America/Chicago:20280718T173000
DTEND;TZID=America/Chicago:20280718T203000
DTSTAMP:20260422T224904
CREATED:20260222T201217Z
LAST-MODIFIED:20260222T201217Z
UID:10004131-1847554200-1847565000@lopbc.org
SUMMARY:Praying Hearts and Hands
DESCRIPTION:
URL:https://lopbc.org/church_event/praying-hearts-and-hands-2/2028-07-18/
CATEGORIES:Praying Hearts and Hands
END:VEVENT
END:VCALENDAR