BEGIN:VCALENDAR
VERSION:2.0
PRODID:-//Lake O&#039; The Pines Baptist Church - ECPv6.15.20//NONSGML v1.0//EN
CALSCALE:GREGORIAN
METHOD:PUBLISH
X-ORIGINAL-URL:https://lopbc.org
X-WR-CALDESC:Events for Lake O&#039; The Pines Baptist Church
REFRESH-INTERVAL;VALUE=DURATION:PT1H
X-Robots-Tag:noindex
X-PUBLISHED-TTL:PT1H
BEGIN:VTIMEZONE
TZID:America/Chicago
BEGIN:DAYLIGHT
TZOFFSETFROM:-0600
TZOFFSETTO:-0500
TZNAME:CDT
DTSTART:20290311T080000
END:DAYLIGHT
BEGIN:STANDARD
TZOFFSETFROM:-0500
TZOFFSETTO:-0600
TZNAME:CST
DTSTART:20291104T070000
END:STANDARD
BEGIN:DAYLIGHT
TZOFFSETFROM:-0600
TZOFFSETTO:-0500
TZNAME:CDT
DTSTART:20300310T080000
END:DAYLIGHT
BEGIN:STANDARD
TZOFFSETFROM:-0500
TZOFFSETTO:-0600
TZNAME:CST
DTSTART:20301103T070000
END:STANDARD
BEGIN:DAYLIGHT
TZOFFSETFROM:-0600
TZOFFSETTO:-0500
TZNAME:CDT
DTSTART:20310309T080000
END:DAYLIGHT
BEGIN:STANDARD
TZOFFSETFROM:-0500
TZOFFSETTO:-0600
TZNAME:CST
DTSTART:20311102T070000
END:STANDARD
BEGIN:DAYLIGHT
TZOFFSETFROM:-0600
TZOFFSETTO:-0500
TZNAME:CDT
DTSTART:20320314T080000
END:DAYLIGHT
BEGIN:STANDARD
TZOFFSETFROM:-0500
TZOFFSETTO:-0600
TZNAME:CST
DTSTART:20321107T070000
END:STANDARD
END:VTIMEZONE
BEGIN:VEVENT
DTSTART;TZID=America/Chicago:20300507T173000
DTEND;TZID=America/Chicago:20300507T193000
DTSTAMP:20260423T060551
CREATED:20260222T201048Z
LAST-MODIFIED:20260222T201048Z
UID:10004093-1904405400-1904412600@lopbc.org
SUMMARY:Praying Hearts and Hands
DESCRIPTION:
URL:https://lopbc.org/church_event/praying-hearts-and-hands/2030-05-07/
END:VEVENT
BEGIN:VEVENT
DTSTART;TZID=America/Chicago:20300521T173000
DTEND;TZID=America/Chicago:20300521T203000
DTSTAMP:20260423T060551
CREATED:20260222T201217Z
LAST-MODIFIED:20260222T201217Z
UID:10004153-1905615000-1905625800@lopbc.org
SUMMARY:Praying Hearts and Hands
DESCRIPTION:
URL:https://lopbc.org/church_event/praying-hearts-and-hands-2/2030-05-21/
CATEGORIES:Praying Hearts and Hands
END:VEVENT
BEGIN:VEVENT
DTSTART;TZID=America/Chicago:20300604T173000
DTEND;TZID=America/Chicago:20300604T193000
DTSTAMP:20260423T060551
CREATED:20260222T201048Z
LAST-MODIFIED:20260222T201048Z
UID:10004094-1906824600-1906831800@lopbc.org
SUMMARY:Praying Hearts and Hands
DESCRIPTION:
URL:https://lopbc.org/church_event/praying-hearts-and-hands/2030-06-04/
END:VEVENT
BEGIN:VEVENT
DTSTART;TZID=America/Chicago:20300618T173000
DTEND;TZID=America/Chicago:20300618T203000
DTSTAMP:20260423T060551
CREATED:20260222T201217Z
LAST-MODIFIED:20260222T201217Z
UID:10004154-1908034200-1908045000@lopbc.org
SUMMARY:Praying Hearts and Hands
DESCRIPTION:
URL:https://lopbc.org/church_event/praying-hearts-and-hands-2/2030-06-18/
CATEGORIES:Praying Hearts and Hands
END:VEVENT
BEGIN:VEVENT
DTSTART;TZID=America/Chicago:20300702T173000
DTEND;TZID=America/Chicago:20300702T193000
DTSTAMP:20260423T060551
CREATED:20260222T201048Z
LAST-MODIFIED:20260222T201048Z
UID:10004095-1909243800-1909251000@lopbc.org
SUMMARY:Praying Hearts and Hands
DESCRIPTION:
URL:https://lopbc.org/church_event/praying-hearts-and-hands/2030-07-02/
END:VEVENT
BEGIN:VEVENT
DTSTART;TZID=America/Chicago:20300716T173000
DTEND;TZID=America/Chicago:20300716T203000
DTSTAMP:20260423T060551
CREATED:20260222T201217Z
LAST-MODIFIED:20260222T201217Z
UID:10004155-1910453400-1910464200@lopbc.org
SUMMARY:Praying Hearts and Hands
DESCRIPTION:
URL:https://lopbc.org/church_event/praying-hearts-and-hands-2/2030-07-16/
CATEGORIES:Praying Hearts and Hands
END:VEVENT
BEGIN:VEVENT
DTSTART;TZID=America/Chicago:20300806T173000
DTEND;TZID=America/Chicago:20300806T193000
DTSTAMP:20260423T060551
CREATED:20260222T201048Z
LAST-MODIFIED:20260222T201048Z
UID:10004096-1912267800-1912275000@lopbc.org
SUMMARY:Praying Hearts and Hands
DESCRIPTION:
URL:https://lopbc.org/church_event/praying-hearts-and-hands/2030-08-06/
END:VEVENT
BEGIN:VEVENT
DTSTART;TZID=America/Chicago:20300820T173000
DTEND;TZID=America/Chicago:20300820T203000
DTSTAMP:20260423T060551
CREATED:20260222T201217Z
LAST-MODIFIED:20260222T201217Z
UID:10004156-1913477400-1913488200@lopbc.org
SUMMARY:Praying Hearts and Hands
DESCRIPTION:
URL:https://lopbc.org/church_event/praying-hearts-and-hands-2/2030-08-20/
CATEGORIES:Praying Hearts and Hands
END:VEVENT
BEGIN:VEVENT
DTSTART;TZID=America/Chicago:20300903T173000
DTEND;TZID=America/Chicago:20300903T193000
DTSTAMP:20260423T060551
CREATED:20260222T201048Z
LAST-MODIFIED:20260222T201048Z
UID:10004097-1914687000-1914694200@lopbc.org
SUMMARY:Praying Hearts and Hands
DESCRIPTION:
URL:https://lopbc.org/church_event/praying-hearts-and-hands/2030-09-03/
END:VEVENT
BEGIN:VEVENT
DTSTART;TZID=America/Chicago:20300917T173000
DTEND;TZID=America/Chicago:20300917T203000
DTSTAMP:20260423T060551
CREATED:20260222T201217Z
LAST-MODIFIED:20260222T201217Z
UID:10004157-1915896600-1915907400@lopbc.org
SUMMARY:Praying Hearts and Hands
DESCRIPTION:
URL:https://lopbc.org/church_event/praying-hearts-and-hands-2/2030-09-17/
CATEGORIES:Praying Hearts and Hands
END:VEVENT
BEGIN:VEVENT
DTSTART;TZID=America/Chicago:20301001T173000
DTEND;TZID=America/Chicago:20301001T193000
DTSTAMP:20260423T060551
CREATED:20260222T201048Z
LAST-MODIFIED:20260222T201048Z
UID:10004098-1917106200-1917113400@lopbc.org
SUMMARY:Praying Hearts and Hands
DESCRIPTION:
URL:https://lopbc.org/church_event/praying-hearts-and-hands/2030-10-01/
END:VEVENT
BEGIN:VEVENT
DTSTART;TZID=America/Chicago:20301015T173000
DTEND;TZID=America/Chicago:20301015T203000
DTSTAMP:20260423T060551
CREATED:20260222T201217Z
LAST-MODIFIED:20260222T201217Z
UID:10004158-1918315800-1918326600@lopbc.org
SUMMARY:Praying Hearts and Hands
DESCRIPTION:
URL:https://lopbc.org/church_event/praying-hearts-and-hands-2/2030-10-15/
CATEGORIES:Praying Hearts and Hands
END:VEVENT
BEGIN:VEVENT
DTSTART;TZID=America/Chicago:20301105T173000
DTEND;TZID=America/Chicago:20301105T193000
DTSTAMP:20260423T060551
CREATED:20260222T201048Z
LAST-MODIFIED:20260222T201048Z
UID:10004099-1920130200-1920137400@lopbc.org
SUMMARY:Praying Hearts and Hands
DESCRIPTION:
URL:https://lopbc.org/church_event/praying-hearts-and-hands/2030-11-05/
END:VEVENT
BEGIN:VEVENT
DTSTART;TZID=America/Chicago:20301119T173000
DTEND;TZID=America/Chicago:20301119T203000
DTSTAMP:20260423T060551
CREATED:20260222T201217Z
LAST-MODIFIED:20260222T201217Z
UID:10004159-1921339800-1921350600@lopbc.org
SUMMARY:Praying Hearts and Hands
DESCRIPTION:
URL:https://lopbc.org/church_event/praying-hearts-and-hands-2/2030-11-19/
CATEGORIES:Praying Hearts and Hands
END:VEVENT
BEGIN:VEVENT
DTSTART;TZID=America/Chicago:20301203T173000
DTEND;TZID=America/Chicago:20301203T193000
DTSTAMP:20260423T060551
CREATED:20260222T201048Z
LAST-MODIFIED:20260222T201048Z
UID:10004100-1922549400-1922556600@lopbc.org
SUMMARY:Praying Hearts and Hands
DESCRIPTION:
URL:https://lopbc.org/church_event/praying-hearts-and-hands/2030-12-03/
END:VEVENT
BEGIN:VEVENT
DTSTART;TZID=America/Chicago:20301217T173000
DTEND;TZID=America/Chicago:20301217T203000
DTSTAMP:20260423T060551
CREATED:20260222T201217Z
LAST-MODIFIED:20260222T201217Z
UID:10004160-1923759000-1923769800@lopbc.org
SUMMARY:Praying Hearts and Hands
DESCRIPTION:
URL:https://lopbc.org/church_event/praying-hearts-and-hands-2/2030-12-17/
CATEGORIES:Praying Hearts and Hands
END:VEVENT
BEGIN:VEVENT
DTSTART;TZID=America/Chicago:20310107T173000
DTEND;TZID=America/Chicago:20310107T193000
DTSTAMP:20260423T060551
CREATED:20260222T201048Z
LAST-MODIFIED:20260222T201048Z
UID:10004101-1925573400-1925580600@lopbc.org
SUMMARY:Praying Hearts and Hands
DESCRIPTION:
URL:https://lopbc.org/church_event/praying-hearts-and-hands/2031-01-07/
END:VEVENT
BEGIN:VEVENT
DTSTART;TZID=America/Chicago:20310121T173000
DTEND;TZID=America/Chicago:20310121T203000
DTSTAMP:20260423T060551
CREATED:20260222T201217Z
LAST-MODIFIED:20260222T201217Z
UID:10004161-1926783000-1926793800@lopbc.org
SUMMARY:Praying Hearts and Hands
DESCRIPTION:
URL:https://lopbc.org/church_event/praying-hearts-and-hands-2/2031-01-21/
CATEGORIES:Praying Hearts and Hands
END:VEVENT
BEGIN:VEVENT
DTSTART;TZID=America/Chicago:20310204T173000
DTEND;TZID=America/Chicago:20310204T193000
DTSTAMP:20260423T060551
CREATED:20260222T201048Z
LAST-MODIFIED:20260222T201048Z
UID:10004102-1927992600-1927999800@lopbc.org
SUMMARY:Praying Hearts and Hands
DESCRIPTION:
URL:https://lopbc.org/church_event/praying-hearts-and-hands/2031-02-04/
END:VEVENT
BEGIN:VEVENT
DTSTART;TZID=America/Chicago:20310218T173000
DTEND;TZID=America/Chicago:20310218T203000
DTSTAMP:20260423T060551
CREATED:20260222T201217Z
LAST-MODIFIED:20260222T201217Z
UID:10004162-1929202200-1929213000@lopbc.org
SUMMARY:Praying Hearts and Hands
DESCRIPTION:
URL:https://lopbc.org/church_event/praying-hearts-and-hands-2/2031-02-18/
CATEGORIES:Praying Hearts and Hands
END:VEVENT
END:VCALENDAR