BEGIN:VCALENDAR
VERSION:2.0
PRODID:-//Lake O&#039; The Pines Baptist Church - ECPv6.15.20//NONSGML v1.0//EN
CALSCALE:GREGORIAN
METHOD:PUBLISH
X-ORIGINAL-URL:https://lopbc.org
X-WR-CALDESC:Events for Lake O&#039; The Pines Baptist Church
REFRESH-INTERVAL;VALUE=DURATION:PT1H
X-Robots-Tag:noindex
X-PUBLISHED-TTL:PT1H
BEGIN:VTIMEZONE
TZID:America/Chicago
BEGIN:DAYLIGHT
TZOFFSETFROM:-0600
TZOFFSETTO:-0500
TZNAME:CDT
DTSTART:20250309T080000
END:DAYLIGHT
BEGIN:STANDARD
TZOFFSETFROM:-0500
TZOFFSETTO:-0600
TZNAME:CST
DTSTART:20251102T070000
END:STANDARD
BEGIN:DAYLIGHT
TZOFFSETFROM:-0600
TZOFFSETTO:-0500
TZNAME:CDT
DTSTART:20260308T080000
END:DAYLIGHT
BEGIN:STANDARD
TZOFFSETFROM:-0500
TZOFFSETTO:-0600
TZNAME:CST
DTSTART:20261101T070000
END:STANDARD
BEGIN:DAYLIGHT
TZOFFSETFROM:-0600
TZOFFSETTO:-0500
TZNAME:CDT
DTSTART:20270314T080000
END:DAYLIGHT
BEGIN:STANDARD
TZOFFSETFROM:-0500
TZOFFSETTO:-0600
TZNAME:CST
DTSTART:20271107T070000
END:STANDARD
END:VTIMEZONE
BEGIN:VEVENT
DTSTART;TZID=America/Chicago:20260719T080000
DTEND;TZID=America/Chicago:20260719T120000
DTSTAMP:20260423T001538
CREATED:20260222T210620Z
LAST-MODIFIED:20260222T210620Z
UID:10004289-1784448000-1784462400@lopbc.org
SUMMARY:VBS 2026
DESCRIPTION:
URL:https://lopbc.org/church_event/vbs-2026/2026-07-19/
CATEGORIES:Children's Ministry
END:VEVENT
BEGIN:VEVENT
DTSTART;TZID=America/Chicago:20260720T080000
DTEND;TZID=America/Chicago:20260720T120000
DTSTAMP:20260423T001538
CREATED:20260222T210620Z
LAST-MODIFIED:20260222T210620Z
UID:10004290-1784534400-1784548800@lopbc.org
SUMMARY:VBS 2026
DESCRIPTION:
URL:https://lopbc.org/church_event/vbs-2026/2026-07-20/
CATEGORIES:Children's Ministry
END:VEVENT
BEGIN:VEVENT
DTSTART;TZID=America/Chicago:20260721T080000
DTEND;TZID=America/Chicago:20260721T120000
DTSTAMP:20260423T001538
CREATED:20260222T210620Z
LAST-MODIFIED:20260222T210620Z
UID:10004291-1784620800-1784635200@lopbc.org
SUMMARY:VBS 2026
DESCRIPTION:
URL:https://lopbc.org/church_event/vbs-2026/2026-07-21/
CATEGORIES:Children's Ministry
END:VEVENT
BEGIN:VEVENT
DTSTART;TZID=America/Chicago:20260722T080000
DTEND;TZID=America/Chicago:20260722T120000
DTSTAMP:20260423T001538
CREATED:20260222T210620Z
LAST-MODIFIED:20260222T210620Z
UID:10004292-1784707200-1784721600@lopbc.org
SUMMARY:VBS 2026
DESCRIPTION:
URL:https://lopbc.org/church_event/vbs-2026/2026-07-22/
CATEGORIES:Children's Ministry
END:VEVENT
BEGIN:VEVENT
DTSTART;TZID=America/Chicago:20260723T080000
DTEND;TZID=America/Chicago:20260723T120000
DTSTAMP:20260423T001538
CREATED:20260222T210620Z
LAST-MODIFIED:20260222T210620Z
UID:10004293-1784793600-1784808000@lopbc.org
SUMMARY:VBS 2026
DESCRIPTION:
URL:https://lopbc.org/church_event/vbs-2026/2026-07-23/
CATEGORIES:Children's Ministry
END:VEVENT
BEGIN:VEVENT
DTSTART;TZID=America/Chicago:20260724T080000
DTEND;TZID=America/Chicago:20260724T120000
DTSTAMP:20260423T001538
CREATED:20260222T210620Z
LAST-MODIFIED:20260222T210620Z
UID:10004294-1784880000-1784894400@lopbc.org
SUMMARY:VBS 2026
DESCRIPTION:
URL:https://lopbc.org/church_event/vbs-2026/2026-07-24/
CATEGORIES:Children's Ministry
END:VEVENT
BEGIN:VEVENT
DTSTART;TZID=America/Chicago:20260725T080000
DTEND;TZID=America/Chicago:20260725T120000
DTSTAMP:20260423T001538
CREATED:20260222T210620Z
LAST-MODIFIED:20260222T210620Z
UID:10004295-1784966400-1784980800@lopbc.org
SUMMARY:VBS 2026
DESCRIPTION:
URL:https://lopbc.org/church_event/vbs-2026/2026-07-25/
CATEGORIES:Children's Ministry
END:VEVENT
BEGIN:VEVENT
DTSTART;TZID=America/Chicago:20260726T080000
DTEND;TZID=America/Chicago:20260726T120000
DTSTAMP:20260423T001538
CREATED:20260222T210620Z
LAST-MODIFIED:20260222T210620Z
UID:10004296-1785052800-1785067200@lopbc.org
SUMMARY:VBS 2026
DESCRIPTION:
URL:https://lopbc.org/church_event/vbs-2026/2026-07-26/
CATEGORIES:Children's Ministry
END:VEVENT
BEGIN:VEVENT
DTSTART;TZID=America/Chicago:20260727T080000
DTEND;TZID=America/Chicago:20260727T120000
DTSTAMP:20260423T001538
CREATED:20260222T210620Z
LAST-MODIFIED:20260222T210620Z
UID:10004297-1785139200-1785153600@lopbc.org
SUMMARY:VBS 2026
DESCRIPTION:
URL:https://lopbc.org/church_event/vbs-2026/2026-07-27/
CATEGORIES:Children's Ministry
END:VEVENT
BEGIN:VEVENT
DTSTART;TZID=America/Chicago:20260728T080000
DTEND;TZID=America/Chicago:20260728T120000
DTSTAMP:20260423T001538
CREATED:20260222T210620Z
LAST-MODIFIED:20260222T210620Z
UID:10004298-1785225600-1785240000@lopbc.org
SUMMARY:VBS 2026
DESCRIPTION:
URL:https://lopbc.org/church_event/vbs-2026/2026-07-28/
CATEGORIES:Children's Ministry
END:VEVENT
BEGIN:VEVENT
DTSTART;TZID=America/Chicago:20260729T080000
DTEND;TZID=America/Chicago:20260729T120000
DTSTAMP:20260423T001538
CREATED:20260222T210620Z
LAST-MODIFIED:20260222T210620Z
UID:10004299-1785312000-1785326400@lopbc.org
SUMMARY:VBS 2026
DESCRIPTION:
URL:https://lopbc.org/church_event/vbs-2026/2026-07-29/
CATEGORIES:Children's Ministry
END:VEVENT
BEGIN:VEVENT
DTSTART;TZID=America/Chicago:20260730T080000
DTEND;TZID=America/Chicago:20260730T120000
DTSTAMP:20260423T001538
CREATED:20260222T210620Z
LAST-MODIFIED:20260222T210620Z
UID:10004300-1785398400-1785412800@lopbc.org
SUMMARY:VBS 2026
DESCRIPTION:
URL:https://lopbc.org/church_event/vbs-2026/2026-07-30/
CATEGORIES:Children's Ministry
END:VEVENT
BEGIN:VEVENT
DTSTART;TZID=America/Chicago:20260731T080000
DTEND;TZID=America/Chicago:20260731T120000
DTSTAMP:20260423T001538
CREATED:20260222T210620Z
LAST-MODIFIED:20260222T210620Z
UID:10004301-1785484800-1785499200@lopbc.org
SUMMARY:VBS 2026
DESCRIPTION:
URL:https://lopbc.org/church_event/vbs-2026/2026-07-31/
CATEGORIES:Children's Ministry
END:VEVENT
BEGIN:VEVENT
DTSTART;TZID=America/Chicago:20260801T080000
DTEND;TZID=America/Chicago:20260801T120000
DTSTAMP:20260423T001538
CREATED:20260222T210620Z
LAST-MODIFIED:20260222T210620Z
UID:10004302-1785571200-1785585600@lopbc.org
SUMMARY:VBS 2026
DESCRIPTION:
URL:https://lopbc.org/church_event/vbs-2026/2026-08-01/
CATEGORIES:Children's Ministry
END:VEVENT
BEGIN:VEVENT
DTSTART;TZID=America/Chicago:20260802T080000
DTEND;TZID=America/Chicago:20260802T120000
DTSTAMP:20260423T001538
CREATED:20260222T210620Z
LAST-MODIFIED:20260222T210620Z
UID:10004303-1785657600-1785672000@lopbc.org
SUMMARY:VBS 2026
DESCRIPTION:
URL:https://lopbc.org/church_event/vbs-2026/2026-08-02/
CATEGORIES:Children's Ministry
END:VEVENT
BEGIN:VEVENT
DTSTART;TZID=America/Chicago:20260803T080000
DTEND;TZID=America/Chicago:20260803T120000
DTSTAMP:20260423T001538
CREATED:20260222T210620Z
LAST-MODIFIED:20260222T210620Z
UID:10004304-1785744000-1785758400@lopbc.org
SUMMARY:VBS 2026
DESCRIPTION:
URL:https://lopbc.org/church_event/vbs-2026/2026-08-03/
CATEGORIES:Children's Ministry
END:VEVENT
BEGIN:VEVENT
DTSTART;TZID=America/Chicago:20260804T080000
DTEND;TZID=America/Chicago:20260804T120000
DTSTAMP:20260423T001538
CREATED:20260222T210620Z
LAST-MODIFIED:20260222T210620Z
UID:10004305-1785830400-1785844800@lopbc.org
SUMMARY:VBS 2026
DESCRIPTION:
URL:https://lopbc.org/church_event/vbs-2026/2026-08-04/
CATEGORIES:Children's Ministry
END:VEVENT
BEGIN:VEVENT
DTSTART;TZID=America/Chicago:20260805T080000
DTEND;TZID=America/Chicago:20260805T120000
DTSTAMP:20260423T001538
CREATED:20260222T210620Z
LAST-MODIFIED:20260222T210620Z
UID:10004306-1785916800-1785931200@lopbc.org
SUMMARY:VBS 2026
DESCRIPTION:
URL:https://lopbc.org/church_event/vbs-2026/2026-08-05/
CATEGORIES:Children's Ministry
END:VEVENT
BEGIN:VEVENT
DTSTART;TZID=America/Chicago:20260806T080000
DTEND;TZID=America/Chicago:20260806T120000
DTSTAMP:20260423T001538
CREATED:20260222T210620Z
LAST-MODIFIED:20260222T210620Z
UID:10004307-1786003200-1786017600@lopbc.org
SUMMARY:VBS 2026
DESCRIPTION:
URL:https://lopbc.org/church_event/vbs-2026/2026-08-06/
CATEGORIES:Children's Ministry
END:VEVENT
BEGIN:VEVENT
DTSTART;TZID=America/Chicago:20260807T080000
DTEND;TZID=America/Chicago:20260807T120000
DTSTAMP:20260423T001538
CREATED:20260222T210620Z
LAST-MODIFIED:20260222T210620Z
UID:10004308-1786089600-1786104000@lopbc.org
SUMMARY:VBS 2026
DESCRIPTION:
URL:https://lopbc.org/church_event/vbs-2026/2026-08-07/
CATEGORIES:Children's Ministry
END:VEVENT
BEGIN:VEVENT
DTSTART;TZID=America/Chicago:20260808T080000
DTEND;TZID=America/Chicago:20260808T120000
DTSTAMP:20260423T001538
CREATED:20260222T210620Z
LAST-MODIFIED:20260222T210620Z
UID:10004309-1786176000-1786190400@lopbc.org
SUMMARY:VBS 2026
DESCRIPTION:
URL:https://lopbc.org/church_event/vbs-2026/2026-08-08/
CATEGORIES:Children's Ministry
END:VEVENT
BEGIN:VEVENT
DTSTART;TZID=America/Chicago:20260809T080000
DTEND;TZID=America/Chicago:20260809T120000
DTSTAMP:20260423T001538
CREATED:20260222T210620Z
LAST-MODIFIED:20260222T210620Z
UID:10004310-1786262400-1786276800@lopbc.org
SUMMARY:VBS 2026
DESCRIPTION:
URL:https://lopbc.org/church_event/vbs-2026/2026-08-09/
CATEGORIES:Children's Ministry
END:VEVENT
BEGIN:VEVENT
DTSTART;TZID=America/Chicago:20260810T080000
DTEND;TZID=America/Chicago:20260810T120000
DTSTAMP:20260423T001538
CREATED:20260222T210620Z
LAST-MODIFIED:20260222T210620Z
UID:10004311-1786348800-1786363200@lopbc.org
SUMMARY:VBS 2026
DESCRIPTION:
URL:https://lopbc.org/church_event/vbs-2026/2026-08-10/
CATEGORIES:Children's Ministry
END:VEVENT
BEGIN:VEVENT
DTSTART;TZID=America/Chicago:20260811T080000
DTEND;TZID=America/Chicago:20260811T120000
DTSTAMP:20260423T001538
CREATED:20260222T210620Z
LAST-MODIFIED:20260222T210620Z
UID:10004312-1786435200-1786449600@lopbc.org
SUMMARY:VBS 2026
DESCRIPTION:
URL:https://lopbc.org/church_event/vbs-2026/2026-08-11/
CATEGORIES:Children's Ministry
END:VEVENT
BEGIN:VEVENT
DTSTART;TZID=America/Chicago:20260812T080000
DTEND;TZID=America/Chicago:20260812T120000
DTSTAMP:20260423T001538
CREATED:20260222T210620Z
LAST-MODIFIED:20260222T210620Z
UID:10004313-1786521600-1786536000@lopbc.org
SUMMARY:VBS 2026
DESCRIPTION:
URL:https://lopbc.org/church_event/vbs-2026/2026-08-12/
CATEGORIES:Children's Ministry
END:VEVENT
BEGIN:VEVENT
DTSTART;TZID=America/Chicago:20260813T080000
DTEND;TZID=America/Chicago:20260813T120000
DTSTAMP:20260423T001538
CREATED:20260222T210620Z
LAST-MODIFIED:20260222T210620Z
UID:10004314-1786608000-1786622400@lopbc.org
SUMMARY:VBS 2026
DESCRIPTION:
URL:https://lopbc.org/church_event/vbs-2026/2026-08-13/
CATEGORIES:Children's Ministry
END:VEVENT
BEGIN:VEVENT
DTSTART;TZID=America/Chicago:20260814T080000
DTEND;TZID=America/Chicago:20260814T120000
DTSTAMP:20260423T001538
CREATED:20260222T210620Z
LAST-MODIFIED:20260222T210620Z
UID:10004315-1786694400-1786708800@lopbc.org
SUMMARY:VBS 2026
DESCRIPTION:
URL:https://lopbc.org/church_event/vbs-2026/2026-08-14/
CATEGORIES:Children's Ministry
END:VEVENT
BEGIN:VEVENT
DTSTART;TZID=America/Chicago:20260815T080000
DTEND;TZID=America/Chicago:20260815T120000
DTSTAMP:20260423T001538
CREATED:20260222T210620Z
LAST-MODIFIED:20260222T210620Z
UID:10004316-1786780800-1786795200@lopbc.org
SUMMARY:VBS 2026
DESCRIPTION:
URL:https://lopbc.org/church_event/vbs-2026/2026-08-15/
CATEGORIES:Children's Ministry
END:VEVENT
BEGIN:VEVENT
DTSTART;TZID=America/Chicago:20260816T080000
DTEND;TZID=America/Chicago:20260816T120000
DTSTAMP:20260423T001538
CREATED:20260222T210620Z
LAST-MODIFIED:20260222T210620Z
UID:10004317-1786867200-1786881600@lopbc.org
SUMMARY:VBS 2026
DESCRIPTION:
URL:https://lopbc.org/church_event/vbs-2026/2026-08-16/
CATEGORIES:Children's Ministry
END:VEVENT
BEGIN:VEVENT
DTSTART;TZID=America/Chicago:20260817T080000
DTEND;TZID=America/Chicago:20260817T120000
DTSTAMP:20260423T001538
CREATED:20260222T210620Z
LAST-MODIFIED:20260222T210620Z
UID:10004318-1786953600-1786968000@lopbc.org
SUMMARY:VBS 2026
DESCRIPTION:
URL:https://lopbc.org/church_event/vbs-2026/2026-08-17/
CATEGORIES:Children's Ministry
END:VEVENT
END:VCALENDAR