BEGIN:VCALENDAR
VERSION:2.0
PRODID:-//Lake O&#039; The Pines Baptist Church - ECPv6.15.20//NONSGML v1.0//EN
CALSCALE:GREGORIAN
METHOD:PUBLISH
X-ORIGINAL-URL:https://lopbc.org
X-WR-CALDESC:Events for Lake O&#039; The Pines Baptist Church
REFRESH-INTERVAL;VALUE=DURATION:PT1H
X-Robots-Tag:noindex
X-PUBLISHED-TTL:PT1H
BEGIN:VTIMEZONE
TZID:America/Chicago
BEGIN:DAYLIGHT
TZOFFSETFROM:-0600
TZOFFSETTO:-0500
TZNAME:CDT
DTSTART:20230312T080000
END:DAYLIGHT
BEGIN:STANDARD
TZOFFSETFROM:-0500
TZOFFSETTO:-0600
TZNAME:CST
DTSTART:20231105T070000
END:STANDARD
BEGIN:DAYLIGHT
TZOFFSETFROM:-0600
TZOFFSETTO:-0500
TZNAME:CDT
DTSTART:20240310T080000
END:DAYLIGHT
BEGIN:STANDARD
TZOFFSETFROM:-0500
TZOFFSETTO:-0600
TZNAME:CST
DTSTART:20241103T070000
END:STANDARD
BEGIN:DAYLIGHT
TZOFFSETFROM:-0600
TZOFFSETTO:-0500
TZNAME:CDT
DTSTART:20250309T080000
END:DAYLIGHT
BEGIN:STANDARD
TZOFFSETFROM:-0500
TZOFFSETTO:-0600
TZNAME:CST
DTSTART:20251102T070000
END:STANDARD
BEGIN:DAYLIGHT
TZOFFSETFROM:-0600
TZOFFSETTO:-0500
TZNAME:CDT
DTSTART:20260308T080000
END:DAYLIGHT
BEGIN:STANDARD
TZOFFSETFROM:-0500
TZOFFSETTO:-0600
TZNAME:CST
DTSTART:20261101T070000
END:STANDARD
END:VTIMEZONE
BEGIN:VEVENT
DTSTART;TZID=America/Chicago:20250310T180000
DTEND;TZID=America/Chicago:20250310T200000
DTSTAMP:20260423T041538
CREATED:20240225T223940Z
LAST-MODIFIED:20250825T182130Z
UID:10000321-1741629600-1741636800@lopbc.org
SUMMARY:WOW - Women of Worship Meeting
DESCRIPTION:Women of Worship (WOW) is the Lake O’ The Pines Baptist Church Women’s Ministry. We meet the second Monday of each month 6:00 – 8:00 PM. We have wonderful praise and worship music\, a short program and of course we enjoy sharing favorite dishes or snacks. Childcare is provided up to 12 years old. We would love for you to join us!
URL:https://lopbc.org/church_event/wow-women-of-worship-meeting/2025-03-10/
LOCATION:Fellowship Hall\, 9046 FM729\, Avinger\, TX\, 75630
CATEGORIES:Women's Ministry
ATTACH;FMTTYPE=image/png:https://lopbc.org/wp-content/uploads/2025/08/wow-2025-1200x800-1.png
END:VEVENT
BEGIN:VEVENT
DTSTART;TZID=America/Chicago:20250303T180000
DTEND;TZID=America/Chicago:20250303T190000
DTSTAMP:20260423T041538
CREATED:20250130T222510Z
LAST-MODIFIED:20250130T224652Z
UID:10003024-1741024800-1741028400@lopbc.org
SUMMARY:Women of Worship (WoW) Bible Study
DESCRIPTION:
URL:https://lopbc.org/church_event/women-of-worship-wow-bible-study/2025-03-03/
LOCATION:Fellowship Hall\, 9046 FM729\, Avinger\, TX\, 75630
CATEGORIES:Community,Women's Ministry
END:VEVENT
BEGIN:VEVENT
DTSTART;TZID=America/Chicago:20250224T180000
DTEND;TZID=America/Chicago:20250224T190000
DTSTAMP:20260423T041538
CREATED:20250130T222510Z
LAST-MODIFIED:20250130T224652Z
UID:10003023-1740420000-1740423600@lopbc.org
SUMMARY:Women of Worship (WoW) Bible Study
DESCRIPTION:
URL:https://lopbc.org/church_event/women-of-worship-wow-bible-study/2025-02-24/
LOCATION:Fellowship Hall\, 9046 FM729\, Avinger\, TX\, 75630
CATEGORIES:Community,Women's Ministry
END:VEVENT
BEGIN:VEVENT
DTSTART;TZID=America/Chicago:20250217T180000
DTEND;TZID=America/Chicago:20250217T190000
DTSTAMP:20260423T041538
CREATED:20250130T222510Z
LAST-MODIFIED:20250130T224652Z
UID:10003022-1739815200-1739818800@lopbc.org
SUMMARY:Women of Worship (WoW) Bible Study
DESCRIPTION:
URL:https://lopbc.org/church_event/women-of-worship-wow-bible-study/2025-02-17/
LOCATION:Fellowship Hall\, 9046 FM729\, Avinger\, TX\, 75630
CATEGORIES:Community,Women's Ministry
END:VEVENT
BEGIN:VEVENT
DTSTART;TZID=America/Chicago:20250210T180000
DTEND;TZID=America/Chicago:20250210T200000
DTSTAMP:20260423T041538
CREATED:20240225T223940Z
LAST-MODIFIED:20250825T182130Z
UID:10000320-1739210400-1739217600@lopbc.org
SUMMARY:WOW - Women of Worship Meeting
DESCRIPTION:Women of Worship (WOW) is the Lake O’ The Pines Baptist Church Women’s Ministry. We meet the second Monday of each month 6:00 – 8:00 PM. We have wonderful praise and worship music\, a short program and of course we enjoy sharing favorite dishes or snacks. Childcare is provided up to 12 years old. We would love for you to join us!
URL:https://lopbc.org/church_event/wow-women-of-worship-meeting/2025-02-10/
LOCATION:Fellowship Hall\, 9046 FM729\, Avinger\, TX\, 75630
CATEGORIES:Women's Ministry
ATTACH;FMTTYPE=image/png:https://lopbc.org/wp-content/uploads/2025/08/wow-2025-1200x800-1.png
END:VEVENT
BEGIN:VEVENT
DTSTART;TZID=America/Chicago:20250203T180000
DTEND;TZID=America/Chicago:20250203T190000
DTSTAMP:20260423T041538
CREATED:20250130T222510Z
LAST-MODIFIED:20250130T224652Z
UID:10003020-1738605600-1738609200@lopbc.org
SUMMARY:Women of Worship (WoW) Bible Study
DESCRIPTION:
URL:https://lopbc.org/church_event/women-of-worship-wow-bible-study/2025-02-03/
LOCATION:Fellowship Hall\, 9046 FM729\, Avinger\, TX\, 75630
CATEGORIES:Community,Women's Ministry
END:VEVENT
BEGIN:VEVENT
DTSTART;TZID=America/Chicago:20250113T180000
DTEND;TZID=America/Chicago:20250113T200000
DTSTAMP:20260423T041538
CREATED:20240225T223940Z
LAST-MODIFIED:20250825T182130Z
UID:10000319-1736791200-1736798400@lopbc.org
SUMMARY:WOW - Women of Worship Meeting
DESCRIPTION:Women of Worship (WOW) is the Lake O’ The Pines Baptist Church Women’s Ministry. We meet the second Monday of each month 6:00 – 8:00 PM. We have wonderful praise and worship music\, a short program and of course we enjoy sharing favorite dishes or snacks. Childcare is provided up to 12 years old. We would love for you to join us!
URL:https://lopbc.org/church_event/wow-women-of-worship-meeting/2025-01-13/
LOCATION:Fellowship Hall\, 9046 FM729\, Avinger\, TX\, 75630
CATEGORIES:Women's Ministry
ATTACH;FMTTYPE=image/png:https://lopbc.org/wp-content/uploads/2025/08/wow-2025-1200x800-1.png
END:VEVENT
BEGIN:VEVENT
DTSTART;TZID=America/Chicago:20241214T170000
DTEND;TZID=America/Chicago:20241214T200000
DTSTAMP:20260423T041538
CREATED:20240226T164939Z
LAST-MODIFIED:20240226T235842Z
UID:10000654-1734195600-1734206400@lopbc.org
SUMMARY:WoW Christmas Party
DESCRIPTION:
URL:https://lopbc.org/church_event/wow-christmas-party/
LOCATION:Fellowship Hall\, 9046 FM729\, Avinger\, TX\, 75630
CATEGORIES:Women's Ministry
END:VEVENT
BEGIN:VEVENT
DTSTART;TZID=America/Chicago:20241111T180000
DTEND;TZID=America/Chicago:20241111T200000
DTSTAMP:20260423T041538
CREATED:20240225T223940Z
LAST-MODIFIED:20250825T182130Z
UID:10000317-1731348000-1731355200@lopbc.org
SUMMARY:WOW - Women of Worship Meeting
DESCRIPTION:Women of Worship (WOW) is the Lake O’ The Pines Baptist Church Women’s Ministry. We meet the second Monday of each month 6:00 – 8:00 PM. We have wonderful praise and worship music\, a short program and of course we enjoy sharing favorite dishes or snacks. Childcare is provided up to 12 years old. We would love for you to join us!
URL:https://lopbc.org/church_event/wow-women-of-worship-meeting/2024-11-11/
LOCATION:Fellowship Hall\, 9046 FM729\, Avinger\, TX\, 75630
CATEGORIES:Women's Ministry
ATTACH;FMTTYPE=image/png:https://lopbc.org/wp-content/uploads/2025/08/wow-2025-1200x800-1.png
END:VEVENT
BEGIN:VEVENT
DTSTART;TZID=America/Chicago:20241104T183000
DTEND;TZID=America/Chicago:20241104T203000
DTSTAMP:20260423T041538
CREATED:20240226T163729Z
LAST-MODIFIED:20240226T235847Z
UID:10000822-1730745000-1730752200@lopbc.org
SUMMARY:WoW Bible Study - Fall 2024
DESCRIPTION:
URL:https://lopbc.org/church_event/wow-fall-bible-study/2024-11-04/
LOCATION:Fellowship Hall\, 9046 FM729\, Avinger\, TX\, 75630
CATEGORIES:Women's Ministry
END:VEVENT
BEGIN:VEVENT
DTSTART;TZID=America/Chicago:20241028T183000
DTEND;TZID=America/Chicago:20241028T203000
DTSTAMP:20260423T041538
CREATED:20240226T163729Z
LAST-MODIFIED:20240226T235847Z
UID:10000646-1730140200-1730147400@lopbc.org
SUMMARY:WoW Bible Study - Fall 2024
DESCRIPTION:
URL:https://lopbc.org/church_event/wow-fall-bible-study/2024-10-28/
LOCATION:Fellowship Hall\, 9046 FM729\, Avinger\, TX\, 75630
CATEGORIES:Women's Ministry
END:VEVENT
BEGIN:VEVENT
DTSTART;TZID=America/Chicago:20241021T183000
DTEND;TZID=America/Chicago:20241021T203000
DTSTAMP:20260423T041538
CREATED:20240226T163729Z
LAST-MODIFIED:20240226T235847Z
UID:10000645-1729535400-1729542600@lopbc.org
SUMMARY:WoW Bible Study - Fall 2024
DESCRIPTION:
URL:https://lopbc.org/church_event/wow-fall-bible-study/2024-10-21/
LOCATION:Fellowship Hall\, 9046 FM729\, Avinger\, TX\, 75630
CATEGORIES:Women's Ministry
END:VEVENT
BEGIN:VEVENT
DTSTART;TZID=America/Chicago:20241014T180000
DTEND;TZID=America/Chicago:20241014T200000
DTSTAMP:20260423T041538
CREATED:20240225T223940Z
LAST-MODIFIED:20250825T182130Z
UID:10000316-1728928800-1728936000@lopbc.org
SUMMARY:WOW - Women of Worship Meeting
DESCRIPTION:Women of Worship (WOW) is the Lake O’ The Pines Baptist Church Women’s Ministry. We meet the second Monday of each month 6:00 – 8:00 PM. We have wonderful praise and worship music\, a short program and of course we enjoy sharing favorite dishes or snacks. Childcare is provided up to 12 years old. We would love for you to join us!
URL:https://lopbc.org/church_event/wow-women-of-worship-meeting/2024-10-14/
LOCATION:Fellowship Hall\, 9046 FM729\, Avinger\, TX\, 75630
CATEGORIES:Women's Ministry
ATTACH;FMTTYPE=image/png:https://lopbc.org/wp-content/uploads/2025/08/wow-2025-1200x800-1.png
END:VEVENT
BEGIN:VEVENT
DTSTART;TZID=America/Chicago:20241007T183000
DTEND;TZID=America/Chicago:20241007T203000
DTSTAMP:20260423T041538
CREATED:20240226T163729Z
LAST-MODIFIED:20240226T235847Z
UID:10000643-1728325800-1728333000@lopbc.org
SUMMARY:WoW Bible Study - Fall 2024
DESCRIPTION:
URL:https://lopbc.org/church_event/wow-fall-bible-study/2024-10-07/
LOCATION:Fellowship Hall\, 9046 FM729\, Avinger\, TX\, 75630
CATEGORIES:Women's Ministry
END:VEVENT
BEGIN:VEVENT
DTSTART;TZID=America/Chicago:20240930T183000
DTEND;TZID=America/Chicago:20240930T203000
DTSTAMP:20260423T041538
CREATED:20240226T163729Z
LAST-MODIFIED:20240226T235847Z
UID:10000642-1727721000-1727728200@lopbc.org
SUMMARY:WoW Bible Study - Fall 2024
DESCRIPTION:
URL:https://lopbc.org/church_event/wow-fall-bible-study/2024-09-30/
LOCATION:Fellowship Hall\, 9046 FM729\, Avinger\, TX\, 75630
CATEGORIES:Women's Ministry
END:VEVENT
BEGIN:VEVENT
DTSTART;TZID=America/Chicago:20240923T183000
DTEND;TZID=America/Chicago:20240923T203000
DTSTAMP:20260423T041538
CREATED:20240226T163729Z
LAST-MODIFIED:20240226T235847Z
UID:10000641-1727116200-1727123400@lopbc.org
SUMMARY:WoW Bible Study - Fall 2024
DESCRIPTION:
URL:https://lopbc.org/church_event/wow-fall-bible-study/2024-09-23/
LOCATION:Fellowship Hall\, 9046 FM729\, Avinger\, TX\, 75630
CATEGORIES:Women's Ministry
END:VEVENT
BEGIN:VEVENT
DTSTART;TZID=America/Chicago:20240916T183000
DTEND;TZID=America/Chicago:20240916T203000
DTSTAMP:20260423T041538
CREATED:20240226T163729Z
LAST-MODIFIED:20240226T235847Z
UID:10000640-1726511400-1726518600@lopbc.org
SUMMARY:WoW Bible Study - Fall 2024
DESCRIPTION:
URL:https://lopbc.org/church_event/wow-fall-bible-study/2024-09-16/
LOCATION:Fellowship Hall\, 9046 FM729\, Avinger\, TX\, 75630
CATEGORIES:Women's Ministry
END:VEVENT
BEGIN:VEVENT
DTSTART;TZID=America/Chicago:20240909T180000
DTEND;TZID=America/Chicago:20240909T200000
DTSTAMP:20260423T041538
CREATED:20240225T223940Z
LAST-MODIFIED:20250825T182130Z
UID:10000315-1725904800-1725912000@lopbc.org
SUMMARY:WOW - Women of Worship Meeting
DESCRIPTION:Women of Worship (WOW) is the Lake O’ The Pines Baptist Church Women’s Ministry. We meet the second Monday of each month 6:00 – 8:00 PM. We have wonderful praise and worship music\, a short program and of course we enjoy sharing favorite dishes or snacks. Childcare is provided up to 12 years old. We would love for you to join us!
URL:https://lopbc.org/church_event/wow-women-of-worship-meeting/2024-09-09/
LOCATION:Fellowship Hall\, 9046 FM729\, Avinger\, TX\, 75630
CATEGORIES:Women's Ministry
ATTACH;FMTTYPE=image/png:https://lopbc.org/wp-content/uploads/2025/08/wow-2025-1200x800-1.png
END:VEVENT
BEGIN:VEVENT
DTSTART;VALUE=DATE:20240823
DTEND;VALUE=DATE:20240826
DTSTAMP:20260423T041538
CREATED:20240226T163111Z
LAST-MODIFIED:20240226T235855Z
UID:10000636-1724371200-1724630399@lopbc.org
SUMMARY:WoW Retreat
DESCRIPTION:
URL:https://lopbc.org/church_event/wow-retreat/
CATEGORIES:Women's Ministry
END:VEVENT
BEGIN:VEVENT
DTSTART;TZID=America/Chicago:20240721T080000
DTEND;TZID=America/Chicago:20240721T170000
DTSTAMP:20260423T041538
CREATED:20240226T170630Z
LAST-MODIFIED:20240226T234314Z
UID:10000670-1721548800-1721581200@lopbc.org
SUMMARY:WoW Craft Fundraiser
DESCRIPTION:
URL:https://lopbc.org/church_event/wow-craft-fundraiser/
CATEGORIES:Church-wide,Community,Women's Ministry
END:VEVENT
BEGIN:VEVENT
DTSTART;TZID=America/Chicago:20240708T180000
DTEND;TZID=America/Chicago:20240708T200000
DTSTAMP:20260423T041538
CREATED:20240225T223940Z
LAST-MODIFIED:20250825T182130Z
UID:10000313-1720461600-1720468800@lopbc.org
SUMMARY:WOW - Women of Worship Meeting
DESCRIPTION:Women of Worship (WOW) is the Lake O’ The Pines Baptist Church Women’s Ministry. We meet the second Monday of each month 6:00 – 8:00 PM. We have wonderful praise and worship music\, a short program and of course we enjoy sharing favorite dishes or snacks. Childcare is provided up to 12 years old. We would love for you to join us!
URL:https://lopbc.org/church_event/wow-women-of-worship-meeting/2024-07-08/
LOCATION:Fellowship Hall\, 9046 FM729\, Avinger\, TX\, 75630
CATEGORIES:Women's Ministry
ATTACH;FMTTYPE=image/png:https://lopbc.org/wp-content/uploads/2025/08/wow-2025-1200x800-1.png
END:VEVENT
BEGIN:VEVENT
DTSTART;TZID=America/Chicago:20240615T080000
DTEND;TZID=America/Chicago:20240615T090000
DTSTAMP:20260423T041538
CREATED:20240226T162139Z
LAST-MODIFIED:20240226T162139Z
UID:10000630-1718438400-1718442000@lopbc.org
SUMMARY:Father's Day Breakfast
DESCRIPTION:Join us for a delicious breakfast prepared by our women’s ministry.
URL:https://lopbc.org/church_event/fathers-day-breakfast/
LOCATION:Fellowship Hall\, 9046 FM729\, Avinger\, TX\, 75630
CATEGORIES:Men's Ministry,Women's Ministry
END:VEVENT
BEGIN:VEVENT
DTSTART;TZID=America/Chicago:20240610T180000
DTEND;TZID=America/Chicago:20240610T200000
DTSTAMP:20260423T041538
CREATED:20240225T223940Z
LAST-MODIFIED:20250825T182130Z
UID:10000312-1718042400-1718049600@lopbc.org
SUMMARY:WOW - Women of Worship Meeting
DESCRIPTION:Women of Worship (WOW) is the Lake O’ The Pines Baptist Church Women’s Ministry. We meet the second Monday of each month 6:00 – 8:00 PM. We have wonderful praise and worship music\, a short program and of course we enjoy sharing favorite dishes or snacks. Childcare is provided up to 12 years old. We would love for you to join us!
URL:https://lopbc.org/church_event/wow-women-of-worship-meeting/2024-06-10/
LOCATION:Fellowship Hall\, 9046 FM729\, Avinger\, TX\, 75630
CATEGORIES:Women's Ministry
ATTACH;FMTTYPE=image/png:https://lopbc.org/wp-content/uploads/2025/08/wow-2025-1200x800-1.png
END:VEVENT
BEGIN:VEVENT
DTSTART;TZID=America/Chicago:20240513T180000
DTEND;TZID=America/Chicago:20240513T200000
DTSTAMP:20260423T041538
CREATED:20240225T223940Z
LAST-MODIFIED:20250825T182130Z
UID:10000311-1715623200-1715630400@lopbc.org
SUMMARY:WOW - Women of Worship Meeting
DESCRIPTION:Women of Worship (WOW) is the Lake O’ The Pines Baptist Church Women’s Ministry. We meet the second Monday of each month 6:00 – 8:00 PM. We have wonderful praise and worship music\, a short program and of course we enjoy sharing favorite dishes or snacks. Childcare is provided up to 12 years old. We would love for you to join us!
URL:https://lopbc.org/church_event/wow-women-of-worship-meeting/2024-05-13/
LOCATION:Fellowship Hall\, 9046 FM729\, Avinger\, TX\, 75630
CATEGORIES:Women's Ministry
ATTACH;FMTTYPE=image/png:https://lopbc.org/wp-content/uploads/2025/08/wow-2025-1200x800-1.png
END:VEVENT
BEGIN:VEVENT
DTSTART;TZID=America/Chicago:20240511T080000
DTEND;TZID=America/Chicago:20240511T170000
DTSTAMP:20260423T041538
CREATED:20240226T161006Z
LAST-MODIFIED:20240226T234525Z
UID:10000625-1715414400-1715446800@lopbc.org
SUMMARY:Mother's Day Tea
DESCRIPTION:
URL:https://lopbc.org/church_event/mothers-day-tea/
CATEGORIES:Community,Women's Ministry
END:VEVENT
BEGIN:VEVENT
DTSTART;TZID=America/Chicago:20240509T080000
DTEND;TZID=America/Chicago:20240509T170000
DTSTAMP:20260423T041538
CREATED:20240226T160918Z
LAST-MODIFIED:20240226T235902Z
UID:10000624-1715241600-1715274000@lopbc.org
SUMMARY:WoW - Casting Crowns
DESCRIPTION:
URL:https://lopbc.org/church_event/wow-casting-crowns/
CATEGORIES:Women's Ministry
END:VEVENT
BEGIN:VEVENT
DTSTART;TZID=America/Chicago:20240504T080000
DTEND;TZID=America/Chicago:20240504T170000
DTSTAMP:20260423T041538
CREATED:20240226T165707Z
LAST-MODIFIED:20240226T234559Z
UID:10000658-1714809600-1714842000@lopbc.org
SUMMARY:Jefferson Pilgrim Day (WoW Event)
DESCRIPTION:
URL:https://lopbc.org/church_event/jefferson-pilgrim-day-wow-event/
CATEGORIES:Community,Women's Ministry
END:VEVENT
BEGIN:VEVENT
DTSTART;TZID=America/Chicago:20240429T180000
DTEND;TZID=America/Chicago:20240429T200000
DTSTAMP:20260423T041538
CREATED:20240225T230749Z
LAST-MODIFIED:20240226T235911Z
UID:10000491-1714413600-1714420800@lopbc.org
SUMMARY:WoW Bible Study - Spring 2024
DESCRIPTION:
URL:https://lopbc.org/church_event/wow-bible-study-spring-2024-2/2024-04-29/
LOCATION:Sanctuary\, 9046 FM729\, Avinger\, TX\, 75630\, United States
CATEGORIES:Women's Ministry
END:VEVENT
BEGIN:VEVENT
DTSTART;TZID=America/Chicago:20240422T180000
DTEND;TZID=America/Chicago:20240422T200000
DTSTAMP:20260423T041538
CREATED:20240225T230749Z
LAST-MODIFIED:20240226T235911Z
UID:10000490-1713808800-1713816000@lopbc.org
SUMMARY:WoW Bible Study - Spring 2024
DESCRIPTION:
URL:https://lopbc.org/church_event/wow-bible-study-spring-2024-2/2024-04-22/
LOCATION:Sanctuary\, 9046 FM729\, Avinger\, TX\, 75630\, United States
CATEGORIES:Women's Ministry
END:VEVENT
BEGIN:VEVENT
DTSTART;TZID=America/Chicago:20240415T180000
DTEND;TZID=America/Chicago:20240415T200000
DTSTAMP:20260423T041538
CREATED:20240225T230749Z
LAST-MODIFIED:20240226T235911Z
UID:10000489-1713204000-1713211200@lopbc.org
SUMMARY:WoW Bible Study - Spring 2024
DESCRIPTION:
URL:https://lopbc.org/church_event/wow-bible-study-spring-2024-2/2024-04-15/
LOCATION:Sanctuary\, 9046 FM729\, Avinger\, TX\, 75630\, United States
CATEGORIES:Women's Ministry
END:VEVENT
END:VCALENDAR