BEGIN:VCALENDAR
VERSION:2.0
PRODID:-//Lake O&#039; The Pines Baptist Church - ECPv6.15.20//NONSGML v1.0//EN
CALSCALE:GREGORIAN
METHOD:PUBLISH
X-WR-CALNAME:Lake O&#039; The Pines Baptist Church
X-ORIGINAL-URL:https://lopbc.org
X-WR-CALDESC:Events for Lake O&#039; The Pines Baptist Church
REFRESH-INTERVAL;VALUE=DURATION:PT1H
X-Robots-Tag:noindex
X-PUBLISHED-TTL:PT1H
BEGIN:VTIMEZONE
TZID:America/Chicago
BEGIN:DAYLIGHT
TZOFFSETFROM:-0600
TZOFFSETTO:-0500
TZNAME:CDT
DTSTART:20230312T080000
END:DAYLIGHT
BEGIN:STANDARD
TZOFFSETFROM:-0500
TZOFFSETTO:-0600
TZNAME:CST
DTSTART:20231105T070000
END:STANDARD
BEGIN:DAYLIGHT
TZOFFSETFROM:-0600
TZOFFSETTO:-0500
TZNAME:CDT
DTSTART:20240310T080000
END:DAYLIGHT
BEGIN:STANDARD
TZOFFSETFROM:-0500
TZOFFSETTO:-0600
TZNAME:CST
DTSTART:20241103T070000
END:STANDARD
BEGIN:DAYLIGHT
TZOFFSETFROM:-0600
TZOFFSETTO:-0500
TZNAME:CDT
DTSTART:20250309T080000
END:DAYLIGHT
BEGIN:STANDARD
TZOFFSETFROM:-0500
TZOFFSETTO:-0600
TZNAME:CST
DTSTART:20251102T070000
END:STANDARD
END:VTIMEZONE
BEGIN:VEVENT
DTSTART;TZID=America/Chicago:20240511T080000
DTEND;TZID=America/Chicago:20240511T170000
DTSTAMP:20260423T063252
CREATED:20240226T161006Z
LAST-MODIFIED:20240226T234525Z
UID:10000625-1715414400-1715446800@lopbc.org
SUMMARY:Mother's Day Tea
DESCRIPTION:
URL:https://lopbc.org/church_event/mothers-day-tea/
CATEGORIES:Community,Women's Ministry
END:VEVENT
BEGIN:VEVENT
DTSTART;TZID=America/Chicago:20240509T080000
DTEND;TZID=America/Chicago:20240509T170000
DTSTAMP:20260423T063252
CREATED:20240226T160918Z
LAST-MODIFIED:20240226T235902Z
UID:10000624-1715241600-1715274000@lopbc.org
SUMMARY:WoW - Casting Crowns
DESCRIPTION:
URL:https://lopbc.org/church_event/wow-casting-crowns/
CATEGORIES:Women's Ministry
END:VEVENT
BEGIN:VEVENT
DTSTART;TZID=America/Chicago:20240504T080000
DTEND;TZID=America/Chicago:20240504T170000
DTSTAMP:20260423T063252
CREATED:20240226T165707Z
LAST-MODIFIED:20240226T234559Z
UID:10000658-1714809600-1714842000@lopbc.org
SUMMARY:Jefferson Pilgrim Day (WoW Event)
DESCRIPTION:
URL:https://lopbc.org/church_event/jefferson-pilgrim-day-wow-event/
CATEGORIES:Community,Women's Ministry
END:VEVENT
BEGIN:VEVENT
DTSTART;TZID=America/Chicago:20240429T180000
DTEND;TZID=America/Chicago:20240429T200000
DTSTAMP:20260423T063252
CREATED:20240225T230749Z
LAST-MODIFIED:20240226T235911Z
UID:10000491-1714413600-1714420800@lopbc.org
SUMMARY:WoW Bible Study - Spring 2024
DESCRIPTION:
URL:https://lopbc.org/church_event/wow-bible-study-spring-2024-2/2024-04-29/
LOCATION:Sanctuary\, 9046 FM729\, Avinger\, TX\, 75630\, United States
CATEGORIES:Women's Ministry
END:VEVENT
BEGIN:VEVENT
DTSTART;TZID=America/Chicago:20240422T180000
DTEND;TZID=America/Chicago:20240422T200000
DTSTAMP:20260423T063252
CREATED:20240225T230749Z
LAST-MODIFIED:20240226T235911Z
UID:10000490-1713808800-1713816000@lopbc.org
SUMMARY:WoW Bible Study - Spring 2024
DESCRIPTION:
URL:https://lopbc.org/church_event/wow-bible-study-spring-2024-2/2024-04-22/
LOCATION:Sanctuary\, 9046 FM729\, Avinger\, TX\, 75630\, United States
CATEGORIES:Women's Ministry
END:VEVENT
BEGIN:VEVENT
DTSTART;TZID=America/Chicago:20240415T180000
DTEND;TZID=America/Chicago:20240415T200000
DTSTAMP:20260423T063252
CREATED:20240225T230749Z
LAST-MODIFIED:20240226T235911Z
UID:10000489-1713204000-1713211200@lopbc.org
SUMMARY:WoW Bible Study - Spring 2024
DESCRIPTION:
URL:https://lopbc.org/church_event/wow-bible-study-spring-2024-2/2024-04-15/
LOCATION:Sanctuary\, 9046 FM729\, Avinger\, TX\, 75630\, United States
CATEGORIES:Women's Ministry
END:VEVENT
BEGIN:VEVENT
DTSTART;TZID=America/Chicago:20240408T180000
DTEND;TZID=America/Chicago:20240408T200000
DTSTAMP:20260423T063252
CREATED:20240225T223940Z
LAST-MODIFIED:20250825T182130Z
UID:10000310-1712599200-1712606400@lopbc.org
SUMMARY:WOW - Women of Worship Meeting
DESCRIPTION:Women of Worship (WOW) is the Lake O’ The Pines Baptist Church Women’s Ministry. We meet the second Monday of each month 6:00 – 8:00 PM. We have wonderful praise and worship music\, a short program and of course we enjoy sharing favorite dishes or snacks. Childcare is provided up to 12 years old. We would love for you to join us!
URL:https://lopbc.org/church_event/wow-women-of-worship-meeting/2024-04-08/
LOCATION:Fellowship Hall\, 9046 FM729\, Avinger\, TX\, 75630
CATEGORIES:Women's Ministry
ATTACH;FMTTYPE=image/png:https://lopbc.org/wp-content/uploads/2025/08/wow-2025-1200x800-1.png
END:VEVENT
BEGIN:VEVENT
DTSTART;TZID=America/Chicago:20240401T180000
DTEND;TZID=America/Chicago:20240401T200000
DTSTAMP:20260423T063252
CREATED:20240225T230749Z
LAST-MODIFIED:20240226T235911Z
UID:10000487-1711994400-1712001600@lopbc.org
SUMMARY:WoW Bible Study - Spring 2024
DESCRIPTION:
URL:https://lopbc.org/church_event/wow-bible-study-spring-2024-2/2024-04-01/
LOCATION:Sanctuary\, 9046 FM729\, Avinger\, TX\, 75630\, United States
CATEGORIES:Women's Ministry
END:VEVENT
BEGIN:VEVENT
DTSTART;TZID=America/Chicago:20240327T080000
DTEND;TZID=America/Chicago:20240327T170000
DTSTAMP:20260423T063252
CREATED:20240226T030110Z
LAST-MODIFIED:20240226T234741Z
UID:10000615-1711526400-1711558800@lopbc.org
SUMMARY:WOW Bake Sale Fund Raiser
DESCRIPTION:
URL:https://lopbc.org/church_event/wow-bake-sale-fund-raiser/
LOCATION:Fellowship Hall\, 9046 FM729\, Avinger\, TX\, 75630
CATEGORIES:Church-wide,Community,Women's Ministry
END:VEVENT
BEGIN:VEVENT
DTSTART;TZID=America/Chicago:20240325T180000
DTEND;TZID=America/Chicago:20240325T200000
DTSTAMP:20260423T063252
CREATED:20240225T230749Z
LAST-MODIFIED:20240226T235911Z
UID:10000486-1711389600-1711396800@lopbc.org
SUMMARY:WoW Bible Study - Spring 2024
DESCRIPTION:
URL:https://lopbc.org/church_event/wow-bible-study-spring-2024-2/2024-03-25/
LOCATION:Sanctuary\, 9046 FM729\, Avinger\, TX\, 75630\, United States
CATEGORIES:Women's Ministry
END:VEVENT
BEGIN:VEVENT
DTSTART;TZID=America/Chicago:20240318T180000
DTEND;TZID=America/Chicago:20240318T200000
DTSTAMP:20260423T063252
CREATED:20240225T230749Z
LAST-MODIFIED:20240226T235911Z
UID:10000485-1710784800-1710792000@lopbc.org
SUMMARY:WoW Bible Study - Spring 2024
DESCRIPTION:
URL:https://lopbc.org/church_event/wow-bible-study-spring-2024-2/2024-03-18/
LOCATION:Sanctuary\, 9046 FM729\, Avinger\, TX\, 75630\, United States
CATEGORIES:Women's Ministry
END:VEVENT
BEGIN:VEVENT
DTSTART;TZID=America/Chicago:20240311T180000
DTEND;TZID=America/Chicago:20240311T200000
DTSTAMP:20260423T063252
CREATED:20240225T223940Z
LAST-MODIFIED:20250825T182130Z
UID:10000309-1710180000-1710187200@lopbc.org
SUMMARY:WOW - Women of Worship Meeting
DESCRIPTION:Women of Worship (WOW) is the Lake O’ The Pines Baptist Church Women’s Ministry. We meet the second Monday of each month 6:00 – 8:00 PM. We have wonderful praise and worship music\, a short program and of course we enjoy sharing favorite dishes or snacks. Childcare is provided up to 12 years old. We would love for you to join us!
URL:https://lopbc.org/church_event/wow-women-of-worship-meeting/2024-03-11/
LOCATION:Fellowship Hall\, 9046 FM729\, Avinger\, TX\, 75630
CATEGORIES:Women's Ministry
ATTACH;FMTTYPE=image/png:https://lopbc.org/wp-content/uploads/2025/08/wow-2025-1200x800-1.png
END:VEVENT
BEGIN:VEVENT
DTSTART;TZID=America/Chicago:20240304T180000
DTEND;TZID=America/Chicago:20240304T200000
DTSTAMP:20260423T063252
CREATED:20240225T230749Z
LAST-MODIFIED:20240226T235911Z
UID:10000431-1709575200-1709582400@lopbc.org
SUMMARY:WoW Bible Study - Spring 2024
DESCRIPTION:
URL:https://lopbc.org/church_event/wow-bible-study-spring-2024-2/2024-03-04/
LOCATION:Sanctuary\, 9046 FM729\, Avinger\, TX\, 75630\, United States
CATEGORIES:Women's Ministry
END:VEVENT
END:VCALENDAR