BEGIN:VCALENDAR
VERSION:2.0
PRODID:-//Lake O&#039; The Pines Baptist Church - ECPv6.15.20//NONSGML v1.0//EN
CALSCALE:GREGORIAN
METHOD:PUBLISH
X-ORIGINAL-URL:https://lopbc.org
X-WR-CALDESC:Events for Lake O&#039; The Pines Baptist Church
REFRESH-INTERVAL;VALUE=DURATION:PT1H
X-Robots-Tag:noindex
X-PUBLISHED-TTL:PT1H
BEGIN:VTIMEZONE
TZID:America/Chicago
BEGIN:DAYLIGHT
TZOFFSETFROM:-0600
TZOFFSETTO:-0500
TZNAME:CDT
DTSTART:20230312T080000
END:DAYLIGHT
BEGIN:STANDARD
TZOFFSETFROM:-0500
TZOFFSETTO:-0600
TZNAME:CST
DTSTART:20231105T070000
END:STANDARD
BEGIN:DAYLIGHT
TZOFFSETFROM:-0600
TZOFFSETTO:-0500
TZNAME:CDT
DTSTART:20240310T080000
END:DAYLIGHT
BEGIN:STANDARD
TZOFFSETFROM:-0500
TZOFFSETTO:-0600
TZNAME:CST
DTSTART:20241103T070000
END:STANDARD
BEGIN:DAYLIGHT
TZOFFSETFROM:-0600
TZOFFSETTO:-0500
TZNAME:CDT
DTSTART:20250309T080000
END:DAYLIGHT
BEGIN:STANDARD
TZOFFSETFROM:-0500
TZOFFSETTO:-0600
TZNAME:CST
DTSTART:20251102T070000
END:STANDARD
END:VTIMEZONE
BEGIN:VEVENT
DTSTART;TZID=America/Chicago:20240714T120000
DTEND;TZID=America/Chicago:20240714T130000
DTSTAMP:20260423T042024
CREATED:20240226T162252Z
LAST-MODIFIED:20240226T234342Z
UID:10000631-1720958400-1720962000@lopbc.org
SUMMARY:Youth Fundraiser Luncheon
DESCRIPTION:
URL:https://lopbc.org/church_event/youth-fundraiser-luncheon/
LOCATION:Fellowship Hall\, 9046 FM729\, Avinger\, TX\, 75630
CATEGORIES:Community,Youth Ministry
END:VEVENT
BEGIN:VEVENT
DTSTART;VALUE=DATE:20240607
DTEND;VALUE=DATE:20240612
DTSTAMP:20260423T042024
CREATED:20240226T162002Z
LAST-MODIFIED:20240226T162529Z
UID:10000629-1717718400-1718150399@lopbc.org
SUMMARY:Youth Camp
DESCRIPTION:
URL:https://lopbc.org/church_event/youth-camp/
CATEGORIES:Youth Ministry
END:VEVENT
BEGIN:VEVENT
DTSTART;TZID=America/Chicago:20240518T150000
DTEND;TZID=America/Chicago:20240518T200000
DTSTAMP:20260423T042024
CREATED:20240226T170025Z
LAST-MODIFIED:20240226T170025Z
UID:10000661-1716044400-1716062400@lopbc.org
SUMMARY:Youth Skate Trip
DESCRIPTION:
URL:https://lopbc.org/church_event/youth-skate-trip/
CATEGORIES:Youth Ministry
END:VEVENT
END:VCALENDAR