BEGIN:VCALENDAR
VERSION:2.0
PRODID:-//Lake O&#039; The Pines Baptist Church - ECPv6.15.20//NONSGML v1.0//EN
CALSCALE:GREGORIAN
METHOD:PUBLISH
X-WR-CALNAME:Lake O&#039; The Pines Baptist Church
X-ORIGINAL-URL:https://lopbc.org
X-WR-CALDESC:Events for Lake O&#039; The Pines Baptist Church
REFRESH-INTERVAL;VALUE=DURATION:PT1H
X-Robots-Tag:noindex
X-PUBLISHED-TTL:PT1H
BEGIN:VTIMEZONE
TZID:America/Chicago
BEGIN:DAYLIGHT
TZOFFSETFROM:-0600
TZOFFSETTO:-0500
TZNAME:CDT
DTSTART:20270314T080000
END:DAYLIGHT
BEGIN:STANDARD
TZOFFSETFROM:-0500
TZOFFSETTO:-0600
TZNAME:CST
DTSTART:20271107T070000
END:STANDARD
BEGIN:DAYLIGHT
TZOFFSETFROM:-0600
TZOFFSETTO:-0500
TZNAME:CDT
DTSTART:20280312T080000
END:DAYLIGHT
BEGIN:STANDARD
TZOFFSETFROM:-0500
TZOFFSETTO:-0600
TZNAME:CST
DTSTART:20281105T070000
END:STANDARD
BEGIN:DAYLIGHT
TZOFFSETFROM:-0600
TZOFFSETTO:-0500
TZNAME:CDT
DTSTART:20290311T080000
END:DAYLIGHT
BEGIN:STANDARD
TZOFFSETFROM:-0500
TZOFFSETTO:-0600
TZNAME:CST
DTSTART:20291104T070000
END:STANDARD
BEGIN:DAYLIGHT
TZOFFSETFROM:-0600
TZOFFSETTO:-0500
TZNAME:CDT
DTSTART:20300310T080000
END:DAYLIGHT
BEGIN:STANDARD
TZOFFSETFROM:-0500
TZOFFSETTO:-0600
TZNAME:CST
DTSTART:20301103T070000
END:STANDARD
END:VTIMEZONE
BEGIN:VEVENT
DTSTART;TZID=America/Chicago:20281217T110000
DTEND;TZID=America/Chicago:20281217T123000
DTSTAMP:20260423T135916
CREATED:20250130T213205Z
LAST-MODIFIED:20250131T161102Z
UID:10001880-1860663600-1860669000@lopbc.org
SUMMARY:Sunday AM Worship
DESCRIPTION:
URL:https://lopbc.org/church_event/sunday-am-worship/2028-12-17/
LOCATION:Sanctuary\, 9046 FM729\, Avinger\, TX\, 75630\, United States
CATEGORIES:Church-wide,Community,Worship
END:VEVENT
BEGIN:VEVENT
DTSTART;TZID=America/Chicago:20281224T110000
DTEND;TZID=America/Chicago:20281224T123000
DTSTAMP:20260423T135916
CREATED:20250130T213205Z
LAST-MODIFIED:20250131T161102Z
UID:10001881-1861268400-1861273800@lopbc.org
SUMMARY:Sunday AM Worship
DESCRIPTION:
URL:https://lopbc.org/church_event/sunday-am-worship/2028-12-24/
LOCATION:Sanctuary\, 9046 FM729\, Avinger\, TX\, 75630\, United States
CATEGORIES:Church-wide,Community,Worship
END:VEVENT
BEGIN:VEVENT
DTSTART;TZID=America/Chicago:20281231T110000
DTEND;TZID=America/Chicago:20281231T123000
DTSTAMP:20260423T135916
CREATED:20250130T213205Z
LAST-MODIFIED:20250131T161102Z
UID:10001882-1861873200-1861878600@lopbc.org
SUMMARY:Sunday AM Worship
DESCRIPTION:
URL:https://lopbc.org/church_event/sunday-am-worship/2028-12-31/
LOCATION:Sanctuary\, 9046 FM729\, Avinger\, TX\, 75630\, United States
CATEGORIES:Church-wide,Community,Worship
END:VEVENT
BEGIN:VEVENT
DTSTART;TZID=America/Chicago:20290107T110000
DTEND;TZID=America/Chicago:20290107T123000
DTSTAMP:20260423T135916
CREATED:20250130T213205Z
LAST-MODIFIED:20250131T161102Z
UID:10001883-1862478000-1862483400@lopbc.org
SUMMARY:Sunday AM Worship
DESCRIPTION:
URL:https://lopbc.org/church_event/sunday-am-worship/2029-01-07/
LOCATION:Sanctuary\, 9046 FM729\, Avinger\, TX\, 75630\, United States
CATEGORIES:Church-wide,Community,Worship
END:VEVENT
BEGIN:VEVENT
DTSTART;TZID=America/Chicago:20290114T110000
DTEND;TZID=America/Chicago:20290114T123000
DTSTAMP:20260423T135916
CREATED:20250130T213205Z
LAST-MODIFIED:20250131T161102Z
UID:10001884-1863082800-1863088200@lopbc.org
SUMMARY:Sunday AM Worship
DESCRIPTION:
URL:https://lopbc.org/church_event/sunday-am-worship/2029-01-14/
LOCATION:Sanctuary\, 9046 FM729\, Avinger\, TX\, 75630\, United States
CATEGORIES:Church-wide,Community,Worship
END:VEVENT
BEGIN:VEVENT
DTSTART;TZID=America/Chicago:20290121T110000
DTEND;TZID=America/Chicago:20290121T123000
DTSTAMP:20260423T135916
CREATED:20250130T213205Z
LAST-MODIFIED:20250131T161102Z
UID:10001885-1863687600-1863693000@lopbc.org
SUMMARY:Sunday AM Worship
DESCRIPTION:
URL:https://lopbc.org/church_event/sunday-am-worship/2029-01-21/
LOCATION:Sanctuary\, 9046 FM729\, Avinger\, TX\, 75630\, United States
CATEGORIES:Church-wide,Community,Worship
END:VEVENT
BEGIN:VEVENT
DTSTART;TZID=America/Chicago:20290128T110000
DTEND;TZID=America/Chicago:20290128T123000
DTSTAMP:20260423T135916
CREATED:20250130T213205Z
LAST-MODIFIED:20250131T161102Z
UID:10001886-1864292400-1864297800@lopbc.org
SUMMARY:Sunday AM Worship
DESCRIPTION:
URL:https://lopbc.org/church_event/sunday-am-worship/2029-01-28/
LOCATION:Sanctuary\, 9046 FM729\, Avinger\, TX\, 75630\, United States
CATEGORIES:Church-wide,Community,Worship
END:VEVENT
BEGIN:VEVENT
DTSTART;TZID=America/Chicago:20290204T110000
DTEND;TZID=America/Chicago:20290204T123000
DTSTAMP:20260423T135916
CREATED:20250130T213205Z
LAST-MODIFIED:20250131T161102Z
UID:10001887-1864897200-1864902600@lopbc.org
SUMMARY:Sunday AM Worship
DESCRIPTION:
URL:https://lopbc.org/church_event/sunday-am-worship/2029-02-04/
LOCATION:Sanctuary\, 9046 FM729\, Avinger\, TX\, 75630\, United States
CATEGORIES:Church-wide,Community,Worship
END:VEVENT
BEGIN:VEVENT
DTSTART;TZID=America/Chicago:20290211T110000
DTEND;TZID=America/Chicago:20290211T123000
DTSTAMP:20260423T135916
CREATED:20250130T213205Z
LAST-MODIFIED:20250131T161102Z
UID:10001888-1865502000-1865507400@lopbc.org
SUMMARY:Sunday AM Worship
DESCRIPTION:
URL:https://lopbc.org/church_event/sunday-am-worship/2029-02-11/
LOCATION:Sanctuary\, 9046 FM729\, Avinger\, TX\, 75630\, United States
CATEGORIES:Church-wide,Community,Worship
END:VEVENT
BEGIN:VEVENT
DTSTART;TZID=America/Chicago:20290218T110000
DTEND;TZID=America/Chicago:20290218T123000
DTSTAMP:20260423T135916
CREATED:20250130T213205Z
LAST-MODIFIED:20250131T161102Z
UID:10001889-1866106800-1866112200@lopbc.org
SUMMARY:Sunday AM Worship
DESCRIPTION:
URL:https://lopbc.org/church_event/sunday-am-worship/2029-02-18/
LOCATION:Sanctuary\, 9046 FM729\, Avinger\, TX\, 75630\, United States
CATEGORIES:Church-wide,Community,Worship
END:VEVENT
BEGIN:VEVENT
DTSTART;TZID=America/Chicago:20290225T110000
DTEND;TZID=America/Chicago:20290225T123000
DTSTAMP:20260423T135916
CREATED:20250130T213205Z
LAST-MODIFIED:20250131T161102Z
UID:10001890-1866711600-1866717000@lopbc.org
SUMMARY:Sunday AM Worship
DESCRIPTION:
URL:https://lopbc.org/church_event/sunday-am-worship/2029-02-25/
LOCATION:Sanctuary\, 9046 FM729\, Avinger\, TX\, 75630\, United States
CATEGORIES:Church-wide,Community,Worship
END:VEVENT
BEGIN:VEVENT
DTSTART;TZID=America/Chicago:20290304T110000
DTEND;TZID=America/Chicago:20290304T123000
DTSTAMP:20260423T135916
CREATED:20250130T213205Z
LAST-MODIFIED:20250131T161102Z
UID:10001891-1867316400-1867321800@lopbc.org
SUMMARY:Sunday AM Worship
DESCRIPTION:
URL:https://lopbc.org/church_event/sunday-am-worship/2029-03-04/
LOCATION:Sanctuary\, 9046 FM729\, Avinger\, TX\, 75630\, United States
CATEGORIES:Church-wide,Community,Worship
END:VEVENT
BEGIN:VEVENT
DTSTART;TZID=America/Chicago:20290311T110000
DTEND;TZID=America/Chicago:20290311T123000
DTSTAMP:20260423T135916
CREATED:20250130T213205Z
LAST-MODIFIED:20250131T161102Z
UID:10001892-1867921200-1867926600@lopbc.org
SUMMARY:Sunday AM Worship
DESCRIPTION:
URL:https://lopbc.org/church_event/sunday-am-worship/2029-03-11/
LOCATION:Sanctuary\, 9046 FM729\, Avinger\, TX\, 75630\, United States
CATEGORIES:Church-wide,Community,Worship
END:VEVENT
BEGIN:VEVENT
DTSTART;TZID=America/Chicago:20290318T110000
DTEND;TZID=America/Chicago:20290318T123000
DTSTAMP:20260423T135916
CREATED:20250130T213205Z
LAST-MODIFIED:20250131T161102Z
UID:10001893-1868526000-1868531400@lopbc.org
SUMMARY:Sunday AM Worship
DESCRIPTION:
URL:https://lopbc.org/church_event/sunday-am-worship/2029-03-18/
LOCATION:Sanctuary\, 9046 FM729\, Avinger\, TX\, 75630\, United States
CATEGORIES:Church-wide,Community,Worship
END:VEVENT
BEGIN:VEVENT
DTSTART;TZID=America/Chicago:20290325T110000
DTEND;TZID=America/Chicago:20290325T123000
DTSTAMP:20260423T135916
CREATED:20250130T213205Z
LAST-MODIFIED:20250131T161102Z
UID:10001894-1869130800-1869136200@lopbc.org
SUMMARY:Sunday AM Worship
DESCRIPTION:
URL:https://lopbc.org/church_event/sunday-am-worship/2029-03-25/
LOCATION:Sanctuary\, 9046 FM729\, Avinger\, TX\, 75630\, United States
CATEGORIES:Church-wide,Community,Worship
END:VEVENT
BEGIN:VEVENT
DTSTART;TZID=America/Chicago:20290401T110000
DTEND;TZID=America/Chicago:20290401T123000
DTSTAMP:20260423T135916
CREATED:20250130T213205Z
LAST-MODIFIED:20250131T161102Z
UID:10001895-1869735600-1869741000@lopbc.org
SUMMARY:Sunday AM Worship
DESCRIPTION:
URL:https://lopbc.org/church_event/sunday-am-worship/2029-04-01/
LOCATION:Sanctuary\, 9046 FM729\, Avinger\, TX\, 75630\, United States
CATEGORIES:Church-wide,Community,Worship
END:VEVENT
BEGIN:VEVENT
DTSTART;TZID=America/Chicago:20290408T110000
DTEND;TZID=America/Chicago:20290408T123000
DTSTAMP:20260423T135916
CREATED:20250130T213205Z
LAST-MODIFIED:20250131T161102Z
UID:10001896-1870340400-1870345800@lopbc.org
SUMMARY:Sunday AM Worship
DESCRIPTION:
URL:https://lopbc.org/church_event/sunday-am-worship/2029-04-08/
LOCATION:Sanctuary\, 9046 FM729\, Avinger\, TX\, 75630\, United States
CATEGORIES:Church-wide,Community,Worship
END:VEVENT
BEGIN:VEVENT
DTSTART;TZID=America/Chicago:20290415T110000
DTEND;TZID=America/Chicago:20290415T123000
DTSTAMP:20260423T135916
CREATED:20250130T213205Z
LAST-MODIFIED:20250131T161102Z
UID:10001897-1870945200-1870950600@lopbc.org
SUMMARY:Sunday AM Worship
DESCRIPTION:
URL:https://lopbc.org/church_event/sunday-am-worship/2029-04-15/
LOCATION:Sanctuary\, 9046 FM729\, Avinger\, TX\, 75630\, United States
CATEGORIES:Church-wide,Community,Worship
END:VEVENT
BEGIN:VEVENT
DTSTART;TZID=America/Chicago:20290422T110000
DTEND;TZID=America/Chicago:20290422T123000
DTSTAMP:20260423T135916
CREATED:20250130T213205Z
LAST-MODIFIED:20250131T161102Z
UID:10001898-1871550000-1871555400@lopbc.org
SUMMARY:Sunday AM Worship
DESCRIPTION:
URL:https://lopbc.org/church_event/sunday-am-worship/2029-04-22/
LOCATION:Sanctuary\, 9046 FM729\, Avinger\, TX\, 75630\, United States
CATEGORIES:Church-wide,Community,Worship
END:VEVENT
BEGIN:VEVENT
DTSTART;TZID=America/Chicago:20290429T110000
DTEND;TZID=America/Chicago:20290429T123000
DTSTAMP:20260423T135916
CREATED:20250130T213205Z
LAST-MODIFIED:20250131T161102Z
UID:10001899-1872154800-1872160200@lopbc.org
SUMMARY:Sunday AM Worship
DESCRIPTION:
URL:https://lopbc.org/church_event/sunday-am-worship/2029-04-29/
LOCATION:Sanctuary\, 9046 FM729\, Avinger\, TX\, 75630\, United States
CATEGORIES:Church-wide,Community,Worship
END:VEVENT
BEGIN:VEVENT
DTSTART;TZID=America/Chicago:20290506T110000
DTEND;TZID=America/Chicago:20290506T123000
DTSTAMP:20260423T135916
CREATED:20250130T213205Z
LAST-MODIFIED:20250131T161102Z
UID:10001900-1872759600-1872765000@lopbc.org
SUMMARY:Sunday AM Worship
DESCRIPTION:
URL:https://lopbc.org/church_event/sunday-am-worship/2029-05-06/
LOCATION:Sanctuary\, 9046 FM729\, Avinger\, TX\, 75630\, United States
CATEGORIES:Church-wide,Community,Worship
END:VEVENT
BEGIN:VEVENT
DTSTART;TZID=America/Chicago:20290513T110000
DTEND;TZID=America/Chicago:20290513T123000
DTSTAMP:20260423T135916
CREATED:20250130T213205Z
LAST-MODIFIED:20250131T161102Z
UID:10001901-1873364400-1873369800@lopbc.org
SUMMARY:Sunday AM Worship
DESCRIPTION:
URL:https://lopbc.org/church_event/sunday-am-worship/2029-05-13/
LOCATION:Sanctuary\, 9046 FM729\, Avinger\, TX\, 75630\, United States
CATEGORIES:Church-wide,Community,Worship
END:VEVENT
BEGIN:VEVENT
DTSTART;TZID=America/Chicago:20290520T110000
DTEND;TZID=America/Chicago:20290520T123000
DTSTAMP:20260423T135916
CREATED:20250130T213205Z
LAST-MODIFIED:20250131T161102Z
UID:10001902-1873969200-1873974600@lopbc.org
SUMMARY:Sunday AM Worship
DESCRIPTION:
URL:https://lopbc.org/church_event/sunday-am-worship/2029-05-20/
LOCATION:Sanctuary\, 9046 FM729\, Avinger\, TX\, 75630\, United States
CATEGORIES:Church-wide,Community,Worship
END:VEVENT
BEGIN:VEVENT
DTSTART;TZID=America/Chicago:20290527T110000
DTEND;TZID=America/Chicago:20290527T123000
DTSTAMP:20260423T135916
CREATED:20250130T213205Z
LAST-MODIFIED:20250131T161102Z
UID:10001903-1874574000-1874579400@lopbc.org
SUMMARY:Sunday AM Worship
DESCRIPTION:
URL:https://lopbc.org/church_event/sunday-am-worship/2029-05-27/
LOCATION:Sanctuary\, 9046 FM729\, Avinger\, TX\, 75630\, United States
CATEGORIES:Church-wide,Community,Worship
END:VEVENT
BEGIN:VEVENT
DTSTART;TZID=America/Chicago:20290603T110000
DTEND;TZID=America/Chicago:20290603T123000
DTSTAMP:20260423T135916
CREATED:20250130T213205Z
LAST-MODIFIED:20250131T161102Z
UID:10001904-1875178800-1875184200@lopbc.org
SUMMARY:Sunday AM Worship
DESCRIPTION:
URL:https://lopbc.org/church_event/sunday-am-worship/2029-06-03/
LOCATION:Sanctuary\, 9046 FM729\, Avinger\, TX\, 75630\, United States
CATEGORIES:Church-wide,Community,Worship
END:VEVENT
BEGIN:VEVENT
DTSTART;TZID=America/Chicago:20290610T110000
DTEND;TZID=America/Chicago:20290610T123000
DTSTAMP:20260423T135916
CREATED:20250130T213205Z
LAST-MODIFIED:20250131T161102Z
UID:10001905-1875783600-1875789000@lopbc.org
SUMMARY:Sunday AM Worship
DESCRIPTION:
URL:https://lopbc.org/church_event/sunday-am-worship/2029-06-10/
LOCATION:Sanctuary\, 9046 FM729\, Avinger\, TX\, 75630\, United States
CATEGORIES:Church-wide,Community,Worship
END:VEVENT
BEGIN:VEVENT
DTSTART;TZID=America/Chicago:20290617T110000
DTEND;TZID=America/Chicago:20290617T123000
DTSTAMP:20260423T135916
CREATED:20250130T213205Z
LAST-MODIFIED:20250131T161102Z
UID:10001906-1876388400-1876393800@lopbc.org
SUMMARY:Sunday AM Worship
DESCRIPTION:
URL:https://lopbc.org/church_event/sunday-am-worship/2029-06-17/
LOCATION:Sanctuary\, 9046 FM729\, Avinger\, TX\, 75630\, United States
CATEGORIES:Church-wide,Community,Worship
END:VEVENT
BEGIN:VEVENT
DTSTART;TZID=America/Chicago:20290624T110000
DTEND;TZID=America/Chicago:20290624T123000
DTSTAMP:20260423T135916
CREATED:20250130T213205Z
LAST-MODIFIED:20250131T161102Z
UID:10001907-1876993200-1876998600@lopbc.org
SUMMARY:Sunday AM Worship
DESCRIPTION:
URL:https://lopbc.org/church_event/sunday-am-worship/2029-06-24/
LOCATION:Sanctuary\, 9046 FM729\, Avinger\, TX\, 75630\, United States
CATEGORIES:Church-wide,Community,Worship
END:VEVENT
BEGIN:VEVENT
DTSTART;TZID=America/Chicago:20290701T110000
DTEND;TZID=America/Chicago:20290701T123000
DTSTAMP:20260423T135916
CREATED:20250130T213205Z
LAST-MODIFIED:20250131T161102Z
UID:10001908-1877598000-1877603400@lopbc.org
SUMMARY:Sunday AM Worship
DESCRIPTION:
URL:https://lopbc.org/church_event/sunday-am-worship/2029-07-01/
LOCATION:Sanctuary\, 9046 FM729\, Avinger\, TX\, 75630\, United States
CATEGORIES:Church-wide,Community,Worship
END:VEVENT
BEGIN:VEVENT
DTSTART;TZID=America/Chicago:20290708T110000
DTEND;TZID=America/Chicago:20290708T123000
DTSTAMP:20260423T135916
CREATED:20250130T213205Z
LAST-MODIFIED:20250131T161102Z
UID:10001909-1878202800-1878208200@lopbc.org
SUMMARY:Sunday AM Worship
DESCRIPTION:
URL:https://lopbc.org/church_event/sunday-am-worship/2029-07-08/
LOCATION:Sanctuary\, 9046 FM729\, Avinger\, TX\, 75630\, United States
CATEGORIES:Church-wide,Community,Worship
END:VEVENT
END:VCALENDAR