BEGIN:VCALENDAR
VERSION:2.0
PRODID:-//Lake O&#039; The Pines Baptist Church - ECPv6.15.20//NONSGML v1.0//EN
CALSCALE:GREGORIAN
METHOD:PUBLISH
X-WR-CALNAME:Lake O&#039; The Pines Baptist Church
X-ORIGINAL-URL:https://lopbc.org
X-WR-CALDESC:Events for Lake O&#039; The Pines Baptist Church
REFRESH-INTERVAL;VALUE=DURATION:PT1H
X-Robots-Tag:noindex
X-PUBLISHED-TTL:PT1H
BEGIN:VTIMEZONE
TZID:America/Chicago
BEGIN:DAYLIGHT
TZOFFSETFROM:-0600
TZOFFSETTO:-0500
TZNAME:CDT
DTSTART:20280312T080000
END:DAYLIGHT
BEGIN:STANDARD
TZOFFSETFROM:-0500
TZOFFSETTO:-0600
TZNAME:CST
DTSTART:20281105T070000
END:STANDARD
BEGIN:DAYLIGHT
TZOFFSETFROM:-0600
TZOFFSETTO:-0500
TZNAME:CDT
DTSTART:20290311T080000
END:DAYLIGHT
BEGIN:STANDARD
TZOFFSETFROM:-0500
TZOFFSETTO:-0600
TZNAME:CST
DTSTART:20291104T070000
END:STANDARD
BEGIN:DAYLIGHT
TZOFFSETFROM:-0600
TZOFFSETTO:-0500
TZNAME:CDT
DTSTART:20300310T080000
END:DAYLIGHT
BEGIN:STANDARD
TZOFFSETFROM:-0500
TZOFFSETTO:-0600
TZNAME:CST
DTSTART:20301103T070000
END:STANDARD
END:VTIMEZONE
BEGIN:VEVENT
DTSTART;TZID=America/Chicago:20290603T110000
DTEND;TZID=America/Chicago:20290603T123000
DTSTAMP:20260423T161724
CREATED:20250130T213205Z
LAST-MODIFIED:20250131T161102Z
UID:10001904-1875178800-1875184200@lopbc.org
SUMMARY:Sunday AM Worship
DESCRIPTION:
URL:https://lopbc.org/church_event/sunday-am-worship/2029-06-03/
LOCATION:Sanctuary\, 9046 FM729\, Avinger\, TX\, 75630\, United States
CATEGORIES:Church-wide,Community,Worship
END:VEVENT
BEGIN:VEVENT
DTSTART;TZID=America/Chicago:20290610T110000
DTEND;TZID=America/Chicago:20290610T123000
DTSTAMP:20260423T161724
CREATED:20250130T213205Z
LAST-MODIFIED:20250131T161102Z
UID:10001905-1875783600-1875789000@lopbc.org
SUMMARY:Sunday AM Worship
DESCRIPTION:
URL:https://lopbc.org/church_event/sunday-am-worship/2029-06-10/
LOCATION:Sanctuary\, 9046 FM729\, Avinger\, TX\, 75630\, United States
CATEGORIES:Church-wide,Community,Worship
END:VEVENT
BEGIN:VEVENT
DTSTART;TZID=America/Chicago:20290617T110000
DTEND;TZID=America/Chicago:20290617T123000
DTSTAMP:20260423T161724
CREATED:20250130T213205Z
LAST-MODIFIED:20250131T161102Z
UID:10001906-1876388400-1876393800@lopbc.org
SUMMARY:Sunday AM Worship
DESCRIPTION:
URL:https://lopbc.org/church_event/sunday-am-worship/2029-06-17/
LOCATION:Sanctuary\, 9046 FM729\, Avinger\, TX\, 75630\, United States
CATEGORIES:Church-wide,Community,Worship
END:VEVENT
BEGIN:VEVENT
DTSTART;TZID=America/Chicago:20290624T110000
DTEND;TZID=America/Chicago:20290624T123000
DTSTAMP:20260423T161724
CREATED:20250130T213205Z
LAST-MODIFIED:20250131T161102Z
UID:10001907-1876993200-1876998600@lopbc.org
SUMMARY:Sunday AM Worship
DESCRIPTION:
URL:https://lopbc.org/church_event/sunday-am-worship/2029-06-24/
LOCATION:Sanctuary\, 9046 FM729\, Avinger\, TX\, 75630\, United States
CATEGORIES:Church-wide,Community,Worship
END:VEVENT
BEGIN:VEVENT
DTSTART;TZID=America/Chicago:20290701T110000
DTEND;TZID=America/Chicago:20290701T123000
DTSTAMP:20260423T161724
CREATED:20250130T213205Z
LAST-MODIFIED:20250131T161102Z
UID:10001908-1877598000-1877603400@lopbc.org
SUMMARY:Sunday AM Worship
DESCRIPTION:
URL:https://lopbc.org/church_event/sunday-am-worship/2029-07-01/
LOCATION:Sanctuary\, 9046 FM729\, Avinger\, TX\, 75630\, United States
CATEGORIES:Church-wide,Community,Worship
END:VEVENT
BEGIN:VEVENT
DTSTART;TZID=America/Chicago:20290708T110000
DTEND;TZID=America/Chicago:20290708T123000
DTSTAMP:20260423T161724
CREATED:20250130T213205Z
LAST-MODIFIED:20250131T161102Z
UID:10001909-1878202800-1878208200@lopbc.org
SUMMARY:Sunday AM Worship
DESCRIPTION:
URL:https://lopbc.org/church_event/sunday-am-worship/2029-07-08/
LOCATION:Sanctuary\, 9046 FM729\, Avinger\, TX\, 75630\, United States
CATEGORIES:Church-wide,Community,Worship
END:VEVENT
BEGIN:VEVENT
DTSTART;TZID=America/Chicago:20290715T110000
DTEND;TZID=America/Chicago:20290715T123000
DTSTAMP:20260423T161724
CREATED:20250130T213205Z
LAST-MODIFIED:20250131T161102Z
UID:10001910-1878807600-1878813000@lopbc.org
SUMMARY:Sunday AM Worship
DESCRIPTION:
URL:https://lopbc.org/church_event/sunday-am-worship/2029-07-15/
LOCATION:Sanctuary\, 9046 FM729\, Avinger\, TX\, 75630\, United States
CATEGORIES:Church-wide,Community,Worship
END:VEVENT
BEGIN:VEVENT
DTSTART;TZID=America/Chicago:20290722T110000
DTEND;TZID=America/Chicago:20290722T123000
DTSTAMP:20260423T161724
CREATED:20250130T213205Z
LAST-MODIFIED:20250131T161102Z
UID:10001911-1879412400-1879417800@lopbc.org
SUMMARY:Sunday AM Worship
DESCRIPTION:
URL:https://lopbc.org/church_event/sunday-am-worship/2029-07-22/
LOCATION:Sanctuary\, 9046 FM729\, Avinger\, TX\, 75630\, United States
CATEGORIES:Church-wide,Community,Worship
END:VEVENT
BEGIN:VEVENT
DTSTART;TZID=America/Chicago:20290729T110000
DTEND;TZID=America/Chicago:20290729T123000
DTSTAMP:20260423T161724
CREATED:20250130T213205Z
LAST-MODIFIED:20250131T161102Z
UID:10001912-1880017200-1880022600@lopbc.org
SUMMARY:Sunday AM Worship
DESCRIPTION:
URL:https://lopbc.org/church_event/sunday-am-worship/2029-07-29/
LOCATION:Sanctuary\, 9046 FM729\, Avinger\, TX\, 75630\, United States
CATEGORIES:Church-wide,Community,Worship
END:VEVENT
BEGIN:VEVENT
DTSTART;TZID=America/Chicago:20290805T110000
DTEND;TZID=America/Chicago:20290805T123000
DTSTAMP:20260423T161724
CREATED:20250130T213205Z
LAST-MODIFIED:20250131T161102Z
UID:10001913-1880622000-1880627400@lopbc.org
SUMMARY:Sunday AM Worship
DESCRIPTION:
URL:https://lopbc.org/church_event/sunday-am-worship/2029-08-05/
LOCATION:Sanctuary\, 9046 FM729\, Avinger\, TX\, 75630\, United States
CATEGORIES:Church-wide,Community,Worship
END:VEVENT
BEGIN:VEVENT
DTSTART;TZID=America/Chicago:20290812T110000
DTEND;TZID=America/Chicago:20290812T123000
DTSTAMP:20260423T161724
CREATED:20250130T213205Z
LAST-MODIFIED:20250131T161102Z
UID:10001914-1881226800-1881232200@lopbc.org
SUMMARY:Sunday AM Worship
DESCRIPTION:
URL:https://lopbc.org/church_event/sunday-am-worship/2029-08-12/
LOCATION:Sanctuary\, 9046 FM729\, Avinger\, TX\, 75630\, United States
CATEGORIES:Church-wide,Community,Worship
END:VEVENT
BEGIN:VEVENT
DTSTART;TZID=America/Chicago:20290819T110000
DTEND;TZID=America/Chicago:20290819T123000
DTSTAMP:20260423T161724
CREATED:20250130T213205Z
LAST-MODIFIED:20250131T161102Z
UID:10001915-1881831600-1881837000@lopbc.org
SUMMARY:Sunday AM Worship
DESCRIPTION:
URL:https://lopbc.org/church_event/sunday-am-worship/2029-08-19/
LOCATION:Sanctuary\, 9046 FM729\, Avinger\, TX\, 75630\, United States
CATEGORIES:Church-wide,Community,Worship
END:VEVENT
BEGIN:VEVENT
DTSTART;TZID=America/Chicago:20290826T110000
DTEND;TZID=America/Chicago:20290826T123000
DTSTAMP:20260423T161724
CREATED:20250130T213205Z
LAST-MODIFIED:20250131T161102Z
UID:10001916-1882436400-1882441800@lopbc.org
SUMMARY:Sunday AM Worship
DESCRIPTION:
URL:https://lopbc.org/church_event/sunday-am-worship/2029-08-26/
LOCATION:Sanctuary\, 9046 FM729\, Avinger\, TX\, 75630\, United States
CATEGORIES:Church-wide,Community,Worship
END:VEVENT
BEGIN:VEVENT
DTSTART;TZID=America/Chicago:20290902T110000
DTEND;TZID=America/Chicago:20290902T123000
DTSTAMP:20260423T161724
CREATED:20250130T213205Z
LAST-MODIFIED:20250131T161102Z
UID:10001917-1883041200-1883046600@lopbc.org
SUMMARY:Sunday AM Worship
DESCRIPTION:
URL:https://lopbc.org/church_event/sunday-am-worship/2029-09-02/
LOCATION:Sanctuary\, 9046 FM729\, Avinger\, TX\, 75630\, United States
CATEGORIES:Church-wide,Community,Worship
END:VEVENT
BEGIN:VEVENT
DTSTART;TZID=America/Chicago:20290909T110000
DTEND;TZID=America/Chicago:20290909T123000
DTSTAMP:20260423T161724
CREATED:20250130T213205Z
LAST-MODIFIED:20250131T161102Z
UID:10001918-1883646000-1883651400@lopbc.org
SUMMARY:Sunday AM Worship
DESCRIPTION:
URL:https://lopbc.org/church_event/sunday-am-worship/2029-09-09/
LOCATION:Sanctuary\, 9046 FM729\, Avinger\, TX\, 75630\, United States
CATEGORIES:Church-wide,Community,Worship
END:VEVENT
BEGIN:VEVENT
DTSTART;TZID=America/Chicago:20290916T110000
DTEND;TZID=America/Chicago:20290916T123000
DTSTAMP:20260423T161724
CREATED:20250130T213205Z
LAST-MODIFIED:20250131T161102Z
UID:10001919-1884250800-1884256200@lopbc.org
SUMMARY:Sunday AM Worship
DESCRIPTION:
URL:https://lopbc.org/church_event/sunday-am-worship/2029-09-16/
LOCATION:Sanctuary\, 9046 FM729\, Avinger\, TX\, 75630\, United States
CATEGORIES:Church-wide,Community,Worship
END:VEVENT
BEGIN:VEVENT
DTSTART;TZID=America/Chicago:20290923T110000
DTEND;TZID=America/Chicago:20290923T123000
DTSTAMP:20260423T161724
CREATED:20250130T213205Z
LAST-MODIFIED:20250131T161102Z
UID:10001920-1884855600-1884861000@lopbc.org
SUMMARY:Sunday AM Worship
DESCRIPTION:
URL:https://lopbc.org/church_event/sunday-am-worship/2029-09-23/
LOCATION:Sanctuary\, 9046 FM729\, Avinger\, TX\, 75630\, United States
CATEGORIES:Church-wide,Community,Worship
END:VEVENT
BEGIN:VEVENT
DTSTART;TZID=America/Chicago:20290930T110000
DTEND;TZID=America/Chicago:20290930T123000
DTSTAMP:20260423T161724
CREATED:20250130T213205Z
LAST-MODIFIED:20250131T161102Z
UID:10001921-1885460400-1885465800@lopbc.org
SUMMARY:Sunday AM Worship
DESCRIPTION:
URL:https://lopbc.org/church_event/sunday-am-worship/2029-09-30/
LOCATION:Sanctuary\, 9046 FM729\, Avinger\, TX\, 75630\, United States
CATEGORIES:Church-wide,Community,Worship
END:VEVENT
BEGIN:VEVENT
DTSTART;TZID=America/Chicago:20291007T110000
DTEND;TZID=America/Chicago:20291007T123000
DTSTAMP:20260423T161724
CREATED:20250130T213205Z
LAST-MODIFIED:20250131T161102Z
UID:10001922-1886065200-1886070600@lopbc.org
SUMMARY:Sunday AM Worship
DESCRIPTION:
URL:https://lopbc.org/church_event/sunday-am-worship/2029-10-07/
LOCATION:Sanctuary\, 9046 FM729\, Avinger\, TX\, 75630\, United States
CATEGORIES:Church-wide,Community,Worship
END:VEVENT
BEGIN:VEVENT
DTSTART;TZID=America/Chicago:20291014T110000
DTEND;TZID=America/Chicago:20291014T123000
DTSTAMP:20260423T161724
CREATED:20250130T213205Z
LAST-MODIFIED:20250131T161102Z
UID:10001923-1886670000-1886675400@lopbc.org
SUMMARY:Sunday AM Worship
DESCRIPTION:
URL:https://lopbc.org/church_event/sunday-am-worship/2029-10-14/
LOCATION:Sanctuary\, 9046 FM729\, Avinger\, TX\, 75630\, United States
CATEGORIES:Church-wide,Community,Worship
END:VEVENT
BEGIN:VEVENT
DTSTART;TZID=America/Chicago:20291021T110000
DTEND;TZID=America/Chicago:20291021T123000
DTSTAMP:20260423T161724
CREATED:20250130T213205Z
LAST-MODIFIED:20250131T161102Z
UID:10001924-1887274800-1887280200@lopbc.org
SUMMARY:Sunday AM Worship
DESCRIPTION:
URL:https://lopbc.org/church_event/sunday-am-worship/2029-10-21/
LOCATION:Sanctuary\, 9046 FM729\, Avinger\, TX\, 75630\, United States
CATEGORIES:Church-wide,Community,Worship
END:VEVENT
BEGIN:VEVENT
DTSTART;TZID=America/Chicago:20291028T110000
DTEND;TZID=America/Chicago:20291028T123000
DTSTAMP:20260423T161724
CREATED:20250130T213205Z
LAST-MODIFIED:20250131T161102Z
UID:10001925-1887879600-1887885000@lopbc.org
SUMMARY:Sunday AM Worship
DESCRIPTION:
URL:https://lopbc.org/church_event/sunday-am-worship/2029-10-28/
LOCATION:Sanctuary\, 9046 FM729\, Avinger\, TX\, 75630\, United States
CATEGORIES:Church-wide,Community,Worship
END:VEVENT
BEGIN:VEVENT
DTSTART;TZID=America/Chicago:20291104T110000
DTEND;TZID=America/Chicago:20291104T123000
DTSTAMP:20260423T161724
CREATED:20250130T213205Z
LAST-MODIFIED:20250131T161102Z
UID:10001926-1888484400-1888489800@lopbc.org
SUMMARY:Sunday AM Worship
DESCRIPTION:
URL:https://lopbc.org/church_event/sunday-am-worship/2029-11-04/
LOCATION:Sanctuary\, 9046 FM729\, Avinger\, TX\, 75630\, United States
CATEGORIES:Church-wide,Community,Worship
END:VEVENT
BEGIN:VEVENT
DTSTART;TZID=America/Chicago:20291111T110000
DTEND;TZID=America/Chicago:20291111T123000
DTSTAMP:20260423T161724
CREATED:20250130T213205Z
LAST-MODIFIED:20250131T161102Z
UID:10001927-1889089200-1889094600@lopbc.org
SUMMARY:Sunday AM Worship
DESCRIPTION:
URL:https://lopbc.org/church_event/sunday-am-worship/2029-11-11/
LOCATION:Sanctuary\, 9046 FM729\, Avinger\, TX\, 75630\, United States
CATEGORIES:Church-wide,Community,Worship
END:VEVENT
BEGIN:VEVENT
DTSTART;TZID=America/Chicago:20291118T110000
DTEND;TZID=America/Chicago:20291118T123000
DTSTAMP:20260423T161724
CREATED:20250130T213205Z
LAST-MODIFIED:20250131T161102Z
UID:10001928-1889694000-1889699400@lopbc.org
SUMMARY:Sunday AM Worship
DESCRIPTION:
URL:https://lopbc.org/church_event/sunday-am-worship/2029-11-18/
LOCATION:Sanctuary\, 9046 FM729\, Avinger\, TX\, 75630\, United States
CATEGORIES:Church-wide,Community,Worship
END:VEVENT
BEGIN:VEVENT
DTSTART;TZID=America/Chicago:20291125T110000
DTEND;TZID=America/Chicago:20291125T123000
DTSTAMP:20260423T161724
CREATED:20250130T213205Z
LAST-MODIFIED:20250131T161102Z
UID:10001929-1890298800-1890304200@lopbc.org
SUMMARY:Sunday AM Worship
DESCRIPTION:
URL:https://lopbc.org/church_event/sunday-am-worship/2029-11-25/
LOCATION:Sanctuary\, 9046 FM729\, Avinger\, TX\, 75630\, United States
CATEGORIES:Church-wide,Community,Worship
END:VEVENT
BEGIN:VEVENT
DTSTART;TZID=America/Chicago:20291202T110000
DTEND;TZID=America/Chicago:20291202T123000
DTSTAMP:20260423T161724
CREATED:20250130T213205Z
LAST-MODIFIED:20250131T161102Z
UID:10001930-1890903600-1890909000@lopbc.org
SUMMARY:Sunday AM Worship
DESCRIPTION:
URL:https://lopbc.org/church_event/sunday-am-worship/2029-12-02/
LOCATION:Sanctuary\, 9046 FM729\, Avinger\, TX\, 75630\, United States
CATEGORIES:Church-wide,Community,Worship
END:VEVENT
BEGIN:VEVENT
DTSTART;TZID=America/Chicago:20291209T110000
DTEND;TZID=America/Chicago:20291209T123000
DTSTAMP:20260423T161724
CREATED:20250130T213205Z
LAST-MODIFIED:20250131T161102Z
UID:10001931-1891508400-1891513800@lopbc.org
SUMMARY:Sunday AM Worship
DESCRIPTION:
URL:https://lopbc.org/church_event/sunday-am-worship/2029-12-09/
LOCATION:Sanctuary\, 9046 FM729\, Avinger\, TX\, 75630\, United States
CATEGORIES:Church-wide,Community,Worship
END:VEVENT
BEGIN:VEVENT
DTSTART;TZID=America/Chicago:20291216T110000
DTEND;TZID=America/Chicago:20291216T123000
DTSTAMP:20260423T161724
CREATED:20250130T213205Z
LAST-MODIFIED:20250131T161102Z
UID:10001932-1892113200-1892118600@lopbc.org
SUMMARY:Sunday AM Worship
DESCRIPTION:
URL:https://lopbc.org/church_event/sunday-am-worship/2029-12-16/
LOCATION:Sanctuary\, 9046 FM729\, Avinger\, TX\, 75630\, United States
CATEGORIES:Church-wide,Community,Worship
END:VEVENT
BEGIN:VEVENT
DTSTART;TZID=America/Chicago:20291223T110000
DTEND;TZID=America/Chicago:20291223T123000
DTSTAMP:20260423T161724
CREATED:20250130T213205Z
LAST-MODIFIED:20250131T161102Z
UID:10001933-1892718000-1892723400@lopbc.org
SUMMARY:Sunday AM Worship
DESCRIPTION:
URL:https://lopbc.org/church_event/sunday-am-worship/2029-12-23/
LOCATION:Sanctuary\, 9046 FM729\, Avinger\, TX\, 75630\, United States
CATEGORIES:Church-wide,Community,Worship
END:VEVENT
END:VCALENDAR